BEGIN:VCALENDAR
VERSION:2.0
PRODID:-//Ateneo Mercantil de Valencia - ECPv6.0.4//NONSGML v1.0//EN
CALSCALE:GREGORIAN
METHOD:PUBLISH
X-ORIGINAL-URL:https://historico.ateneovalencia.es
X-WR-CALDESC:Eventos para Ateneo Mercantil de Valencia
REFRESH-INTERVAL;VALUE=DURATION:PT1H
X-Robots-Tag:noindex
X-PUBLISHED-TTL:PT1H
BEGIN:VTIMEZONE
TZID:Europe/Madrid
BEGIN:DAYLIGHT
TZOFFSETFROM:+0100
TZOFFSETTO:+0200
TZNAME:CEST
DTSTART:20230326T010000
END:DAYLIGHT
BEGIN:STANDARD
TZOFFSETFROM:+0200
TZOFFSETTO:+0100
TZNAME:CET
DTSTART:20231029T010000
END:STANDARD
END:VTIMEZONE
BEGIN:VEVENT
DTSTART;TZID=Europe/Madrid:20230508T190000
DTEND;TZID=Europe/Madrid:20230508T203000
DTSTAMP:20260421T215350
CREATED:20230428T121223Z
LAST-MODIFIED:20230508T085957Z
UID:74091-1683572400-1683577800@historico.ateneovalencia.es
SUMMARY:Tardes de LiterAteneo X: Una vida con un clarinete por José María Santandreu (Música en directo: arpa y clarinete)
DESCRIPTION:En el Salón de Actos del Ateneo Mercantil de Valencia\, tendrá lugar una nueva edición del ciclo literario Tardes de LiterAteneo\, una apuesta literaria de nuestra institución\, que cuenta con la organización del grupo poético "El Limonero de Homero" y la coordinación de Vicente Bosch y Vicente Barberá. El ciclo está dedicado a autores y grupos que cuenten con una amplia y significativa trayectoria en diversos campos de la cultura. \nEnlace para el Online: https://youtu.be/ACXs-3XLvaA\n\nEn esta décima edición se ha invitado al músico clarinetista de prestigio internacional\, José María Santandreu (clarinete solista de la Universal Symphony Orquestra)\, que nos hablará de su largo recorrido artístico y también disfrutaremos de su música en directo\, ya que junto a él podremos escuchar también al arpista\, Jaume Gimeno. Ambos forman KlarHarp\, un ensemble formado principalmente por arpa y clarinete\, y que cuenta con diversos músicos y actores de apoyo\, en función de las necesidades del repertorio. Jaume Gimeno y José María Santandreu\, arpa y clarinete\, desarrollan un repertorio desde el Barroco hasta nuestros días. \nEl intérprete valenciano nos hablará también de su trabajo desarrollando originales propuestas artísticas que ha plasmado en tres trabajos discográficos como son Clarinet for you\, Sounds of the clarinet y Colours for clarinet. La crítica mundial le augura una gran proyección internacional gracias a "su virtuosismo y su sonido"; constata su "dominio expresivo" para crear "atmósferas" que fusiona con la música electroacústica y la calidad de sus trabajos en los que exhibe "una técnica muy depurada". \n\nJosé María Santandreu:\nEstudia en Valencia y Viena. Ha publicado diversos CD que han sido presentados en RNE\, TVE\, À Punt y que han sido galardonados en diversos concursos internacionales. Colabora en grupos de cámara y orquestas\, y es clarinete principal de la Universal Symphony Orchestra. Es Artista Yamaha Clarinetes. \nJaume Gimeno:\nEstudió arpa en los conservatorios de Valencia y Zaragoza. Participa en orquestas (ADDA Sinfònica\, Illes Balears\, Universal Symphony Orchestra\, OSPA\, UCAM). Ha participado en grabaciones para Warner Classics y Sarbide Music. En 2020\, publica "Paris 1900-melodías de la Belle Époque" junto a la soprano Sandra Ferró. Desde 1998 a 2004\, realiza cursos de interpretación actoral. Actualmente\, es Director General y de Proyectos de Marítim Media. \nCartel:
URL:https://historico.ateneovalencia.es/evento/tardes-de-literateneo-x-una-vida-con-un-clarinete-por-jose-maria-santandreu-musica-en-directo-arpa-y-clarinete/
LOCATION:Teatro Ateneo
CATEGORIES:Tardes de LiterAteneo
ATTACH;FMTTYPE=image/jpeg:https://historico.ateneovalencia.es/wp-content/uploads/2023/04/20230508-LiterAteneo-10-Jose-Maria-Santandreu-1.jpg
END:VEVENT
END:VCALENDAR