BEGIN:VCALENDAR
VERSION:2.0
PRODID:-//Ateneo Mercantil de Valencia - ECPv6.0.4//NONSGML v1.0//EN
CALSCALE:GREGORIAN
METHOD:PUBLISH
X-WR-CALNAME:Ateneo Mercantil de Valencia
X-ORIGINAL-URL:https://historico.ateneovalencia.es
X-WR-CALDESC:Eventos para Ateneo Mercantil de Valencia
REFRESH-INTERVAL;VALUE=DURATION:PT1H
X-Robots-Tag:noindex
X-PUBLISHED-TTL:PT1H
BEGIN:VTIMEZONE
TZID:Europe/Madrid
BEGIN:DAYLIGHT
TZOFFSETFROM:+0100
TZOFFSETTO:+0200
TZNAME:CEST
DTSTART:20230326T010000
END:DAYLIGHT
BEGIN:STANDARD
TZOFFSETFROM:+0200
TZOFFSETTO:+0100
TZNAME:CET
DTSTART:20231029T010000
END:STANDARD
END:VTIMEZONE
BEGIN:VEVENT
DTSTART;TZID=Europe/Madrid:20230423T113000
DTEND;TZID=Europe/Madrid:20230423T130000
DTSTAMP:20260422T050833
CREATED:20230420T101734Z
LAST-MODIFIED:20230420T101832Z
UID:73846-1682249400-1682254800@historico.ateneovalencia.es
SUMMARY:Día Mundial de la Danza: Muestra coreográfica por el Conservatori Superior de Dansa de València Nacho Duato
DESCRIPTION:La Música en el Ateneo regresa este domingo 23 de abril a las 11.30 horas con un evento gratuito en el que se representará una muestra coreográfica de danza para celebrar el Día Mundial de la Danza que se celebra el próximo 29 de abril en todo el mundo. En el Ateneo Mercantil se presentarán de nuevo varias coreografías tanto de repertorio como propuestas de diferentes coreógrafos y de creación propia\, tanto del profesorado como del propio alumnado del CSDV Nacho Duato. Una actuación que es posible gracias a la Fundación del Ateneo Mercantil CV y al Conservatori Superior de Dansa de València Nacho Duato. \nRecuerden que la entrada es libre y gratuita hasta completar el aforo del Teatro Auditorio del Ateneo Mercantil. \nPrograma:\nSoleá de Arcas \n\nCoreografía: Popular \nDirección: Isabel Aznar\nPiano: Guiomar Montero de Apraiz\nIntérprete: Aitana Campos\n\nUmbra \n\nCoreografía: Margarita Galdámez y Walter Marín\nIntérpretes: Ainhoa Aparicio y Walter Marín\n\nJulián y Romea  \n\nCoreografía: Santi De La Fuente\nIntérpretes: Carlota Paz\, Claudia Fusté\, Naiara González\, Alba Galán\, Teresa Luján\, Sergi Ferrando\, Sabela Ribes\, Alba Hernández\, Laura Mesa\, Isabel Murcia\, Inés Cándido y Judith Roca\n\nL’Heure Exquise \n\nCoreografía e Intérprete: Candela Leal\n\nPanaderos de la Flamenca \n\nCoreografía: Popular \nDirección: Isabel Aznar\nIntérprete: Olivia Marcos\n\nMadness      \n\nCoreografía e Intérpretes: Alba Fernández y Marina Borrás\n\nBailata \n\nRecreación de Cantata por Noelia Diéguez\nDirección: Mamen Giménez\nIntérpretes: Noelia Diéguez\, Fran Pomares\, Celia Herrero\, Jessica Castellón\, Boris Orihuela\, Mariana Valero\, Clara Castellanos y Alejandra López\n\nCórdoba \n\nCoreografía: Mariemma\nDirección: Jesús Pérez\nIntérprete: Alejandra López\n\nJardí Tancat \n\nCoreografía: Nacho Duato\nDirección: Alicia Herrero\nIntérpretes: Ainhoa Aparicio\, Pedro García\, Carolina Isach\, Walter Marín\, Elisa Ramón y Miquel Sancho\n\nCartel:
URL:https://historico.ateneovalencia.es/evento/dia-mundial-de-la-danza-muestra-coreografica-por-el-conservatori-superior-de-dansa-de-valencia-nacho-duato/
LOCATION:Teatro Ateneo
CATEGORIES:Conciertos Domingos
ATTACH;FMTTYPE=image/jpeg:https://historico.ateneovalencia.es/wp-content/uploads/2023/04/20230423-Muestra-Coreografica-Concierto-Nacho-Duato.jpg
END:VEVENT
END:VCALENDAR