BEGIN:VCALENDAR
VERSION:2.0
PRODID:-//Ateneo Mercantil de Valencia - ECPv6.0.4//NONSGML v1.0//EN
CALSCALE:GREGORIAN
METHOD:PUBLISH
X-WR-CALNAME:Ateneo Mercantil de Valencia
X-ORIGINAL-URL:https://historico.ateneovalencia.es
X-WR-CALDESC:Eventos para Ateneo Mercantil de Valencia
REFRESH-INTERVAL;VALUE=DURATION:PT1H
X-Robots-Tag:noindex
X-PUBLISHED-TTL:PT1H
BEGIN:VTIMEZONE
TZID:Europe/Madrid
BEGIN:DAYLIGHT
TZOFFSETFROM:+0100
TZOFFSETTO:+0200
TZNAME:CEST
DTSTART:20230326T010000
END:DAYLIGHT
BEGIN:STANDARD
TZOFFSETFROM:+0200
TZOFFSETTO:+0100
TZNAME:CET
DTSTART:20231029T010000
END:STANDARD
END:VTIMEZONE
BEGIN:VEVENT
DTSTART;TZID=Europe/Madrid:20230325T190000
DTEND;TZID=Europe/Madrid:20230325T203000
DTSTAMP:20260422T012014
CREATED:20230127T112019Z
LAST-MODIFIED:20230127T112156Z
UID:72791-1679770800-1679776200@historico.ateneovalencia.es
SUMMARY:Concierto BEETHOVEN. Tríos con Piano: Fantasma y Archiduque
DESCRIPTION:El violinista Jacobo Christensen y el Dúo Apellániz presentan en el Ateneo Mercantil de Valencia\, su visión rotundamente romántica de los dos tríos más populares de Beethoven. El contundente piano de Carlos Apellániz sienta una base maravillosamente firme sobre la que el violín de Jacobo Christensen y el violonchelo de David Apellániz se funden en un único instrumento de mágicas texturas. \nEn el dramático "Trío Fantasma"\, exuberante y explosivo\, transmiten una desesperación devastadora\, filtrada a través de su atmósfera singularmente misteriosa. Igualmente brillante es su interpretación del "Trío del Archiduque"\, último de los compuestos por Beethoven y escrito en una auténtica ráfaga de inspiración para un trío de virtuosos. Música grandiosa y arrolladora para una tarde difícil de olvidar. \nPrograma del Concierto:\nTRÍO PARA PIANO EN RE MAYOR OP. 70 NO 1 FANTASMA\nI. Allegro vivace e con brio\nII. Largo assai ed espressivo\nIII. Presto \nTRÍO PARA PIANO EN SI BEMOL MAYOR OP. 97 ARCHIDUCHE\nI. Allegro moderato\nII. Scherzo & Trio\nIII. Andante cantábile\nIV. Allegro moderato \nSolistas:\nJacobo Christensen\, violín\nDavid Apellániz\, violonchelo\nCarlos Apellániz\, piano \nPrecio de las Entradas:\nPlatea y Palcos: 15€\nAnfiteatro: 12€\nDescuento del 10% para socios del Ateneo\, para los mayores de 65 y los menores de 28 años.  \nVenta de entradas en Taquillas y en Online pinchando aquí:\nBiografías:\nJacobo Christensen\, violín  \nNacido hace 23 años\, comienza a sostener un violín antes de los 3 años. Becado por las fundaciones Pachá y Albéniz es alumno de Zakhar Bron en la Escuela Reina Sofía de Madrid. Estudia en Cremona con Salvatore Accardo gracias al patrocinio de la Fundación Stauffer. Se perfecciona con Gil Shaham\, Sergei Ostrovski\, Boris Belkin\, Ivry Gitlis\, Agustín León Ara\, Vasko Vassilev\, Ingolf Turban\, Miriam Fried\, Giovanni Guzzo\, Silvia Marcovici y Christoph Poppen. En el campo de la dirección\, recibe consejos de Cristóbal Soler y Andrés Orozco-Estrada. \nPrimer Premio Concours International de Jeunnes Musicienes Crescendo de Ginebra (Suiza)\, Concurso Internacional Pozuelo de Alarcón\, Festival AIMS de Solsona\, Concurso de Jóvenes Intérpretes de Canet. Premio de Interpretación Sociedad de Conciertos de Alicante. Ganador del II Certámen de Jóvenes Solistas de la Joven Orquesta de la Generalitat Valenciana. \nHa tocado en EEUU\, China\, Suiza\, Dinamarca\, Italia\, Austria\, Eslovaquia\, Hungría\, Portugal... recitales con piano y algunos de los más importantes conciertos para violín: Mendelssohn\, Bruch\, Tchaikovski\, Mozart\, Sibelius\, Beethoven... Dirigido por los maestros Ivan Monighetti\, Zubin Mehta\, Plácido Domingo\, Gustavo Dudamel\, Pablo Heras Casado\, Péter Eötvös\, Andrés Orozco-Estrada\, Ignazio Terrasi\, Oliver Díaz\, Xavier Gagnepain\, Juanjo Mena\, Zakhar Bron y András Schiff\, entre otros. \nEn 2021 funda su propia orquesta\, Nostrum Mare Camerata\, de la que es director y violín solista. Junto al pianista Carlos Apellániz graba el Cd titulado Violín. Jacobo Christensen y el Ep De glade 20’ere. \nDavid Apellániz\, violonchelo \nComo solista\, sus futuros y recientes compromisos incluyen apariciones con los conciertos de Schumann\, Dvorak\, Saint- Saëns 1 &2\, Haydn 1&2\, Boccherinni 3&6\, Lalo\, Beethoven triple\, Brahms doble\, Shostakovich\, Tchaikowsky “Rococo”\, junto con la Real Orquesta Sinfónica de Sevilla\, Orquesta Gulbenkian de Lisboa\, Orquesta de Extremadura\, Ensemble Nacional de Lyon\, Ensemble Praeteritum\, Orquesta de Córdoba\, Orquesta Nacional de Honduras\, Orquesta Sinfónica de Valencia\, Orquesta Sinfónica de la Región de Murcia\, Orquesta Sinfónica de Barcelona\, Orquesta Ciudad de Granada\, Orquesta de Cámara Reina Sofía\, Orquesta Sinfónica de Gijón o la Orquesta Filarmónica de Málaga\, en marcos como el Festival “Aspekte”de Salzburgo\, Festival de Lyon y Nice\, Konzerthaus (Berlín)\, Festival "a Tempo" (Caracas)\, Auditorio Nacional de Madrid\, Teatro Maestranza (Sevilla)\, Palau de la Música Catalana\, Festival Internacional de Granada\, Palacio de Festivales (Santander) y la Quincena Musical Donostiarra\, entre muchos otros. \nHa realizado más de 15 grabaciones como solista para sellos como Naxos\, Sony\, Col-legno\, Neos\, Verso y RNE\, calificadas por Scherzo\, Ritmo\, Melómano\, BBC Magazine y Fanfare como trabajos excelentes. La prestigiosa revista internacional Gramophone destaca su registro para Naxos junto con el Trío Arriaga como sobresaliente revelación. Su pasión por la música de cámara le ha llevado a tocar junto con artistas como el Cuarteto Casals\, N. Chumachenco\, G. Caussé\, Rainer Schmidt (Cuarteto Hagen)\, A. Meunier\, D. Masson o Paul McCreesh. \nDesde 2018 es catedrático de violonchelo por oposición con destino definitivo en el Conservatorio Superior de Música de Murcia. \nCarlos Apellániz\, piano \nEstudia en L ́Ecole Nationale de Musique de Bayonne- Côte Basque con la pianista Françoise Doué\, donde es galardonado con la Medalla de Oro. Se perfecciona en el Conservatorio Nacional Superior de Paris con los maestros Jacques Rouvier y Pascal Devoyon\, obteniendo los Primeros Premios de Piano y Música de Cámara. Posteriormente estudia con D. Bashkirov y G. Eguizarova en la ESMRS. Ha seguido en diferentes Masterclasses los consejos de Alicia de Larrocha\, León Fleisher\, François René Duchable\, Darío Darosa\, Emil Naoumoff y Ferenc Rados\, entre otros. \nLaureado en numerosos concursos nacionales e internacionales: Premio especial en el Concurso Internacional de Piano de Santander\, Primer Premio Concurso Internacional Flame\, Segundo Premio Concurso Internacional Claude Khan\, Segundo Premio Concurso Internacional de Saint Nom la Breteche\, Primer Premio Infanta Cristina\, Primer Premio Ciudad de Melilla\, Primer Premio Ciudad de Albacete\, Primer Premio Marisa Montiel\, Primer Premio Musica de Cámara Ufam. \nActúa como solista en la Orquesta Nationale de Bayonne\, Orquesta de Cámara Andrés Segovia\, Orquesta Pablo Sarasate de Pamplona\, Orquesta de Cámara de Marsella\, Grup Instrumental de Valencia\, Orquesta Sinfónica de Valencia\, en salas como el Palau de la Música de Valencia\, Sala Gaveau de París\, Auditorio Nacional de Madrid\, Palacio de Festivales de Santander\, Auditori de Barcelona\, Fundación Botin\, Fundación Juan March\, etc. Participa asiduamente en grabaciones para Radio France\, Radio Nacional de España\, Euskal Irratia. \nCartel:
URL:https://historico.ateneovalencia.es/evento/concierto-beethoven-trios-con-piano-fantasma-y-archiduque/
LOCATION:Teatro Ateneo
CATEGORIES:Conciertos y Recitales
ATTACH;FMTTYPE=image/jpeg:https://historico.ateneovalencia.es/wp-content/uploads/2023/01/20230325-Concierto-Beethoven-1.jpg
END:VEVENT
END:VCALENDAR