BEGIN:VCALENDAR
VERSION:2.0
PRODID:-//Ateneo Mercantil de Valencia - ECPv6.0.4//NONSGML v1.0//EN
CALSCALE:GREGORIAN
METHOD:PUBLISH
X-ORIGINAL-URL:https://historico.ateneovalencia.es
X-WR-CALDESC:Eventos para Ateneo Mercantil de Valencia
REFRESH-INTERVAL;VALUE=DURATION:PT1H
X-Robots-Tag:noindex
X-PUBLISHED-TTL:PT1H
BEGIN:VTIMEZONE
TZID:Europe/Madrid
BEGIN:DAYLIGHT
TZOFFSETFROM:+0100
TZOFFSETTO:+0200
TZNAME:CEST
DTSTART:20230326T010000
END:DAYLIGHT
BEGIN:STANDARD
TZOFFSETFROM:+0200
TZOFFSETTO:+0100
TZNAME:CET
DTSTART:20231029T010000
END:STANDARD
END:VTIMEZONE
BEGIN:VEVENT
DTSTART;TZID=Europe/Madrid:20230303T190000
DTEND;TZID=Europe/Madrid:20230303T203000
DTSTAMP:20260422T163406
CREATED:20230131T101034Z
LAST-MODIFIED:20230131T101035Z
UID:72816-1677870000-1677875400@historico.ateneovalencia.es
SUMMARY:Concierto gratuito de la 'Cuarentuna Universitaria de Valencia': Homenaje en memoria de Pepe Peris "Centimín"
DESCRIPTION:La Cuarentuna Universitaria de Valencia ha programado un concierto gratuito en memoria de Pepe Peris "Centimín" en el Salón de Actos del Ateneo Mercantil de Valencia que servirá de sentido  homenaje al mismo. Así el próximo viernes 3 de marzo de 2023 a las 19 horas se celebrará esta actuación de este grupo de antiguos tunos de la Universidad Literaria y de la Politécnica de Valencia. \nRecuerden  que la entrada es libre y gratuita hasta completar el aforo del teatro. \nLa Cuarentuna Universitaria de Valencia se formó en junio de 2006\, cuando un grupo de antiguos tunos\, movidos por la ilusión y el espíritu estudiantil que jamás perdieron\, decidieron refundar la extinta Tuna Universitaria de Valencia\, de la que algunos ya habían sido fundadores en 1967\, como "Cuarentuna Universitaria de Valencia"\, dando así cabida a todos aquellos tunos que\, en su día\, pertenecieron a las diversas Tunas de nuestro Distrito Universitario: Medicina\, Derecho\, Magisterio\, Arquitectura Técnica\, Agrónomos\, Ciencias\, Filosofía y Letras\, Peritos Industriales\, Bellas Artes\, Económicas y Arquitectura. \nTras arduos esfuerzos para localizar antiguas glorias de estas tunas\, y de otras\, como la del Politécnico\, Arquitectura Técnica\, Telecomunicaciones\, etc.\, de posterior constitución\, y un sinfín de ensayos para aunar criterios musicales\, el 28 de enero de 2007\, festividad de Santo Tomás de Aquino\, Patrón de los estudiantes universitarios\, quedó constituida oficialmente la "Cuarentuna Universitaria de Valencia"\, y aprobadas su Reales Ordenanzas\, recogiéndose tal evento en la correspondiente Acta Fundacional. \nSu objetivo primordial es el servir de punto de encuentro de antiguos tunos\, disfrutando de sus viejas canciones\, de la camaradería y de la alegría\, así como la de conservar y transmitir el espíritu y tradiciones de la Tuna a las nuevas generaciones. \n  \nCartel:
URL:https://historico.ateneovalencia.es/evento/concierto-gratuito-de-la-cuarentuna-universitaria-de-valencia-homenaje-en-memoria-de-pepe-peris-centimin/
LOCATION:Teatro Ateneo
CATEGORIES:Conciertos y Recitales
ATTACH;FMTTYPE=image/jpeg:https://historico.ateneovalencia.es/wp-content/uploads/2023/01/20230303-Cuarentuna-Universitaria-Valencia.jpg
END:VEVENT
END:VCALENDAR