BEGIN:VCALENDAR
VERSION:2.0
PRODID:-//Ateneo Mercantil de Valencia - ECPv6.0.4//NONSGML v1.0//EN
CALSCALE:GREGORIAN
METHOD:PUBLISH
X-ORIGINAL-URL:https://historico.ateneovalencia.es
X-WR-CALDESC:Eventos para Ateneo Mercantil de Valencia
REFRESH-INTERVAL;VALUE=DURATION:PT1H
X-Robots-Tag:noindex
X-PUBLISHED-TTL:PT1H
BEGIN:VTIMEZONE
TZID:Europe/Madrid
BEGIN:DAYLIGHT
TZOFFSETFROM:+0100
TZOFFSETTO:+0200
TZNAME:CEST
DTSTART:20230326T010000
END:DAYLIGHT
BEGIN:STANDARD
TZOFFSETFROM:+0200
TZOFFSETTO:+0100
TZNAME:CET
DTSTART:20231029T010000
END:STANDARD
END:VTIMEZONE
BEGIN:VEVENT
DTSTART;TZID=Europe/Madrid:20230112T193000
DTEND;TZID=Europe/Madrid:20230112T210000
DTSTAMP:20260421T215329
CREATED:20221028T112822Z
LAST-MODIFIED:20221111T110203Z
UID:71580-1673551800-1673557200@historico.ateneovalencia.es
SUMMARY:Concierto Solidario "Voces por Benin" de la Fundación Juntos por la Vida
DESCRIPTION:Por tercera vez la Fundación Juntos por la Vida promueve la gira "Voces por Benin". 25 niños y jóvenes viajan desde el país africano para llenar los escenarios de ritmo\, música y color\, y sobre todo para ser\, con sus voces\, los mejores embajadores  de los derechos de la infancia. Durante un poco más de una hora viajarás a África\, recorrerás sus calles y sentirás el calor de sus gentes. Es un espectáculo que no deja impasible a nadie. Ven preparado para emocionarte. Porque seguro que habrá un antes y un después de "Voces por Benin".\n \nVenta de Entradas: Pincha Aquí\nDonativo de 10 EUROS\nEn octubre de 2016 comenzó el sueño de un grupo de voluntarios de la Fundación Juntos por la Vida de comenzar un proyecto de formación de música\, español y valores en Benin y se comenzaron a movilizar esfuerzos y voluntades para apoyar proyectos en el país africano. Desde entonces\, se han apoyado proyectos en Calaví y en Cotonú\, las dos ciudades más importantes de Benin\, aunque el proyecto integral de la Fundación Juntos por la Vida se encuentra situado en Wawata\, una pequeña aldea de la mancomunidad de Zè. \nEs una zona rural\, con altas tasas de analfabetismo\, donde la pobreza no permite a la mayoría de la población pagar por asistencia sanitaria y mucho menos por medicamentos\, y donde hay altas tasas de absentismo y abandono escolar\, sobre todo en niñas\, que son forzadas a trabajar\, a menudo lejos de sus hogares\, como sirvientas domésticas en el mejor de los casos de explotación infantil. \nCartel:
URL:https://historico.ateneovalencia.es/evento/concierto-voces-por-benin-de-la-fundacion-juntos-por-la-vida/
LOCATION:Teatro Ateneo
CATEGORIES:Conciertos y Recitales
ATTACH;FMTTYPE=image/jpeg:https://historico.ateneovalencia.es/wp-content/uploads/2022/10/20230113-Concierto-Juntos-por-la-Vida.jpg
END:VEVENT
END:VCALENDAR