BEGIN:VCALENDAR
VERSION:2.0
PRODID:-//Ateneo Mercantil de Valencia - ECPv6.0.4//NONSGML v1.0//EN
CALSCALE:GREGORIAN
METHOD:PUBLISH
X-ORIGINAL-URL:https://historico.ateneovalencia.es
X-WR-CALDESC:Eventos para Ateneo Mercantil de Valencia
REFRESH-INTERVAL;VALUE=DURATION:PT1H
X-Robots-Tag:noindex
X-PUBLISHED-TTL:PT1H
BEGIN:VTIMEZONE
TZID:Europe/Madrid
BEGIN:DAYLIGHT
TZOFFSETFROM:+0100
TZOFFSETTO:+0200
TZNAME:CEST
DTSTART:20220327T010000
END:DAYLIGHT
BEGIN:STANDARD
TZOFFSETFROM:+0200
TZOFFSETTO:+0100
TZNAME:CET
DTSTART:20221030T010000
END:STANDARD
END:VTIMEZONE
BEGIN:VEVENT
DTSTART;TZID=Europe/Madrid:20221210T173000
DTEND;TZID=Europe/Madrid:20221210T190000
DTSTAMP:20260422T163408
CREATED:20221207T085210Z
LAST-MODIFIED:20221207T085211Z
UID:72327-1670693400-1670698800@historico.ateneovalencia.es
SUMMARY:Espectáculo Flamenco 'Zambomba' – Manuel Morales\, Manuel Serena\, Adrián Benítez y amigos…
DESCRIPTION:El Ateneo Mercantil de Valencia acoge este sábado 10 de diciembre a las 17.30 horas en el Teatro Ateneo\, el Espectáculo Flamenco 'Zambomba' en el que Manuel Morales\, Manuel Serena y Adrián Benítez se juntarán con amigos\, grandes profesionales del flamenco\, para dar un espectáculo que no dejará a nadie indiferente. Si quieres disfrutar del mejor flamenco en Valencia\, éste es el concierto que estabas esperando. \nLas entradas tienen un único precio\, a 15 euros\, y que puedes adquirirlas y solicitar más información en los siguientes teléfonos: 659.75.66.05 / 610.44.29.75 / 692.06.79.57\nCartel:
URL:https://historico.ateneovalencia.es/evento/espectaculo-flamenco-zambomba-manuel-morales-manuel-serena-adrian-benitez-y-amigos/
LOCATION:Teatro Ateneo
CATEGORIES:Conciertos Domingos,Conciertos y Recitales
ATTACH;FMTTYPE=image/jpeg:https://historico.ateneovalencia.es/wp-content/uploads/2022/12/20221210-Concierto-Flamenco-Zambomba.jpg
END:VEVENT
END:VCALENDAR