BEGIN:VCALENDAR
VERSION:2.0
PRODID:-//Ateneo Mercantil de Valencia - ECPv6.0.4//NONSGML v1.0//EN
CALSCALE:GREGORIAN
METHOD:PUBLISH
X-WR-CALNAME:Ateneo Mercantil de Valencia
X-ORIGINAL-URL:https://historico.ateneovalencia.es
X-WR-CALDESC:Eventos para Ateneo Mercantil de Valencia
REFRESH-INTERVAL;VALUE=DURATION:PT1H
X-Robots-Tag:noindex
X-PUBLISHED-TTL:PT1H
BEGIN:VTIMEZONE
TZID:Europe/Madrid
BEGIN:DAYLIGHT
TZOFFSETFROM:+0100
TZOFFSETTO:+0200
TZNAME:CEST
DTSTART:20220327T010000
END:DAYLIGHT
BEGIN:STANDARD
TZOFFSETFROM:+0200
TZOFFSETTO:+0100
TZNAME:CET
DTSTART:20221030T010000
END:STANDARD
END:VTIMEZONE
BEGIN:VEVENT
DTSTART;TZID=Europe/Madrid:20221120T113000
DTEND;TZID=Europe/Madrid:20221120T130000
DTSTAMP:20260423T002821
CREATED:20221111T095958Z
LAST-MODIFIED:20221112T110400Z
UID:71764-1668943800-1668949200@historico.ateneovalencia.es
SUMMARY:Música en el Ateneo: Concierto de Música de Cámara - Orquesta Clásica del CSMV
DESCRIPTION:La Fundación del Ateneo Mercantil CV ha organizado un concierto junto al Conservatorio Superior de Música Joaquín Rodrigo de Valencia para el próximo domingo 20 de noviembre a las 11.30 horas en el Salón de Actos del Ateneo. El concierto es de Música de Cámara y se realizará por integrantes de la Orquesta Clásica del CSMV. La entrada es totalmente libre y gratuita hasta completar el aforo del teatro-auditorio. \nEl concierto constará de un sexteto para viento (flauta\, oboe\, clarinete\, trompa\, fagot y piano) y luego dos piezas inerpretadas por un trío para clarinete\, violín y piano. Nueve de los mejores alumnos del conservatorio darán muestra del enorme nivel musical que poseen. El futuro de la música se da cita en el Ateneo Mercantil\, no puedes perderte esta gran actuación. \nPrograma:\nSexteto para viento y piano de F. POULENC (1899 -1963) \n\nAllegro vivace\nDivertissement\n\n\nCelia Latorre Torres\, flauta\nCarmen Llopis Castañeda\, oboe \nAngelina Martínez Tamayo\, clarinete\nAdriana Felip Calatrava\, trompa\nBalma Marcote Tormo\, fagot\nPietro Naclerio\, piano\n\nTrío para clarinete\, violín y piano A. Kachaturian (1903-1978)\nI. Andante con dolore\, con molto espressione\nII. Allegro\nIII. Moderato \nDos Miniaturas para clarinete\, violín y piano B. Quetglas\nFantasía sobre la consagración de la primavera \n\nClara Pérez Martín\, piano\nÓscar Abellán Bárber\, violín\nPau Arroyuelo Figuerola\, clarinete\n\nCartel:
URL:https://historico.ateneovalencia.es/evento/musica-en-el-ateneo-concierto-de-musica-de-camara-orquesta-clasica-del-csmv/
LOCATION:Teatro Ateneo
CATEGORIES:Conciertos Domingos
ATTACH;FMTTYPE=image/jpeg:https://historico.ateneovalencia.es/wp-content/uploads/2022/11/20221120-CONCIERTO-DOMINGO-MUSICA-CAMARA.jpg
END:VEVENT
END:VCALENDAR