BEGIN:VCALENDAR
VERSION:2.0
PRODID:-//Ateneo Mercantil de Valencia - ECPv6.0.4//NONSGML v1.0//EN
CALSCALE:GREGORIAN
METHOD:PUBLISH
X-WR-CALNAME:Ateneo Mercantil de Valencia
X-ORIGINAL-URL:https://historico.ateneovalencia.es
X-WR-CALDESC:Eventos para Ateneo Mercantil de Valencia
REFRESH-INTERVAL;VALUE=DURATION:PT1H
X-Robots-Tag:noindex
X-PUBLISHED-TTL:PT1H
BEGIN:VTIMEZONE
TZID:Europe/Madrid
BEGIN:DAYLIGHT
TZOFFSETFROM:+0100
TZOFFSETTO:+0200
TZNAME:CEST
DTSTART:20220327T010000
END:DAYLIGHT
BEGIN:STANDARD
TZOFFSETFROM:+0200
TZOFFSETTO:+0100
TZNAME:CET
DTSTART:20221030T010000
END:STANDARD
END:VTIMEZONE
BEGIN:VEVENT
DTSTART;TZID=Europe/Madrid:20221025T190000
DTEND;TZID=Europe/Madrid:20221025T203000
DTSTAMP:20260421T202933
CREATED:20221024T100738Z
LAST-MODIFIED:20221024T100738Z
UID:71525-1666724400-1666729800@historico.ateneovalencia.es
SUMMARY:Aula de Poesía II - Apertura del curso 2022-2023
DESCRIPTION:El Aula de Poesía II del Ateneo Mercantil ha programado para el martes 25 de octubre a las 19 horas en el Salón Sorolla un nuevo encuentro poético en el que diversos componentes del aula recitarán y compartirán sus poemas con los asistentes. El acto servirá para formalizar la apertura del curso 2022-2023. \nCartel:\n \n 
URL:https://historico.ateneovalencia.es/evento/aula-de-poesia-ii-apertura-del-curso-2022-2023/
LOCATION:Salón Sorolla - Ateneo Mercantil de Valencia\, Plaza del Ayuntamiento 18\, Valencia\, Valencia\, 46002\, España
CATEGORIES:Aula de Poesía
ATTACH;FMTTYPE=image/jpeg:https://historico.ateneovalencia.es/wp-content/uploads/2022/10/20221025-Aula-de-Poesia-II-1.jpg
END:VEVENT
END:VCALENDAR