BEGIN:VCALENDAR
VERSION:2.0
PRODID:-//Ateneo Mercantil de Valencia - ECPv6.0.4//NONSGML v1.0//EN
CALSCALE:GREGORIAN
METHOD:PUBLISH
X-ORIGINAL-URL:https://historico.ateneovalencia.es
X-WR-CALDESC:Eventos para Ateneo Mercantil de Valencia
REFRESH-INTERVAL;VALUE=DURATION:PT1H
X-Robots-Tag:noindex
X-PUBLISHED-TTL:PT1H
BEGIN:VTIMEZONE
TZID:Europe/Madrid
BEGIN:DAYLIGHT
TZOFFSETFROM:+0100
TZOFFSETTO:+0200
TZNAME:CEST
DTSTART:20220327T010000
END:DAYLIGHT
BEGIN:STANDARD
TZOFFSETFROM:+0200
TZOFFSETTO:+0100
TZNAME:CET
DTSTART:20221030T010000
END:STANDARD
END:VTIMEZONE
BEGIN:VEVENT
DTSTART;TZID=Europe/Madrid:20220625T200000
DTEND;TZID=Europe/Madrid:20220625T210000
DTSTAMP:20260424T004615
CREATED:20220616T162221Z
LAST-MODIFIED:20220620T071134Z
UID:70581-1656187200-1656190800@historico.ateneovalencia.es
SUMMARY:Concierto Homenaje a Claudia Montero en el Ateneo Mercantil
DESCRIPTION:El mes de junio siempre fue especial para Claudia Montero. Su concierto homenaje se llevará a cabo en el Ateneo Mercantil de Valencia\, el próximo sábado 25 de junio a las 20 horas en el Salón de Actos. Un concierto en el que participarán músicos con un increíble talento y que son amigos muy queridos de Claudia Montero. Ellos son Ana María Archilés Valls\, Lucía Martínez Molina\, el B3:Brouwer Trio y el Montero String Quartet. \nUn concierto que es posible gracias al trabajo especial de Mercedes Montero\, Luis Balairon y de la Junta Dirctiva del Ateneo Mercantil de Valencia\, así como\, la participación de todos los artistas que generosamente compartirán una noche mágica y emotiva para Claudia. \nEl evento se transmitirá en streaming. \nEnlace para el concierto online: https://youtu.be/rQ4dDCqpHdM\nElla se encuentra en otra dimensión\, pero su amor y su música siempre estarán entre nosotros. Entrada Libre y Gratuita hasta completar aforo. \nCartel:\n \n. \n\n 
URL:https://historico.ateneovalencia.es/evento/concierto-homenaje-a-claudia-montero-en-el-ateneo-mercantil/
LOCATION:Teatro Ateneo
CATEGORIES:Conciertos Domingos
ATTACH;FMTTYPE=image/jpeg:https://historico.ateneovalencia.es/wp-content/uploads/2022/06/20220625-Concierto-Homenaje-Claudia-Montero.jpg
END:VEVENT
END:VCALENDAR