BEGIN:VCALENDAR
VERSION:2.0
PRODID:-//Ateneo Mercantil de Valencia - ECPv6.0.4//NONSGML v1.0//EN
CALSCALE:GREGORIAN
METHOD:PUBLISH
X-WR-CALNAME:Ateneo Mercantil de Valencia
X-ORIGINAL-URL:https://historico.ateneovalencia.es
X-WR-CALDESC:Eventos para Ateneo Mercantil de Valencia
REFRESH-INTERVAL;VALUE=DURATION:PT1H
X-Robots-Tag:noindex
X-PUBLISHED-TTL:PT1H
BEGIN:VTIMEZONE
TZID:Europe/Madrid
BEGIN:DAYLIGHT
TZOFFSETFROM:+0100
TZOFFSETTO:+0200
TZNAME:CEST
DTSTART:20220327T010000
END:DAYLIGHT
BEGIN:STANDARD
TZOFFSETFROM:+0200
TZOFFSETTO:+0100
TZNAME:CET
DTSTART:20221030T010000
END:STANDARD
END:VTIMEZONE
BEGIN:VEVENT
DTSTART;TZID=Europe/Madrid:20220621T190000
DTEND;TZID=Europe/Madrid:20220621T203000
DTSTAMP:20260424T051741
CREATED:20220616T081338Z
LAST-MODIFIED:20220616T082057Z
UID:70507-1655838000-1655843400@historico.ateneovalencia.es
SUMMARY:III Encuentro Poético de las Aulas I Y II del Ateneo Mercantil
DESCRIPTION:La poesía vuelve al primer plano en el Ateneo Mercantil de Valencia el próximo martes 21 de junio a las 19 horas en el Salón Sorolla (5ª planta) con el III Encuentro Poético de las Aulas de Poesía I y II del Ateneo. Un evento coordinado por los encargados del Aula I\, Félix Molina\, y la del II\, Manuel Vélez. Presentará el acto el bibliotecario del Ateneo\, Vicente Bosch. Entrada libre hasta completar aforo. \nCartel:
URL:https://historico.ateneovalencia.es/evento/iii-encuentro-poetico-de-las-aulas-i-y-ii-del-ateneo-mercantil/
LOCATION:Salón Sorolla - Ateneo Mercantil de Valencia\, Plaza del Ayuntamiento 18\, Valencia\, Valencia\, 46002\, España
CATEGORIES:Aula de Poesía
ATTACH;FMTTYPE=image/jpeg:https://historico.ateneovalencia.es/wp-content/uploads/2022/06/20220621-Encuentro-Poetico-Aula-I-y-II.jpg
END:VEVENT
END:VCALENDAR