BEGIN:VCALENDAR
VERSION:2.0
PRODID:-//Ateneo Mercantil de Valencia - ECPv6.0.4//NONSGML v1.0//EN
CALSCALE:GREGORIAN
METHOD:PUBLISH
X-ORIGINAL-URL:https://historico.ateneovalencia.es
X-WR-CALDESC:Eventos para Ateneo Mercantil de Valencia
REFRESH-INTERVAL;VALUE=DURATION:PT1H
X-Robots-Tag:noindex
X-PUBLISHED-TTL:PT1H
BEGIN:VTIMEZONE
TZID:Europe/Madrid
BEGIN:DAYLIGHT
TZOFFSETFROM:+0100
TZOFFSETTO:+0200
TZNAME:CEST
DTSTART:20220327T010000
END:DAYLIGHT
BEGIN:STANDARD
TZOFFSETFROM:+0200
TZOFFSETTO:+0100
TZNAME:CET
DTSTART:20221030T010000
END:STANDARD
END:VTIMEZONE
BEGIN:VEVENT
DTSTART;TZID=Europe/Madrid:20220611T190000
DTEND;TZID=Europe/Madrid:20220611T213000
DTSTAMP:20260424T022408
CREATED:20220531T095620Z
LAST-MODIFIED:20220531T100014Z
UID:70316-1654974000-1654983000@historico.ateneovalencia.es
SUMMARY:Concierto de Guitarra Clásica de Ricardo Gallén y de flamenca de Javier Conde | XV Concurso Internacional de Guitarra Alhambra
DESCRIPTION:Manufacturas Alhambra organiza el XV Concurso Internacional de Guitarra Alhambra que tendrá lugar del 8 al 11 de junio de 2022 en Valencia. El Ateneo Mercantil de Valencia va a ser sede del concurso y albergará dos conciertos el próximo sábado 11 de junio a partir de las 19 horas en el Salón de Actos. Una tarde en la que podremos disfrutar del talento de la guitarra clásica de Ricardo Gallén y de la guitarra flamenca de Javier Conde. \nEs una gran oportunidad de ver a lo mejor de la guitarra española en Valencia\, en un concurso de altísimo nivel en el que hay más de 30.000 euros en premios\, conciertos\, grabaciones... en juego. \n\nEnlace para conseguir las entradas gratuitas: https://conciertos-ateneo-ricardo-gallen-javier-conde.eventbrite.es/?aff=AteneoMercantil\nProgramas de los conciertos:\nRicardo Gallén | Guitarra Clásica\n(Dedicado a Leo Brouwer) \nManuel M. Ponce (1882-1948)\nSonatina Meridional\nCampo – Copla – Fiesta \nLeo Brouwer (1930 - )\nEl juego de los abalorios*\nPieza sin título nº 4* \n*Estreno absoluto // *Premiere \nManuel M. Ponce (1882-1948)\nTema y Variaciones sobre las Folias de España y Fuga\nTema\nPoco vivo\nAllegretto mosso\nLento\nAgitato\nAndantino\nAllegretto\nAndante\nModerato\,\nAndantino affettuoso\nPresto andantino\nAnimato Sostenuto\nAllegro non troppo\nAllegro moderato\,energico\nModerato\nAllegro\nAllegro scherzando\nVivo emarcato\nAndante\nFuga \n  \nJavier Conde | Guitarra Flamenca\nVíctor M. Serranito\nPresagio (Taranta) \nAndrés Batista\nBrisas antillanas (Guajiras) \nAndrés Batista\nAmanecer granaino (Granaínas) \nEsteban de Sanlúcar\nMantilla de feria \nAgustín Castellón Sabicas\nAires del puerto (Soleá) \nAndrés Batista\nCafé de Chinitas & Tartaneros\n(Canciones populares) \nAgustín Castellón Sabicas\nNoches de Damasco (Arabian dance) \nAndrés Batista\nMis flecos (Tanguillos de Cádiz) \nAndrés Batista\nCampero (Zapateado) \nCartel:
URL:https://historico.ateneovalencia.es/evento/concierto-de-guitarra-clasica-de-ricardo-gallen-y-de-flamenca-de-javier-conde-xv-concurso-internacional-de-guitarra-alhambra/
LOCATION:Teatro Ateneo
CATEGORIES:Conciertos Domingos,Conciertos y Recitales
ATTACH;FMTTYPE=image/jpeg:https://historico.ateneovalencia.es/wp-content/uploads/2022/05/20220611-Concierto-Guitarra-Concurso-Alhambra.jpg
END:VEVENT
END:VCALENDAR