BEGIN:VCALENDAR
VERSION:2.0
PRODID:-//Ateneo Mercantil de Valencia - ECPv6.0.4//NONSGML v1.0//EN
CALSCALE:GREGORIAN
METHOD:PUBLISH
X-ORIGINAL-URL:https://historico.ateneovalencia.es
X-WR-CALDESC:Eventos para Ateneo Mercantil de Valencia
REFRESH-INTERVAL;VALUE=DURATION:PT1H
X-Robots-Tag:noindex
X-PUBLISHED-TTL:PT1H
BEGIN:VTIMEZONE
TZID:Europe/Madrid
BEGIN:DAYLIGHT
TZOFFSETFROM:+0100
TZOFFSETTO:+0200
TZNAME:CEST
DTSTART:20220327T010000
END:DAYLIGHT
BEGIN:STANDARD
TZOFFSETFROM:+0200
TZOFFSETTO:+0100
TZNAME:CET
DTSTART:20221030T010000
END:STANDARD
END:VTIMEZONE
BEGIN:VEVENT
DTSTART;TZID=Europe/Madrid:20220602T190000
DTEND;TZID=Europe/Madrid:20220602T203000
DTSTAMP:20260424T022422
CREATED:20220511T084248Z
LAST-MODIFIED:20220511T084253Z
UID:70124-1654196400-1654201800@historico.ateneovalencia.es
SUMMARY:Tardes de LiterAteneo II: "Polimnia 222: Elena Escribano y Pilar Verdú"
DESCRIPTION:Segunda edición de este nuevo ciclo de literatura que arrancó el pasado mes de abril en el Ateneo Mercantil de Valencia. El próximo jueves 2 de junio en el Salón Sorolla\, llega un nuevo encuentro entre los amantes de la literatura con el Ciclo Tardes de LiterAteneo\, que es una apuesta por traer a los mejores escritores y escritoras para tratar de conocer mejor no sólo sus obras literarias\, sino también a las personas que hay detrás. En esta segunda sesión llega "Polimnia 222 con Elena Escribano y Pilar Verdú". El presentador será de nuevo Pascual Casañ y los coordinadores del ciclo son Vicente Bosch y Vicente Barberá. \nElena Escribano Alemán\nNacida en Beniaján (Murcia)\, el 10 de julio de 1952. Reside en Valencia desde 1979. Licenciada en Filología Hispánica por la Universidad Complutense de Madrid. Catedrática de Lengua y Literatura Española y autora de los libros de texto de la ESO y Bachillerato de la Editorial Vicens Vives. Directora del Taller de Poesía Polimnia 222 de la Universidad Politécnica de Valencia desde su fundación a 2014. Premio Gerardo Diego 2006 por el libro Reincidencias. Es es una persona apasionada. Su amor por la lengua castellana y su afán por transmitir a los demás la belleza y emoción que podemos encontrar en la literatura le han llevado a pasar más de tres décadas como profesora de Secundaria. En la década de los 90 elaboró los libros de texto de Bachillerato de la editorial Ecir. En 2014 prepararó\, en colaboración con los profesores Paloma Rodríguez y Félix Esteso\, los libros de Lengua Castellana y Literatura para la ESO y Bachillerato de Vicens Vives\, que ya ha disfrutado el alumnado en centros educativos de toda España. Desde 2002 dirige el taller de poesía Polimnia en la Universidad Politécnica de Valencia y ha colaborado con Poética 2.0 en la selección de los textos que aparecerán en la antología de poesía española desde la Edad Media hasta el siglo XIX. En el año 2006 obtuvo el premio Gerardo Diego por su libro de poemas ‘Reincidencias’. \nPilar Verdú del Campo\n\nPilar Verdú nace en Sevilla\, pero pronto se traslada a vivir a Valencia\, donde se licencia en Filología Hispánica. Es profesora de lengua y literatura en enseñanza secundaria\, pero ante todo poeta y profesora del taller de poesía Polimnia222 de la Universidad Politécnica de Valencia. Colabora habitualmente en numerosos medios de comunicación\, en recitales\, presentaciones\, mesas redondas\, charlas y actos relacionados siempre con la poesía\, que la acompaña desde que tiene memoria. Imparte\, junto a Elena Escribano\, el curso "Poesía con clase" (1ª y 2ª edición) para docentes en el Centro de Formación\, Innovación y Recursos educativos (CEFIRE Plurilingüismo) de Valencia. También para el CEFIRE imparte el curso "Claves para la literatura de las PAU: "Entre visillos"\, "Historia de una escalera" y la poesía de Federico García Lorca" junto a Elena Escribano y Félix Esteso\, con quienes forma el equipo de coautores del libro de Lengua Castellana y literatura de 2ºde Bachillerato de Vicens Vives. Imparte\, además\, los cursos de escritura poética de verano en Fontilles con la Academia Gaia-Vacaciones con Arte (info en Agenda/Novedades). \nCartel:\n \n 
URL:https://historico.ateneovalencia.es/evento/tardes-de-literateneo-ii-polimnia-222-elena-escribano-y-pilar-verdu/
LOCATION:Salón Sorolla - Ateneo Mercantil de Valencia\, Plaza del Ayuntamiento 18\, Valencia\, Valencia\, 46002\, España
CATEGORIES:Tardes de LiterAteneo
ATTACH;FMTTYPE=image/jpeg:https://historico.ateneovalencia.es/wp-content/uploads/2022/05/20220602-LITERATENEO-2-POLIMNIA-222-1.jpg
END:VEVENT
END:VCALENDAR