BEGIN:VCALENDAR
VERSION:2.0
PRODID:-//Ateneo Mercantil de Valencia - ECPv6.0.4//NONSGML v1.0//EN
CALSCALE:GREGORIAN
METHOD:PUBLISH
X-WR-CALNAME:Ateneo Mercantil de Valencia
X-ORIGINAL-URL:https://historico.ateneovalencia.es
X-WR-CALDESC:Eventos para Ateneo Mercantil de Valencia
REFRESH-INTERVAL;VALUE=DURATION:PT1H
X-Robots-Tag:noindex
X-PUBLISHED-TTL:PT1H
BEGIN:VTIMEZONE
TZID:Europe/Madrid
BEGIN:DAYLIGHT
TZOFFSETFROM:+0100
TZOFFSETTO:+0200
TZNAME:CEST
DTSTART:20220327T010000
END:DAYLIGHT
BEGIN:STANDARD
TZOFFSETFROM:+0200
TZOFFSETTO:+0100
TZNAME:CET
DTSTART:20221030T010000
END:STANDARD
END:VTIMEZONE
BEGIN:VEVENT
DTSTART;TZID=Europe/Madrid:20220524T190000
DTEND;TZID=Europe/Madrid:20220524T203000
DTSTAMP:20260424T051808
CREATED:20220513T075944Z
LAST-MODIFIED:20220513T081439Z
UID:70161-1653418800-1653424200@historico.ateneovalencia.es
SUMMARY:Concierto Bicentenario Ecuador por el pianista Juan Pablo Gavilanes y la soprano Bernarda Holguín
DESCRIPTION:El Consulado del Ecuador en Valencia tiene el agrado de invitarles al Concierto de Gala que se llevará a cabo el próximo martes 24 de mayo a las 19 horas en el Salón de Actos del Ateneo Mercantil de Valencia (Planta 3 y 4 del edificio) con el pianista Juan Pablo Gavilanes y la y la soprano Bernarda Holguín con ocasión del "Bicentenario de la Batalla de Pichincha" que se tradujo en la independencia de Ecuador. Recordarles que la entrada es libre hasta completar aforo. \nEl 24 de mayo de 1822 se produjo esta gesta histórica que se recuerda no solo en Ecuador\, sino en varios países de Hispano América.  Este Bicentenario celebra la victoria del comandante general de la División Sur\, Antonio José de Sucre\, sobre las últimas tropas españolas que defendían la Real Audiencia de Quito. Por ello el Consulado de Ecuador en Valencia ha organizado varias actividades culturales\, entre los que se encuentra este concierto del pianista de talla internacional Juan Pablo Gavilanes para la conmemoración del Bicentenario. \n\n\nJuan Pablo Gavilanes Almeida\n\nMáximo referente pianístico latinoamericano de su generación\, destaca por su amplio repertorio que le ha posibilitado ejecutar en público obras capitales de la literatura para teclado y música de cámara poco interpretados en público en su totalidad.\nDistinguido por la crítica especializada como un pianista de clase mundial\, Gavilanes es reconocido por la profundidad de sus interpretaciones alejadas de toda superficialidad técnica.\nSu aproximación a la música está enfocada hacia una fruición espiritual\, gracias a un refinado tratamiento del sonido y de la estructura formal de las obras pianísticas\, apoyados en su particular visión del tempo\, las pausas y el silencio.\nDesarrolla su carrera musical en importantes escenarios\, con orquestas sinfónicas y en festivales internacionales de Ecuador\, Argentina\, Portugal\, España\, Italia\, Francia\, Suiza o Reino Unido.\nProviene de familia de músicos\, compositores y escritores ecuatorianos que se extiende a cuatro generaciones\, iniciándose en la música de la mano de su padre.\nRepresentante en calidad de Concertista de la Associazione Musicale Semi Breve\, asociación con sede en Civitanova Marche\, Italia.\nRealizó el Máster en Investigación Musicológica en la Universitat Internacional de Valencia (VIU)\, España\, enfocando su Trabajo final de Máster en La Espiritualidad como vocación interpretativa en Debussy: Un estudio auto-etnográfico sobre sus criterios estilísticos.\n\n‍María Bernarda Holguín Barrera\n\nEs una maestra lírica que ha llevado su talento por todo el mundo. Ha cantado el repertorio lírico en países como España y Italia. Por su talento\, la lírico soprano ha sido protagonista de artículos en diarios internacionales que han destacado en sus titulares el talento nato de la mujer portentosa. Tiene 41 años\, de los que 22 los lleva dedicada al canto y la música.\nNacida en cuna de artistas\, siendo sus padres los principales promotores de su carrera. Al término del bachillerato\, y con una preparación en piano y otras formaciones artísticas\, llegó hasta Quito para continuar con su sueño que logró hacer realidad.\nDe ahí en adelante vinieron conciertos\, recitales y toda una carrera que brilla en los escenarios del mundo por su voz portentosa\, siendo un referente de las nuevas generaciones.\nA lo largo de su carrera ha conseguido éxitos gracias a su pasión por el conocimiento profundo de la música\, lo que la ha convertido en una gran artista. Su recorrido musical como solista incluyen escenarios de Europa\, Estados Unidos y América Latina\, además\, ha sido miembro de importantes ensambles: Rooke Chapel Choir\, Susquehanna Valley Chorale\, Bucknell Concert Chorale\, Coro Juvenil Andino\, "The Bison Lyric Project"\, entre otros.\nFue representante de ‘El Sistema’\, Programa de Acción Social por la Música (área vocal)\, en Ecuador y del programa coral Voces Unidas con Fe y Alegría brindó formación en el canto a miles de niños y niñas en situación de vulnerabilidad.\nA lo largo de su trayectoria\, los reconocimientos son innumerables entre los que destaca: ‘El Hombre de los Bosques’ (Tertulias Lorquianas\, 2014). Fue invitada por la Universidad de Yale para intervenir como conferencista del programa Yale Summer Session en Ecuador\, durante la pandemia transcurría la soprano no ha detenido su trabajo.\nTambién fue conferencista en el Festival Internacional de Coros ‘Juventudes desde la Mitad del Mundo’ (2020). Además\, fue invitada por la Unesco como mujer artista referente en el estudio de ‘Visibilización del Impacto de los Efectos del Covid-19 en el Sector Artístico\, Patrimonial en Ecuador y las Diversas Estrategias de Resiliencia’ (2020). Bernarda además\, intervino como panelista en representación de Ecuador en múltiples ocasiones en los encuentros de ‘El Sistema de Orquestas y Coros Infantiles y Juveniles’ a nivel de Iberoamérica.\nActualmente\, Bernarda continúa su carrera vocal como solista\, prepara su próxima temporada internacional de conciertos; y\, brinda formación académica\, en su propia escuela\, ‘Farfalla Vocal Studio’ en Quito.\n\nCartel:
URL:https://historico.ateneovalencia.es/evento/concierto-bicentenario-ecuador-juan-pablo-gavilanes-bernarda-holguin-piano-soprano-en-valencia/
LOCATION:Teatro Ateneo
CATEGORIES:Conciertos Domingos
ATTACH;FMTTYPE=image/jpeg:https://historico.ateneovalencia.es/wp-content/uploads/2022/05/20220524-Conierto-Bicentenario-Ecuador.jpg
END:VEVENT
END:VCALENDAR