BEGIN:VCALENDAR
VERSION:2.0
PRODID:-//Ateneo Mercantil de Valencia - ECPv6.0.4//NONSGML v1.0//EN
CALSCALE:GREGORIAN
METHOD:PUBLISH
X-WR-CALNAME:Ateneo Mercantil de Valencia
X-ORIGINAL-URL:https://historico.ateneovalencia.es
X-WR-CALDESC:Eventos para Ateneo Mercantil de Valencia
REFRESH-INTERVAL;VALUE=DURATION:PT1H
X-Robots-Tag:noindex
X-PUBLISHED-TTL:PT1H
BEGIN:VTIMEZONE
TZID:Europe/Madrid
BEGIN:DAYLIGHT
TZOFFSETFROM:+0100
TZOFFSETTO:+0200
TZNAME:CEST
DTSTART:20220327T010000
END:DAYLIGHT
BEGIN:STANDARD
TZOFFSETFROM:+0200
TZOFFSETTO:+0100
TZNAME:CET
DTSTART:20221030T010000
END:STANDARD
END:VTIMEZONE
BEGIN:VEVENT
DTSTART;TZID=Europe/Madrid:20220515T113000
DTEND;TZID=Europe/Madrid:20220515T130000
DTSTAMP:20260424T092216
CREATED:20220421T182740Z
LAST-MODIFIED:20220426T110920Z
UID:69651-1652614200-1652619600@historico.ateneovalencia.es
SUMMARY:Concierto de Pasodobles Taurinos con la Banda Sinfónica de la UPV
DESCRIPTION:El próximo día 15 de mayo en el salón de actos de nuestro Ateneo\, se llevará a cabo un concierto de pasodobles taurinos en el cual la Banda de la Universidad Politécnica de Valencia\, bajo la dirección de D. Francisco José Valero García\, interpretará 16 pasodobles\, entre los cuales habrá cuatro de ellos de riguroso estreno. \nEl concierto está organizado por la Federación Taurina Valenciana\, la Tertulia Taurina del Ateneo Mercantil y Asuntos Taurinos de la Diputación de Valencia comenzará a las 11\,30 horas. La entrada será libre\, hasta completar aforo. \n\n\n\nCartel:
URL:https://historico.ateneovalencia.es/evento/concierto-de-pasodobles-taurinos-con-la-banda-sinfonica-de-la-upv/
LOCATION:Teatro Ateneo
CATEGORIES:Conciertos Domingos,Tertulia Taurina
ATTACH;FMTTYPE=image/jpeg:https://historico.ateneovalencia.es/wp-content/uploads/2022/04/20220515-Concierto-Pasodobles-Taurinos-1.jpg
END:VEVENT
END:VCALENDAR