BEGIN:VCALENDAR
VERSION:2.0
PRODID:-//Ateneo Mercantil de Valencia - ECPv6.0.4//NONSGML v1.0//EN
CALSCALE:GREGORIAN
METHOD:PUBLISH
X-ORIGINAL-URL:https://historico.ateneovalencia.es
X-WR-CALDESC:Eventos para Ateneo Mercantil de Valencia
REFRESH-INTERVAL;VALUE=DURATION:PT1H
X-Robots-Tag:noindex
X-PUBLISHED-TTL:PT1H
BEGIN:VTIMEZONE
TZID:Europe/Madrid
BEGIN:DAYLIGHT
TZOFFSETFROM:+0100
TZOFFSETTO:+0200
TZNAME:CEST
DTSTART:20220327T010000
END:DAYLIGHT
BEGIN:STANDARD
TZOFFSETFROM:+0200
TZOFFSETTO:+0100
TZNAME:CET
DTSTART:20221030T010000
END:STANDARD
END:VTIMEZONE
BEGIN:VEVENT
DTSTART;TZID=Europe/Madrid:20220125T190000
DTEND;TZID=Europe/Madrid:20220125T203000
DTSTAMP:20260424T232012
CREATED:20220121T121333Z
LAST-MODIFIED:20220121T121335Z
UID:66669-1643137200-1643142600@historico.ateneovalencia.es
SUMMARY:Aula de Poesía II: "El poeta en su voz"
DESCRIPTION:El Aula de Poesía II del Ateneo Mercantil ha programado para el martes 25 de enero a las 19 horas en el Salón Sorolla un nuevo encuentro poético en el que diversos componentes del aula recitarán y compartirán sus poemas con los asistentes. El acto llega bajo el título: "El poeta y su voz". \nCartel:
URL:https://historico.ateneovalencia.es/evento/aula-de-poesia-ii-el-poeta-en-su-voz/
LOCATION:Salón Sorolla - Ateneo Mercantil de Valencia\, Plaza del Ayuntamiento 18\, Valencia\, Valencia\, 46002\, España
CATEGORIES:Aula de Poesía
ATTACH;FMTTYPE=image/jpeg:https://historico.ateneovalencia.es/wp-content/uploads/2022/01/20220125-Aula-de-Poesia-II.jpg
END:VEVENT
END:VCALENDAR