BEGIN:VCALENDAR
VERSION:2.0
PRODID:-//Ateneo Mercantil de Valencia - ECPv6.0.4//NONSGML v1.0//EN
CALSCALE:GREGORIAN
METHOD:PUBLISH
X-WR-CALNAME:Ateneo Mercantil de Valencia
X-ORIGINAL-URL:https://historico.ateneovalencia.es
X-WR-CALDESC:Eventos para Ateneo Mercantil de Valencia
REFRESH-INTERVAL;VALUE=DURATION:PT1H
X-Robots-Tag:noindex
X-PUBLISHED-TTL:PT1H
BEGIN:VTIMEZONE
TZID:Europe/Madrid
BEGIN:DAYLIGHT
TZOFFSETFROM:+0100
TZOFFSETTO:+0200
TZNAME:CEST
DTSTART:20210328T010000
END:DAYLIGHT
BEGIN:STANDARD
TZOFFSETFROM:+0200
TZOFFSETTO:+0100
TZNAME:CET
DTSTART:20211031T010000
END:STANDARD
END:VTIMEZONE
BEGIN:VEVENT
DTSTART;TZID=Europe/Madrid:20211221T190000
DTEND;TZID=Europe/Madrid:20211221T203000
DTSTAMP:20260424T214736
CREATED:20211221T114246Z
LAST-MODIFIED:20211221T115256Z
UID:66316-1640113200-1640118600@historico.ateneovalencia.es
SUMMARY:Aula de Poesía II: Recital Pre-Nadal de poemas en torno a la Navidad
DESCRIPTION:El Aula de Poesía II del Ateneo Mercantil ha programado para el martes 21 de diciembre a las 19 horas en el Salón Sorolla el tradicional Recital Pre-Nadal en el que diversos componentes del Aula de Poesía recitarán poemas en torno a la Navidad. Acércate a sentir la Navidad con nosotros. \nCartel:
URL:https://historico.ateneovalencia.es/evento/aula-de-poesia-ii-recital-pre-nadal-de-poemas-en-torno-a-la-navidad/
CATEGORIES:Conciertos y Recitales
ATTACH;FMTTYPE=image/jpeg:https://historico.ateneovalencia.es/wp-content/uploads/2021/12/20211221-Aula-de-Poesía-2-Recital-PreNadal.jpg
END:VEVENT
END:VCALENDAR