BEGIN:VCALENDAR
VERSION:2.0
PRODID:-//Ateneo Mercantil de Valencia - ECPv6.0.4//NONSGML v1.0//EN
CALSCALE:GREGORIAN
METHOD:PUBLISH
X-WR-CALNAME:Ateneo Mercantil de Valencia
X-ORIGINAL-URL:https://historico.ateneovalencia.es
X-WR-CALDESC:Eventos para Ateneo Mercantil de Valencia
REFRESH-INTERVAL;VALUE=DURATION:PT1H
X-Robots-Tag:noindex
X-PUBLISHED-TTL:PT1H
BEGIN:VTIMEZONE
TZID:Europe/Madrid
BEGIN:DAYLIGHT
TZOFFSETFROM:+0100
TZOFFSETTO:+0200
TZNAME:CEST
DTSTART:20210328T010000
END:DAYLIGHT
BEGIN:STANDARD
TZOFFSETFROM:+0200
TZOFFSETTO:+0100
TZNAME:CET
DTSTART:20211031T010000
END:STANDARD
END:VTIMEZONE
BEGIN:VEVENT
DTSTART;TZID=Europe/Madrid:20211219T190000
DTEND;TZID=Europe/Madrid:20211219T200000
DTSTAMP:20260424T231007
CREATED:20211111T131151Z
LAST-MODIFIED:20211112T105056Z
UID:65785-1639940400-1639944000@historico.ateneovalencia.es
SUMMARY:Gran Concierto ARIAS OPERA Especial Navidad
DESCRIPTION:Disfruta de las famosas arias de ópera y las piezas más importantes de la música clásica de los grandes compositores italianos\, como Verdi\, Vivaldi o Puccini\, así como\, de las mágicas canciones napolitanas\, interpretadas por un sensacional trío de cuerda\, tenor y soprano. Este concierto\, en pleno ambiente navideño\, te transportará a la Antigua Italia\, en un imponente escenario como es el insigne salón Stolz del Ateneo Valencia. \n¡Ven a emocionarte! ¡No te lo puedes perder!\nTickets\n- PVP 45 € (Iva incluido). Entrada al concierto de navidad ‘Arias Ópera' para 1 persona. (Descuento 10% a socios). No se admiten devoluciones.\n- Incluye 1 botella de minicava por pareja como obsequio \nQué vas a disfrutar:\n- Las obras más bellas del Romanticismo Italiano.\n- El imponente auditorio del Ateneo con excelentes vistas de la plaza desde los balcones del salón Stolz.\n- Disponibilidad de servicio cocktail bar. \nRepertorio ‘Speziale Natale/Especial Navidad’ \n- The Second Waltz (D. Shostakovich)\n- Mattinata (Leoncavallo\,Rugero)\n- O mío Babbino Caro (Puccini)\n- Funiculi\, Funicula (L. Denza)\n- Santa Lucía (Cottrau)\n- La donna e mobile (G.Verdi)\n- Adeste Fidelis\n- Nessum Dorna (Puccini)\n- O Sole Mío (E.Di Capua)\n- La Traviata-Brindis (Verdi)\n- Bianco Natale / Blanca Navidad\n- Astro del Ciel / Noche de Paz \nNota: Programación sujeta a posibles modificaciones. \nVenta de entradas en taquillas del Ateneo Mercantil y en el siguiente enlace:\nPincha aquí para comprar las entradas\nCartel
URL:https://historico.ateneovalencia.es/evento/gran-concierto-arias-opera-especial-navidad/
LOCATION:Salón Stolz - Ateneo Mercantil de Valencia\, Plaza del Ayuntamiento\, 18\, Valencia\, España\, Valencia\, Valencia\, 46002\, España
CATEGORIES:Conciertos Domingos
ATTACH;FMTTYPE=image/jpeg:https://historico.ateneovalencia.es/wp-content/uploads/2021/11/20211219-Concierto-Arias-Opera-1.jpg
END:VEVENT
END:VCALENDAR