BEGIN:VCALENDAR
VERSION:2.0
PRODID:-//Ateneo Mercantil de Valencia - ECPv6.0.4//NONSGML v1.0//EN
CALSCALE:GREGORIAN
METHOD:PUBLISH
X-ORIGINAL-URL:https://historico.ateneovalencia.es
X-WR-CALDESC:Eventos para Ateneo Mercantil de Valencia
REFRESH-INTERVAL;VALUE=DURATION:PT1H
X-Robots-Tag:noindex
X-PUBLISHED-TTL:PT1H
BEGIN:VTIMEZONE
TZID:Europe/Madrid
BEGIN:DAYLIGHT
TZOFFSETFROM:+0100
TZOFFSETTO:+0200
TZNAME:CEST
DTSTART:20210328T010000
END:DAYLIGHT
BEGIN:STANDARD
TZOFFSETFROM:+0200
TZOFFSETTO:+0100
TZNAME:CET
DTSTART:20211031T010000
END:STANDARD
END:VTIMEZONE
BEGIN:VEVENT
DTSTART;TZID=Europe/Madrid:20211215T190000
DTEND;TZID=Europe/Madrid:20211215T203000
DTSTAMP:20260425T020521
CREATED:20211202T132906Z
LAST-MODIFIED:20211215T094023Z
UID:66094-1639594800-1639600200@historico.ateneovalencia.es
SUMMARY:Recital Abierto del Aula 1 de Poesía del Ateneo Mercantil
DESCRIPTION:El Aula I de Poesía del Ateneo Mercantil celebrará un recital abierto al público para que todo el mundo pueda disfrutar de la mejor poesía el próximo miércoles 15 de diciembre a las 19 horas en el Salón Sorolla. Un evento presentado por el coordinador del aula\, Félix Molina\, y en el que intervendrán muchos poestas\, amigos del Ateneo\, que leerán versos propios y de algunos reconocidos poetas. Una tarde muy agradable en la que la poesía regresa a nuestra casa. Si eres amante de la poesía\, no puedes perderte esta cita indispensable\, ya que el Aula I de Poesía este día permite a todo el mundo que conozca de cerca su trabajo durante todo el año. \nCartel:
URL:https://historico.ateneovalencia.es/evento/recital-abierto-del-aula-1-de-poesia-del-ateneo-mercantil/
LOCATION:Salón Sorolla - Ateneo Mercantil de Valencia\, Plaza del Ayuntamiento 18\, Valencia\, Valencia\, 46002\, España
CATEGORIES:Aula de Poesía
ATTACH;FMTTYPE=image/jpeg:https://historico.ateneovalencia.es/wp-content/uploads/2021/12/20211215-Aula-Abierta-de-Poesía-I.jpg
END:VEVENT
END:VCALENDAR