BEGIN:VCALENDAR
VERSION:2.0
PRODID:-//Ateneo Mercantil de Valencia - ECPv6.0.4//NONSGML v1.0//EN
CALSCALE:GREGORIAN
METHOD:PUBLISH
X-ORIGINAL-URL:https://historico.ateneovalencia.es
X-WR-CALDESC:Eventos para Ateneo Mercantil de Valencia
REFRESH-INTERVAL;VALUE=DURATION:PT1H
X-Robots-Tag:noindex
X-PUBLISHED-TTL:PT1H
BEGIN:VTIMEZONE
TZID:Europe/Madrid
BEGIN:DAYLIGHT
TZOFFSETFROM:+0100
TZOFFSETTO:+0200
TZNAME:CEST
DTSTART:20210328T010000
END:DAYLIGHT
BEGIN:STANDARD
TZOFFSETFROM:+0200
TZOFFSETTO:+0100
TZNAME:CET
DTSTART:20211031T010000
END:STANDARD
END:VTIMEZONE
BEGIN:VEVENT
DTSTART;TZID=Europe/Madrid:20211213T190000
DTEND;TZID=Europe/Madrid:20211213T210000
DTSTAMP:20260424T232301
CREATED:20211202T130247Z
LAST-MODIFIED:20211202T130247Z
UID:66090-1639422000-1639429200@historico.ateneovalencia.es
SUMMARY:Presentación del poemario "Cuaderno de Soledades" de Vicente Barberá
DESCRIPTION:El próximo lunes 13 de diciembre a las 19 horas en el Salón Sorolla del Ateneo Mercantil se celebrará la presentación del último libro del poeta\, Vicente Barberá\, "Cuaderno de Soledades". Un acto en el que intervendrán el porpio autor de este gran poemario y al que le acompañarán el editor de la obra y fundador de la editorial valenciana Olé Libros\, Toni Alcolea\, el autor del prólogo del poemario\, Antonio Mayor y el poeta Pascual Casañ. \nEste gran poemario de Vicente Barberá es una completa biografía poética en la que\, al final\, el sabor del acabamiento de la felicidad y\, por tanto\, la soledad\, predomina sobre otros aspectos: nada somos\, tenemos que acabar cuando pasan las glorias de la vida y ya no eres nadie\, como se dice en el poema Vilipendio o en Volver\, a "donde mueren las rosas y se acaba el rumor de lo vivido". En este libro se recoge poéticamente ese rumor de lo vivido; y gracias a la maestría del lenguaje y la métrica de Vicente Barberá\, ese rumor nos llega a nosotros\, los agradecidos lectores. Cuaderno de soledades forma parte de la colección Imaginal de poesía de Olé Libros. \nCartel:
URL:https://historico.ateneovalencia.es/evento/presentacion-del-poemario-cuaderno-de-soledades-de-vicente-barbera/
LOCATION:Salón Sorolla - Ateneo Mercantil de Valencia\, Plaza del Ayuntamiento 18\, Valencia\, Valencia\, 46002\, España
CATEGORIES:Conciertos y Recitales,Presentación de Libros
ATTACH;FMTTYPE=image/jpeg:https://historico.ateneovalencia.es/wp-content/uploads/2021/12/20211213-Libro-Vicente-Barberá-Soledades.jpg
END:VEVENT
END:VCALENDAR