BEGIN:VCALENDAR
VERSION:2.0
PRODID:-//Ateneo Mercantil de Valencia - ECPv6.0.4//NONSGML v1.0//EN
CALSCALE:GREGORIAN
METHOD:PUBLISH
X-WR-CALNAME:Ateneo Mercantil de Valencia
X-ORIGINAL-URL:https://historico.ateneovalencia.es
X-WR-CALDESC:Eventos para Ateneo Mercantil de Valencia
REFRESH-INTERVAL;VALUE=DURATION:PT1H
X-Robots-Tag:noindex
X-PUBLISHED-TTL:PT1H
BEGIN:VTIMEZONE
TZID:Europe/Madrid
BEGIN:DAYLIGHT
TZOFFSETFROM:+0100
TZOFFSETTO:+0200
TZNAME:CEST
DTSTART:20210328T010000
END:DAYLIGHT
BEGIN:STANDARD
TZOFFSETFROM:+0200
TZOFFSETTO:+0100
TZNAME:CET
DTSTART:20211031T010000
END:STANDARD
END:VTIMEZONE
BEGIN:VEVENT
DTSTART;TZID=Europe/Madrid:20211212T190000
DTEND;TZID=Europe/Madrid:20211212T200000
DTSTAMP:20260424T231007
CREATED:20211126T124031Z
LAST-MODIFIED:20211210T083104Z
UID:66013-1639335600-1639339200@historico.ateneovalencia.es
SUMMARY:CONCIERTO APLAZADO - Little Big Show: Mayfair London\, Yamaha Music School Valencia y Academia Musical Europa presentan el 'Pequeño Gran Espectáculo'
DESCRIPTION:CONCIERTO APLAZADO. Quien haya comprado sus entradas en taquillas del Ateneo ya pueden pasar por las mismas taquillas para la devolución del dinero. Quien haya comprado por internet se devolverá el precio de sus entradas en los próximos días. \nLlega a Valencia el esperado espectáculo 'Little Big Show' que organiza Mayfair London junto a la prestigiosa escuela de Valencia\, Yamaha Music School Valencia y la Academia Musical Europa. Una novedosa colaboración entre un grupo de jóvenes galardonados mientras crean una fusión espectacular de los grandes éxitos de la música clásica que se combinarán con las melodías populares de hoy. Será un tarde repleta de música\, diversión y sorpresas. \nUn evento hecho a medida para los espectadores fanáticos de grupos musicales como 2Cello\, Piano Guys y Trans-Siberian Orchestra. Disfruta de los éxitos más reconocidos de Mozart\, Beethoven\, Chopin... con un sabor y toques modernos geniales. Ven al Ateneo Mercantil a vivir de cerca una noche inolvidable para toda la familia. \nVenta de entradas:\nEn taquillas del Ateneo Mercantil\nOnline: https://entradas.ateneovalencia.es/espectaculo/3/little-big-show-pequeno-gran-espectaculo.html\n\nRepertorio ‘Little Big Show’\n\nTocada y Fugue  (J.S. Bach)\nNocturne in E Flat Major Op. 9 No.2 (Chopin)\nPosthumous Waltz (Chopin)\nLa Fille Aux Cheveux de Lin (The Girl With the Flaxen Hair) (Debussy)\nClara Luna (Debussy)\nAir on a G String (Bach)\nSonata No 16 en Do Mayor (Mozart)\nCanon in D (Pachelbel)\nPor Una Cabeza (Carlos Gardel)\nMalagueña (tradicional)\nAla Ronda Turca (Mozart)\nRapsodía por un Tema de Paganini (Rachmaninov)\nVals de la Flores (Tchaikovsky)\n\ny varios sorpresas musicales más! \nCartel:
URL:https://historico.ateneovalencia.es/evento/little-big-show-mayfair-london-yamaha-music-school-valencia-y-academia-musical-europa-presentan-el-pequeno-gran-espectaculo/
LOCATION:Teatro Ateneo
CATEGORIES:Conciertos y Recitales
ATTACH;FMTTYPE=image/jpeg:https://historico.ateneovalencia.es/wp-content/uploads/2021/11/20211212-Concierto-Little-Big-Show-1.jpg
END:VEVENT
END:VCALENDAR