BEGIN:VCALENDAR
VERSION:2.0
PRODID:-//Ateneo Mercantil de Valencia - ECPv6.0.4//NONSGML v1.0//EN
CALSCALE:GREGORIAN
METHOD:PUBLISH
X-ORIGINAL-URL:https://historico.ateneovalencia.es
X-WR-CALDESC:Eventos para Ateneo Mercantil de Valencia
REFRESH-INTERVAL;VALUE=DURATION:PT1H
X-Robots-Tag:noindex
X-PUBLISHED-TTL:PT1H
BEGIN:VTIMEZONE
TZID:Europe/Madrid
BEGIN:DAYLIGHT
TZOFFSETFROM:+0100
TZOFFSETTO:+0200
TZNAME:CEST
DTSTART:20210328T010000
END:DAYLIGHT
BEGIN:STANDARD
TZOFFSETFROM:+0200
TZOFFSETTO:+0100
TZNAME:CET
DTSTART:20211031T010000
END:STANDARD
END:VTIMEZONE
BEGIN:VEVENT
DTSTART;TZID=Europe/Madrid:20210911T180000
DTEND;TZID=Europe/Madrid:20210911T200000
DTSTAMP:20260425T124020
CREATED:20210907T074815Z
LAST-MODIFIED:20210907T113822Z
UID:64844-1631383200-1631390400@historico.ateneovalencia.es
SUMMARY:Concierto de las 'Noves Veus del Cant Valencià'
DESCRIPTION:El próximo sábado a las 18 horas en el Salón de Actos del Ateneo Mercantil regresa la Associació d'Estudis del Cant Valencià quien organiza un nuevo concierto de su proyecto Noves Veus del Cant Valencià dando dando cobertura interpretativa al alumnado de diversas escuelas de cant d'estil i albaes. Hay dos partes diferenciadas\, por una parte está en cant d'estil que son canciones valencianas o cant a l'aire y por otro lado las albaes. \nHoy en día no es nada fácil encontrat jóvenes expertos en esta exigente tradición vocal por eso es una ocasión única de poder disfrutar de esta experiencia tan gratificante. Por un lado sirva para que no se pierdan estos cánticos antiguos y por otro lado comprobar la enorme dedicación que tienen al escucharlos\, ya que dominan las fomas vocales\, los estilos melódicos\, las actitudes corporales y los valores estéticos de los grandes maestros del siglo XX.
URL:https://historico.ateneovalencia.es/evento/concierto-de-las-noves-veus-del-cant-valencia/
LOCATION:Teatro Ateneo
CATEGORIES:Conciertos Domingos
ATTACH;FMTTYPE=image/jpeg:https://historico.ateneovalencia.es/wp-content/uploads/2021/09/20210911-Cant-de-Estil-Valencià.jpg
END:VEVENT
END:VCALENDAR