BEGIN:VCALENDAR
VERSION:2.0
PRODID:-//Ateneo Mercantil de Valencia - ECPv6.0.4//NONSGML v1.0//EN
CALSCALE:GREGORIAN
METHOD:PUBLISH
X-WR-CALNAME:Ateneo Mercantil de Valencia
X-ORIGINAL-URL:https://historico.ateneovalencia.es
X-WR-CALDESC:Eventos para Ateneo Mercantil de Valencia
REFRESH-INTERVAL;VALUE=DURATION:PT1H
X-Robots-Tag:noindex
X-PUBLISHED-TTL:PT1H
BEGIN:VTIMEZONE
TZID:Europe/Madrid
BEGIN:DAYLIGHT
TZOFFSETFROM:+0100
TZOFFSETTO:+0200
TZNAME:CEST
DTSTART:20210328T010000
END:DAYLIGHT
BEGIN:STANDARD
TZOFFSETFROM:+0200
TZOFFSETTO:+0100
TZNAME:CET
DTSTART:20211031T010000
END:STANDARD
END:VTIMEZONE
BEGIN:VEVENT
DTSTART;TZID=Europe/Madrid:20210611T193000
DTEND;TZID=Europe/Madrid:20210611T210000
DTSTAMP:20260425T140345
CREATED:20210527T111238Z
LAST-MODIFIED:20210610T083358Z
UID:64099-1623439800-1623445200@historico.ateneovalencia.es
SUMMARY:Primer Concierto del proyecto Assamble Debussy para piano y otros instrumentos
DESCRIPTION:El Ateneo Mercantil de Valencia arranca un nuevo ciclo de conciertos de pago que tendrán como nota dominante el alto nivel musical de los artistas invitados. En este primer concierto piloto podremos disfrutar del proyecto Assamble Debussy que ha desarollado el pianista y concertista internacional Juan Pablo Gavilanes Almeida alrededor de todo el mundo y que ahora nos ofrece en nuestro teatro. Un acercamiento al universo musical de Debussy con obras para flauta sólo\, piano\, piano y clarinete bajo y canciones de Debussy y otros autores franceses para voz y piano. Concierto producido por Luis Balairon. \nBajo el título Assamble Debussy llegan varios conciertos cuyo eje serán las composiciones de Debussy y las composiciones de otros compositores relacionados con él. En este primer concierto podrán disfrutar tanto del pianista Juan Pablo Gavilanes\, como de Daniel Belloví (clarinete bajo)\, Blanca Asturiano (piano)\, Maite Aguilar (flauta) y Mireia Marí (vocalista). \nConcierto Assamble Debussy\nLugar: Salón de Actos del Ateneo Mercantil \nFecha: Viernes 11 de junio \nHora: 19.30 horas \nEntradas: Desde 6 hasta 15 euros. A la venta en Secretaría del Ateneo desde el martes 1 de junio. Entradas Online ya disponibles. \nEntradas online a la venta: https://bit.ly/3fqxFRy\nPrograma de Mano\nParte I (aprox. 35')\n \nCLAUDE DEBUSSY (1862-1918): \n\n"Syrinx"............................................................................................ Maite Aguilar\, flauta\nPréludes........................................................................................... Juan Pablo Gavilanes\, piano\n\n"Ce qu'a vu le vent d'ouest: Animé et tumultueux"\n"Ondine"\n"Feux d'artifice"\nClair de lune\n\n\n"Des pas sur la neige: Triste et lent" [arreglo]................................ Juan Pablo Gavilanes\, piano\n"Première rhapsodie"...................................................................... Daniel Belloví\, clarinete bajo / Juan Pablo Gavilanes\, piano\n\nParte II (aprox. 30') \nJACQUES IBERT (1890-1962) \n\n"Pièce pour flûte seule".................................................................... Maite Aguilar\, flauta\n\nCLAUDE DEBUSSY (1862-1918) \n\nArabesque n°1 en mi mayor............................................................. Blanca Asturiano\, piano\n\nCHANSONS............................................................................................... Mireia Marí\, voz / Blanca Asturiano\, piano \n\nREYNALDO HANN (1874-1947)\n\n"A Chloris"\n\n\nHENRI DUPARC (1848-1933)......................................................... id\n\n"L'invitation au voyage"\n\n\nGABRIEL FAURÉ (1845-1924)........................................................ id\n\n"Après un rêve"\n\n\nFRANCIS POULENC (1899-1963)................................................... id\n\n"Les chemins de l'amour"\n\n\nERIK SATIE (1866-1925)................................................................. id\n\nJe te veux\n\n\nGEORGES BIZET (1838-1875)........................................................ id\n\nOuvre ton coeur\n\n\n\nAssamble Debussy es un proyecto original de Juan Pablo Gavilanes concebido en 2018 para el centenario Debussy. \n  \nCartel:
URL:https://historico.ateneovalencia.es/evento/primer-concierto-del-proyecto-assamble-debussy-para-piano-y-otros-instrumentos/
LOCATION:Teatro Ateneo
CATEGORIES:Conciertos y Recitales
ATTACH;FMTTYPE=image/jpeg:https://historico.ateneovalencia.es/wp-content/uploads/2021/05/20210611-Concierto-Assamble-Debussy-1.jpg
END:VEVENT
END:VCALENDAR