BEGIN:VCALENDAR
VERSION:2.0
PRODID:-//Ateneo Mercantil de Valencia - ECPv6.0.4//NONSGML v1.0//EN
CALSCALE:GREGORIAN
METHOD:PUBLISH
X-WR-CALNAME:Ateneo Mercantil de Valencia
X-ORIGINAL-URL:https://historico.ateneovalencia.es
X-WR-CALDESC:Eventos para Ateneo Mercantil de Valencia
REFRESH-INTERVAL;VALUE=DURATION:PT1H
X-Robots-Tag:noindex
X-PUBLISHED-TTL:PT1H
BEGIN:VTIMEZONE
TZID:Europe/Madrid
BEGIN:DAYLIGHT
TZOFFSETFROM:+0100
TZOFFSETTO:+0200
TZNAME:CEST
DTSTART:20210328T010000
END:DAYLIGHT
BEGIN:STANDARD
TZOFFSETFROM:+0200
TZOFFSETTO:+0100
TZNAME:CET
DTSTART:20211031T010000
END:STANDARD
END:VTIMEZONE
BEGIN:VEVENT
DTSTART;TZID=Europe/Madrid:20210425T113000
DTEND;TZID=Europe/Madrid:20210425T133000
DTSTAMP:20260425T182024
CREATED:20210406T105434Z
LAST-MODIFIED:20210406T110612Z
UID:63299-1619350200-1619357400@historico.ateneovalencia.es
SUMMARY:Conciertos de los Domingos: Concierto de Guitarra y Arpa
DESCRIPTION:El Ciclo Conciertos de los Domingos llega el próximo domingo 25 de abril a las 11.30 horas con el concierto de guitarra y arpa en el Ateneo Mercantil de Valencia. Cinco intérpretes para un concierto muy esperado en nuestra sala. Dos arpas que son Natalia Markovic e Inés Galindo\, mientras que al frente de las guitarras estarán Alba Forte\, Alejandro Nogales y Sebastián Villora. \nCurrículum\n\nNatalia Markovic Prokic (arpa): Empezó a tocar el arpa a los ocho años. Comenzó en la Banda Primitiva de Llíria con su profesora Ana Martínez. Desde sus primeros años lleva participando en un concurso nacional de arpa (Arpa Plus) en el cual ha ganado varios premios. Además\, ha tocado en varios sitios alrededor de Valencia así como en agrupaciones orquestales como la Banda Primitiva o la Orquesta Federal de Valencia. También ha recibido varias clases magistrales de arpistas como Cristina Montes\, Luisa Domingo\, Ma Elena Bovio\, Gabriella Dall’Olio o Sylvain Blassel. Actualmente\, está cursando 6º EE PP en el Conservatorio Profesional de Música de Valencia.\nAlba Forte (guitarra): Nace en Yecla (Murcia) en el año 1996. En 2014 comienzo sus estudios en la Escuela de música de su ciudad. En 2016 se matricula en el Conservatorio Profesional de Música de Valencia\, para cursar estudios de Grado Profesional. En el transcurso de estos años ha participado en varios conciertos \, entre ellos destacan El Museo de Bellas Artes San Pío y El Concierto de Navidad en el Palacio del Marqués de Dos Aguas. A su vez ha participado en todas las audiciones departamentales obteniendo la máxima calificación. Actualmente cursa 6°curso de Enseñanzas Profesionales en la especialidad de guitarra con el profesor Juan Luis Roldán Pareja.\nAlejandro Nogales Almagro (guitarra): Comienza sus estudios a los 7 años y a los 12 se matricula en el Conservatorio Profesional de Música de Valencia para cursar estudios de Grado Profesional. A sus 17 años ha obtenido los siguientes premios: 3° premio en las VII Jornadas de Guitarra de Valencia\, 2° premio en el Concurso Internacional de Guitarra de Petrer 2019\, 1° premio en el Concurso de Guitarra Mestre Salvador García 2018\, ganador en el Concurso de Música de Las Provincias de 2019\, 3° Clasificado en la Fase Autonómica del Concurso Intercentros Melómano 2019\, 1° premio en el II Concurso de Guitarras Raimundo 2019\, 1° premio en el III Concurso de Guitarra de Nàquera Sona. Ha tocado en importantes auditorios (Palacio Marqués de Dos Aguas\, Palau de la Música de Valencia\, Ciudad de las Artes y las Ciencias...). Cabe destacar también sus conciertos como solista\, siendo el más notable de estos el ofrecido en 2019 en la Residencia "Nuestra Señora de los Desamparados"\, a petición directa de la catedrática emérita Doña Rosa Gil. Ha recibido clases de guitarra de Rubén Parejo Codina\, actual catedrático del CSMV y ha cursado masterclass con guitarristas como: David Russell\, Leo Brouwer\, Andrea González Caballero. Actualmente estudia 6º Curso de EEPP de Música en el CPMV con el profesor Juan Luis Roldán Pareja.\nInés Galindo Jiménez (arpa): Empezó a tocar el arpa hace 7 años\, con 9 años\, dando clase en el Conservatorio Profesional de Música de Valencia con la profesora Ana Martínez Cano. Ha participado en varias ocasiones en el concurso de arpa Arpaplus y ha ganado varios premios allí. También ha participado en varios cursos de la Associació Catalana d’Arpistes. Actualmente está cursando 4º EE.PP. En el Conservatorio Profesional de Música de Valencia.\nSebastián Villora Martínez (guitarra): Nace en Valencia en el año 2003. Realiza estudios en las especialidades de trompa y guitarra en el Conservatorio Profesional de Música de Valencia. Ha participado en diferentes audiciones y conciertos actuando en salas como el Palacio del Marqués de Dos Aguas\, el museo San Pío V o en la sala Lucrecia Bori del Palau de la Música de Valencia. Ha sido premiado  en el I y IV Concurso "Mestre Salvador García" de Gandía\, en el Concurso "Sol Guitarra"  de Valencia\, en el II Concurso Internacional Guitarra Alhambra para jóvenes y en el II Concurso Internacional de Guitarra "Raimundo" dónde también recibió clases del maestro Leo Brouwer. En la actualidad realiza el último curso de Enseñanzas Profesionales de guitarra.\n\nCartel:\n \n 
URL:https://historico.ateneovalencia.es/evento/conciertos-de-los-domingos-concierto-de-guitarra-y-arpa/
LOCATION:Teatro Ateneo
CATEGORIES:Conciertos Domingos
ATTACH;FMTTYPE=image/jpeg:https://historico.ateneovalencia.es/wp-content/uploads/2021/04/20210425-Concierto-Domingo-Guitarra-y-Arpas.jpg
END:VEVENT
BEGIN:VEVENT
DTSTART;TZID=Europe/Madrid:20210425T183000
DTEND;TZID=Europe/Madrid:20210425T203000
DTSTAMP:20260425T182024
CREATED:20210420T085707Z
LAST-MODIFIED:20210420T085707Z
UID:63448-1619375400-1619382600@historico.ateneovalencia.es
SUMMARY:Concierto de los Domingos: Concierto de piano de Isabel Masegoso
DESCRIPTION:Segunda cita del domingo 25 de abril en el Ateneo Mercantil. Un nuevo concierto de piano que correrá a cargo de la pianista Isabel Masegoso Cerezo a las 18.30 horas en el Salón de Actos de nuestra entidad. \nRepertorio:\nLa maja y el Ruiseñor de "Goyescas" .................... E. Granados \n2 Rapsodias op. 79 ..................................................... J. Brahms \n\nI Si m\nII Sol m\n\nChacona en Sol M ......................................................... Haendel \nSonata "La Pastoral"\, op. 28 ................... Beethoven (4 mov.) \n\nI Allegro\nII Andante\nIII Scherzo: Allegro Vivaze\nIV Rondo: Allegro ma non troppo\n\nCurriculum:\nIsabel Masegoso Cerezo (Valencia 1991). Graduada en Interpretación pianística por el Conservatorio Superior de Música de Valencia en 2015\, ha continuado perfeccionado su técnica recibiendo clases magistrales de pianistas de renombre como Josep Colom o István Gulyás. Actualmente se encuentra cursando el Título de Alta Especialización en la academia Musical Arts Madrid con el profesor Gabriel Escudero. \nEn los últimos años ha tenido una intensa actividad concertística. Son dignos de mención sus recitales ofrecidos en salas de concierto como el Ateneo Mercantil\, el auditorio Municipal de Tarazona\, la Sala Clemente y su participación en festivales internacionales como el Premio y Festival Internacional de Música de Tenerife. \nTambién ha sido invitada a colaborar en conciertos didácticos en la semana Cultural del Instituto Musical Giner\, en la Universidad de valencia y en el Ciclo de Jóvenes Compositores (Líria) en 2015. \nEspecializada en el acompañamiento instrumental y de cantantes\, ha actuado junto a artistas como la soprano Jasmin Müller con quien ofreció una Gala lírica en el Museo Nacional de Cerámica en la ceremonia de apertura de la exposición "Valencia en Barro" en 2017. \nCabe destacar su actividad como docente en el Instituto Musical Giner y en el Conservatorio Profesional de Música "Francesc Penyarroja" de la Vall d'Uixó\, donde ha trabajado como profesora repertorista y profesora de piano y música de cámara. \nCartel:
URL:https://historico.ateneovalencia.es/evento/concierto-de-los-domingos-concierto-de-piano-de-isabel-masegoso/
LOCATION:Teatro Ateneo
CATEGORIES:Conciertos Domingos
ATTACH;FMTTYPE=image/jpeg:https://historico.ateneovalencia.es/wp-content/uploads/2021/04/20210425-Concierto-Isabel-Masegoso.jpg
END:VEVENT
END:VCALENDAR