BEGIN:VCALENDAR
VERSION:2.0
PRODID:-//Ateneo Mercantil de Valencia - ECPv6.0.4//NONSGML v1.0//EN
CALSCALE:GREGORIAN
METHOD:PUBLISH
X-WR-CALNAME:Ateneo Mercantil de Valencia
X-ORIGINAL-URL:https://historico.ateneovalencia.es
X-WR-CALDESC:Eventos para Ateneo Mercantil de Valencia
REFRESH-INTERVAL;VALUE=DURATION:PT1H
X-Robots-Tag:noindex
X-PUBLISHED-TTL:PT1H
BEGIN:VTIMEZONE
TZID:Europe/Madrid
BEGIN:DAYLIGHT
TZOFFSETFROM:+0100
TZOFFSETTO:+0200
TZNAME:CEST
DTSTART:20210328T010000
END:DAYLIGHT
BEGIN:STANDARD
TZOFFSETFROM:+0200
TZOFFSETTO:+0100
TZNAME:CET
DTSTART:20211031T010000
END:STANDARD
END:VTIMEZONE
BEGIN:VEVENT
DTSTART;TZID=Europe/Madrid:20210411T113000
DTEND;TZID=Europe/Madrid:20210411T133000
DTSTAMP:20260425T182023
CREATED:20210406T083916Z
LAST-MODIFIED:20210406T094146Z
UID:63287-1618140600-1618147800@historico.ateneovalencia.es
SUMMARY:Concierto del grupo vocal y piano Lutz Cavero
DESCRIPTION:El Ciclo Conciertos de los Domingos regresa el próximo domingo 11 de abril a las 11.30 horas con el concierto del grupo vocal y piano Lutz Cavero. El socio del Ateneo Mercantil de Valencia\, Daniel Cavero\, encabeza este grupo artístico que lo forman su mujer Nilda Lutz y sus dos hijas Eliette y Solenne Cavero. Un concierto en el que se podrán escuchar canciones de muchos y diferentes estilos musicales... todas con un punto en común\, temas que emocionan y despiertan sentimientos verdaderos.  \nCurrículum \nEl grupo artístico LUTZ CAVERO surge como dúo en 1980 en Argentina. Sus miembros fundadores\, Nilda Lutz y Daniel Cavero terminaron en ese país latinoamericano el profesorado de música con especialidad en canto y piano respectivamente. De 1983 a 1988 desarrollaron en Chile su carrera de concertistas y profesores. Desde 1989 a 1999 terminaron estudios superiores de canto y piano en Ginebra y Máster en Musicología por la Sorbona (Daniel)\, recorriendo toda Europa dando recitales como solistas\, en dúo y en diversas agrupaciones instrumentales y corales (en Francia: Paris\, Palacio de Papas Avignon\, catedral de Chartre\, Lyon\, Montpellier\, Marsella\, Strasburgo; en Alemania: Berlin\, Munich\, Köln; en Suiza: Ginebra\, Berna\, Lausanne\, Basilea\, Zurich\, Lugano\, etc; en España: Madrid\, Barcelona\, Bilbao\, Santander\, Granada\, Valencia\, etc.). \nDesde 1999 hasta hoy desarrollan sus dos facetas de concertistas y pedagogos en Valencia\, donde dirigen actualmente cinco agrupaciones corales y la Asociación Mestre Serrano. Sus hijas\, Eliette y Solenne Cavero\, se han incorporado al grupo desde 2001. Eliette es logopeda\, master en musicoterapia y profesora de canto. Solenne es licenciada en comunicación y relaciones públicas. Las dos con amplia experiencia como solistas y en diferentes agrupaciones vocales\, con las que han presentado conciertos en España\, Francia\, Portugal y Suiza. \nDaniel Cavero es socio del Ateneo Mercantil de Valencia. Nació en Buenos Aires\, rodeado de alumnos de piano y su madre Naralia como profesora desde los tres años. A los 12 dio su primer concierto en el teatro Mentruit de Lomas de Zamora. Continuó sus estudios musicales en la provincia de Entre Ríos\, donde obtuvo el título de Profesor Nacional de Música con especialidad piano en el CAP. Desde los 15 años desarrolló múltiples actividades musicales\, como pianista\, pianista acompañante\, director de coro y compositor. Desde 1982 hasta 1988 trabajó en el CACH como profesor de piano y director de coro\, junto a su esposa Nilda Lutz Streuli\, profesora de canto. Estudió y trabajó en Francia y Suiza\, donde obtuvo el diploma de Estudios Terminales de Piano en Ginebra\, Suiza; y el Master en Musicología en La Sorbona\, Paris. También desarrolló estudios de clavecín (Christine Jacottet) y órgano (Anne Bargibant). En Francia nacieron sus hijas Eliette (1989) y Solenne (1994) y allí trabajó como director de la Escuela de Música de Collonges sous Saleve. Realizó en este periodo unos 500 conciertos como pianista\, pianista acompañante y director de coros en Francia\, Suiza\, Alemania\, Bélgica y España. Desde 1998 reside en Sagunto donde ejerce como profesor de música (Lenguaje musical\, piano\, clavecín\, órgano\, dirección coral). Preside la Asociación Aula Mestre Serrano\, que divulga y promueve la música de compositores valencianos. Dirige seis coros y grupos vocales diferentes. El grupo vocal familiar LUTZ CAVERO\, que dirige musicalmente y acompaña al piano\, desarrolló una actividad musical ininterrumpida desde 1980 con diversos estilos (Sacro\, ópera\, zarzuela\, bandas sonoras\, etc) en Argentina\, Chile\, España\, Francia\, Suiza\, Alemania\, etc. \nActualmente después de haber sobrevivido al Covid19 (80 días hospitalizados\, de los cuales 45 en la UCI) está desarrollando su vida profesional exclusivamente Online\, con cursos en Europa y América\, música y recitales en directo en varias redes y aplicaciones. \nPrograma:\nIN MEMORIAM: Por los que estamos\, por los que se han ido. \nI. PIANO SOLO \n\nRapsodia Valenciana\, Penella\nEl Fallero\, Serrano\nPaquito El Chocolatero\, Falcó\nValencia\, Padilla\nGitana\, Serrano\n\nII. GUITARRA Y PIANO \n\nPiezas Para Dos\, Schwertberger ( Moderato\, Lento)\n\nIII. TRÍO VOCAL Y PIANO \n\nSanctus\, Pachelbel\nAve Verum\, Vasilov\nPie Jesu\, Webber\nUn Lugar Muy Hermoso\, Arlen\nThe Prayer\, Bayer Sager\n\nIV. TRÍO VOCAL\, GUITARRA Y PIANO \n\nHimno Valencia\, Serrano\n\nSOLENNE CAVERO - 1era Soprano\nNILDA LUTZ - 2da Soprano\nELIETTE CAVERO - Mezzo-soprano\nGABRIEL ANTUNEZ - Guitarras\nDANIEL CAVERO - Piano y dirección \nCartel:
URL:https://historico.ateneovalencia.es/evento/concierto-del-grupo-vocal-y-piano-lutz-cavero/
LOCATION:Teatro Ateneo
CATEGORIES:Conciertos Domingos
ATTACH;FMTTYPE=image/jpeg:https://historico.ateneovalencia.es/wp-content/uploads/2021/04/20210411-Concierto-Domingo-Lutz-Cavero.jpg
END:VEVENT
END:VCALENDAR