BEGIN:VCALENDAR
VERSION:2.0
PRODID:-//Ateneo Mercantil de Valencia - ECPv6.0.4//NONSGML v1.0//EN
CALSCALE:GREGORIAN
METHOD:PUBLISH
X-ORIGINAL-URL:https://historico.ateneovalencia.es
X-WR-CALDESC:Eventos para Ateneo Mercantil de Valencia
REFRESH-INTERVAL;VALUE=DURATION:PT1H
X-Robots-Tag:noindex
X-PUBLISHED-TTL:PT1H
BEGIN:VTIMEZONE
TZID:Europe/Madrid
BEGIN:DAYLIGHT
TZOFFSETFROM:+0100
TZOFFSETTO:+0200
TZNAME:CEST
DTSTART:20210328T010000
END:DAYLIGHT
BEGIN:STANDARD
TZOFFSETFROM:+0200
TZOFFSETTO:+0100
TZNAME:CET
DTSTART:20211031T010000
END:STANDARD
END:VTIMEZONE
BEGIN:VEVENT
DTSTART;TZID=Europe/Madrid:20210314T113000
DTEND;TZID=Europe/Madrid:20210314T140000
DTSTAMP:20260425T210204
CREATED:20210119T093442Z
LAST-MODIFIED:20210303T114352Z
UID:61782-1615721400-1615730400@historico.ateneovalencia.es
SUMMARY:Concierto de los Domingos: Ciclo Amadeus VII Concierto de Piano: Cristina y Carlos Aracil
DESCRIPTION:Nuevo recital de música dentro del Ciclo de Conciertos de los Domingos que organiza el Ateneo Mercantil de Valencia que será el próximo domingo 14 de marzo a las 11.30 horas en el Salón de Actos. Un concierto dentro del Ciclo Amadeus VII de piano que trae a dos jóvenes hermanos oriolanos como son Cristina y Carlos Aracil. Estos jóvenes cuentan con una extensa trayectoria musical\, pese a su corta edad\, repleta de importantes y prestigiosos premios. \nRecordar que el aforo del Salón de Actos del Ateneo estará limitado por las restricciones marcadas por la Conselleria de Sanidad. Así\, que una vez completo el aforo reducido\, no se dejará entrar a nadie más. Es obligatorio el uso de la mascarilla en nuestro edificio\, las butacas del teatro están delimitadas para asegurar que se mantiene la distancia de seguridad\, además\, el espacio permanecerá ventilado\, se tomará la temperatura a la entrada del edificio y habrá dispensadores de gel hidroalcohólico también a la entrada del teatro. Ante cualquier duda puede consultar nuestra Normativa COVID19 en Ateneo Mercantil de Valencia. \nRepertorio del Concierto\nCARLOS ARACIL ALMARCHA \n\nEstudio Nº 12 Op. 1.         LISZT.\nRapsodia Nº 2 Op. 79       BRAHMS\n8 Valses Poéticos.              E. GRANADOS.\n\n CRISTINA ARACIL ALMARCHA \n\nEstudio Nº 12. Op. 8       SCRIABIN.\nPreludio Nº 5 Op. 23.     RACHMANINOFF\nBalada Nº 2.                     LISZT.\n\nOBRAS  PIANO DUO \n\nBilder Aus Osten Op. 66 Nº 1 y Nº 4          SHUMANN\nDanza Húngara Nº 4                                     BRAHMS\n\nLos hermanos Aracil\n\nCurriculum de Cristina Aracil\nCurriculum de Carlos Aracil\n\nCartel:
URL:https://historico.ateneovalencia.es/evento/ciclo-amadeus-concierto-de-piano-ateneo-valencia-cristina-y-carlos-aracil/
LOCATION:Teatro Ateneo
CATEGORIES:Conciertos Domingos
ATTACH;FMTTYPE=image/jpeg:https://historico.ateneovalencia.es/wp-content/uploads/2021/01/20210207-Conciertos-Domingos-Piano-Aracil.jpg
END:VEVENT
END:VCALENDAR