BEGIN:VCALENDAR
VERSION:2.0
PRODID:-//Ateneo Mercantil de Valencia - ECPv6.0.4//NONSGML v1.0//EN
CALSCALE:GREGORIAN
METHOD:PUBLISH
X-WR-CALNAME:Ateneo Mercantil de Valencia
X-ORIGINAL-URL:https://historico.ateneovalencia.es
X-WR-CALDESC:Eventos para Ateneo Mercantil de Valencia
REFRESH-INTERVAL;VALUE=DURATION:PT1H
X-Robots-Tag:noindex
X-PUBLISHED-TTL:PT1H
BEGIN:VTIMEZONE
TZID:Europe/Madrid
BEGIN:DAYLIGHT
TZOFFSETFROM:+0100
TZOFFSETTO:+0200
TZNAME:CEST
DTSTART:20250330T010000
END:DAYLIGHT
BEGIN:STANDARD
TZOFFSETFROM:+0200
TZOFFSETTO:+0100
TZNAME:CET
DTSTART:20251026T010000
END:STANDARD
END:VTIMEZONE
BEGIN:VEVENT
DTSTART;TZID=Europe/Madrid:20250112T113000
DTEND;TZID=Europe/Madrid:20250112T130000
DTSTAMP:20260424T041945
CREATED:20250107T182107Z
LAST-MODIFIED:20250107T182108Z
UID:82616-1736681400-1736686800@historico.ateneovalencia.es
SUMMARY:Música en el Ateneo: Concierto gratuito del Grupo de Cámara del CSMC
DESCRIPTION:La Fundación del Ateneo Mercantil de la Comunidad Valenciana continúa promoviendo la cultura musical con un nuevo concierto dentro del Ciclo Música en el Ateneo. Este evento se celebrará el próximo domingo\, 12 de enero\, a las 11:30 horas en el Teatro Ateneo\, y contará con la participación de un talentoso Grupo de Cámara del Conservatorio Superior de Música 'Salvador Seguí' de Castellón. \nUn Viaje Sonoro Inolvidable\nEl concierto ofrece un repertorio cuidadosamente seleccionado que abarca diferentes épocas y estilos musicales\, transportando al público en un recorrido sonoro lleno de colores\, matices y sensaciones. Los jóvenes intérpretes del conservatorio demostrarán su destreza y pasión por la música en piezas de grandes compositores como Beethoven\, Debussy\, Shostakovich y Dvořák\, entre otros. \nPrograma del Concierto\n\nTrío en Sol mayor\, Op.1 No.2 – L. van Beethoven\n\nÓscar Besó\, Vicent Botella\, Álvaro Giménez\n\n\nCuarteto en Sol menor\, Op.10 – Claude Debussy\n\nAltea Carrascosa\, Elena Sánchez\, Lucía Albort\, Clara Cobe\n\n\nTrío en Mi menor\, Op.67 No.2 – D. Shostakovich\n\nAltea Carrascosa\, Christos Cahztinathanail\, Marta Talamantes\n\n\nQuinteto en La mayor\, Op.81 No.2 – Antonín Dvořák\n\nElena Sancho\, Pablo Benito\, Andreu Monllor\, Dani Madrid\, Aitana Moya\n\n\nTrío Kebach - Andrea Siurana Renau\, Christos Cahztinathanail\, Kevin Ibáñez Palanques\n\nL. v. Beethoven: Trío en Sib M\, Op.11 "Gassenhauer trio"\nAllegro con brio | Adagio | Tema con variazioni. Allegretto\n\n\nSaxers Quartet - Daniel Vilanova\, Joan Pérez\, Sergi Garcia\, Jordi Flich\n\nD. Maslanka: Songs for the Coming Day\nVIII. The soul is here for its own joy\n\n\nVents de la Plana - Damian Ruiz\, Pau Gallardo\, Raúl Tena\, Josep Domenech\n\nA. Uhl: Divertimento\n\n\n\nDetalles del Evento\n\n📅 Fecha: Domingo\, 12 de enero de 2025\n⏰ Hora: 11:30 h\n📍 Lugar: Teatro Ateneo\, Ateneo Mercantil de Valencia\n🎟️ Entrada: Gratuita hasta completar aforo\n\nEste evento cuenta con la coordinación de Manuel Camarasa\, responsable del Ciclo Música en el Ateneo. No pierdas la oportunidad de disfrutar de este concierto único que destaca el talento joven y la excelencia musical. ¡Te esperamos! \nCartel:
URL:https://historico.ateneovalencia.es/evento/musica-en-el-ateneo-concierto-gratuito-del-grupo-de-camara-del-csmc/
CATEGORIES:Conciertos Domingos
ATTACH;FMTTYPE=image/jpeg:https://historico.ateneovalencia.es/wp-content/uploads/2025/01/20250112-Musica-en-el-Ateneo-Grupo-de-Camara-CSMC.jpg
END:VEVENT
BEGIN:VEVENT
DTSTART;TZID=Europe/Madrid:20250119T113000
DTEND;TZID=Europe/Madrid:20250119T130000
DTSTAMP:20260424T041945
CREATED:20250113T110354Z
LAST-MODIFIED:20250113T111744Z
UID:82720-1737286200-1737291600@historico.ateneovalencia.es
SUMMARY:Música en el Ateneo: Aula de Piano ESMAR de Rubén Talón
DESCRIPTION:El Ciclo Música en el Ateneo presenta un recital extraordinario a cargo del Aula de Piano ESMAR de Rubén Talón. Este concierto gratuito nos invita a un viaje a través del repertorio pianístico compuesto entre los siglos XVIII y XX\, una experiencia única para comprender la Historia de la Música en todo su esplendor. \n🎹 Concierto Gratuito en el Ateneo Mercantil de Valencia \n📅 Fecha: Domingo\, 19 de enero de 2025\n🕥 Hora: 11:30 h\n📍 Lugar: Teatro Ateneo\, Ateneo Mercantil de Valencia (Plaza del Ayuntamiento\, 18\, Valencia) \nEl repertorio abarca desde las formas preclásicas para instrumentos de tecla\, hasta obras maestras del piano consolidado en el siglo XX. Los jóvenes intérpretes del aula de Rubén Talón\, provenientes de Europa y América\, mostrarán su virtuosismo y versatilidad en un programa que incluye: \n\nLUCÍA LÓPEZ CAÑADA\n\nF. Ferrán: La Maggiorana\nA. Grünfeld: Soirée de Vienne\n\n\nPABLO RASKKIN\n\nW.A. Mozart: Sonata en Do menor KV. 457 (1)\nC. Debussy: Pour le piano (3)\n\n\nPABLO FRÍAS\n\nV. Alkan: Festin d'Esope\n\n\nMARCO REYES\n\nLiszt: Reminiscencias de Norma\n\n\n\nEl aula dirigida por el reconocido pianista internacional Rubén Talón se ha consolidado como un referente de la escuela pianística valenciana. Con jóvenes talentos de diversos países\, esta formación está marcando el panorama concertístico contemporáneo\, llevando el nombre de Valencia al mundo. \n✨ No te pierdas esta cita musical única!\nAcceso gratuito hasta completar el aforo. \nCartel:
URL:https://historico.ateneovalencia.es/evento/musica-en-el-ateneo-aula-de-piano-esmar-de-ruben-talon/
LOCATION:Teatro Ateneo
CATEGORIES:Conciertos Domingos
ATTACH;FMTTYPE=image/jpeg:https://historico.ateneovalencia.es/wp-content/uploads/2025/01/20250119-ESMAR-Musica-Ateneo-Recital-Piano.jpg
END:VEVENT
BEGIN:VEVENT
DTSTART;TZID=Europe/Madrid:20250126T113000
DTEND;TZID=Europe/Madrid:20250126T130000
DTSTAMP:20260424T041945
CREATED:20250120T085550Z
LAST-MODIFIED:20250120T085829Z
UID:82794-1737891000-1737896400@historico.ateneovalencia.es
SUMMARY:Ciclo Música en el Ateneo: Concierto gratuito 'Amber Quartet' del CSMV
DESCRIPTION:El Ciclo Música en el Ateneo presenta un concierto gratuito que no puedes perderte. En esta ocasión\, contamos con la actuación del Amber Quartet\, una talentosa agrupación formada por jóvenes músicos del Conservatorio Superior de Música "Joaquín Rodrigo" de Valencia. Disfruta de una mañana de música inolvidable con Amber Quartet. \n🗓 Fecha: Domingo\, 26 de enero de 2025\n⏰ Hora: 11:30 horas\n📍 Lugar: Teatro Ateneo Mercantil de Valencia\n🎟 Entrada: Libre y Gratuita \nSobre Amber Quartet\nFundado en 2024\, el Amber Quartet está compuesto por: \n\nCelia Latorre Torres (flauta)\nJoan Tarazona Berzosa (oboe)\nAngelina Martínez Tamayo (clarinete)\nPedro Ponce Fenollosa (piano)\n\nEstos prometedores intérpretes\, además de su formación avanzada\, forman parte de destacadas orquestas como la Jove Orquestra de la Generalitat Valenciana (JOGV) y la Orquestra Filarmónica de la Universitat de València (OFUV). Con una visión artística enfocada tanto en el repertorio clásico como en la promoción de compositores contemporáneos\, el Amber Quartet se ha consolidado como una de las agrupaciones jóvenes más interesantes del panorama musical actual. \nPrograma\nEl concierto presenta un recorrido por obras de diferentes épocas y estilos que destacan la versatilidad y virtuosismo de los instrumentos de viento-madera junto al piano. \n\nSuite for Flute\, Oboe\, Clarinet and Piano – Johan Amberg\nUn colorido viaje musical en tres movimientos que abre el programa con dinamismo y elegancia.\nMiniatures per a flauta\, oboe i clarinet – Ximo Tarín Micó\nUna obra contemporánea de siete movimientos que explora las emociones y las posibilidades tímbricas de esta formación.\nSonanta Appassionata – S. Karg-Elert\nUna pieza para flauta sola que combina virtuosismo técnico y expresividad\, mostrando la riqueza de este instrumento.\nJune Dances for Flute\, Oboe\, Clarinet and Piano – Salamon\nTres movimientos que rinden tributo a la danza\, con un último movimiento inspirado en el folclore de Bartók.\nCaprice sur des airs Danois et Russes\, op. 79 – Camille Saint-Saëns\nUna obra brillante y humorística que combina melodías populares danesas y rusas con el virtuosismo característico del compositor francés.\n\nNo te lo pierdas\nVen al Teatro Ateneo y disfruta de una experiencia única en compañía de uno de los cuartetos jóvenes más prometedores. ¡Te esperamos! \nCartel:
URL:https://historico.ateneovalencia.es/evento/ciclo-musica-en-el-ateneo-concierto-gratuito-amber-quartet/
LOCATION:Teatro Ateneo
CATEGORIES:Conciertos Domingos
ATTACH;FMTTYPE=image/jpeg:https://historico.ateneovalencia.es/wp-content/uploads/2025/01/20250126-Amber-Quartet-CSMV.jpg
END:VEVENT
END:VCALENDAR