BEGIN:VCALENDAR
VERSION:2.0
PRODID:-//Ateneo Mercantil de Valencia - ECPv6.0.4//NONSGML v1.0//EN
CALSCALE:GREGORIAN
METHOD:PUBLISH
X-ORIGINAL-URL:https://historico.ateneovalencia.es
X-WR-CALDESC:Eventos para Ateneo Mercantil de Valencia
REFRESH-INTERVAL;VALUE=DURATION:PT1H
X-Robots-Tag:noindex
X-PUBLISHED-TTL:PT1H
BEGIN:VTIMEZONE
TZID:Europe/Madrid
BEGIN:DAYLIGHT
TZOFFSETFROM:+0100
TZOFFSETTO:+0200
TZNAME:CEST
DTSTART:20240331T010000
END:DAYLIGHT
BEGIN:STANDARD
TZOFFSETFROM:+0200
TZOFFSETTO:+0100
TZNAME:CET
DTSTART:20241027T010000
END:STANDARD
END:VTIMEZONE
BEGIN:VEVENT
DTSTART;TZID=Europe/Madrid:20240601T120000
DTEND;TZID=Europe/Madrid:20240601T133000
DTSTAMP:20260425T131723
CREATED:20240525T094259Z
LAST-MODIFIED:20240526T063350Z
UID:78093-1717243200-1717248600@historico.ateneovalencia.es
SUMMARY:XXI Campaña de Conciertos Intercambios Culturales: Agrupación Coral Jesús-María y Coral Ramón Ibars Mislata
DESCRIPTION:El Teatro Ateneo acoge este próximo sábado 1 de junio a las 12 horas del mediodía\, el intercambio cultural de dos grandes corales de la provincia de Valencia como son la Agrupación Coral Jesús-María y la Coral Ramón Ibars de Mislata\, dentro de la XXI Campaña de Conciertos Intercambio Culturales que de viene desarrollando desde el pasado 29 de marzo de 2024 y que durará hasta el próximo 13 de octubre de este año. \nUn evento que está organizado y patrocinado por la Vicepresidència Primera i Conselleria de Cultura i Esport de la Generalitat Valenciana\, por el Institut Valencià de Cultura\, la Federación de Sociedades Musicales de la Comunidad Valenciana\, la Federació de Cors de la Comunitat Valenciana\, la Federació Valenciana de Dolçainers/res i Tabaletters/res\, la Federació de Folklore de la Comunitat Valenciana\, la Federació de Orquestes i Rondalles\, de Pols i Pua de la Comunitat Valenciana y por los Intercambios Culturales. \nPrograma:\nCoral Ramón Ibars Mislata:\nEnamorat de tu | Elvis Presley \nMas vale Trocar | J de la Encina \nSolamente una vez | A. Lara \nMorena me llaman | C. Esbrí \nBarbara Ann | F. Fassert \nEsta Tierra | J. Busto \nVarem lo llaut | Pop. Vinarossença \nSalió de Jamica | M. A. Viró \nDirector: Eslava Volontir \n  \nAgrupació Coral Jesús-María:\nCantares | Arm. Liliana Canciano \nEl carrer de l'ermita | Arm.Diego Ramon i Lluch \nQue tinguem sort | Arm. Jordi Blanch \nMareta\, mareta | Rafael Talens \nEres tú | Juan Carlos Calderón \nChiquitita |Arm. Rafa Cifre \nUnchained Melody | Alex North \nHabanera Salada | Ricardo Lafuente \nUn beso y una flor | Arm. Constanti Sotelo \nDirector: Rafa Cifre Delgado \n\nCanto Común de las dos Corales: El Reloj | Roberto Cantoral\nCartel:
URL:https://historico.ateneovalencia.es/evento/xxi-campana-de-conciertos-intercambios-culturales-agrupacion-coral-jesus-maria-y-coral-ramon-ibars-mislata/
LOCATION:Teatro Ateneo
CATEGORIES:Conciertos Domingos
ATTACH;FMTTYPE=image/jpeg:https://historico.ateneovalencia.es/wp-content/uploads/2024/05/20240601-Intercambio-Coral.jpg
END:VEVENT
BEGIN:VEVENT
DTSTART;TZID=Europe/Madrid:20240602T113000
DTEND;TZID=Europe/Madrid:20240602T130000
DTSTAMP:20260425T131723
CREATED:20240218T094201Z
LAST-MODIFIED:20240526T083317Z
UID:76856-1717327800-1717333200@historico.ateneovalencia.es
SUMMARY:Música en el Ateneo: "Ópera" por el Máster de Interpretación Operística del CSMV
DESCRIPTION:La Fundación del Ateneo Mercantil de la CV ha organizado un nuevo concierto gratuito en el Teatro Ateneo para el próximo domingo 2 de junio de 2024 a las 11.30 horas. En esta ocasión contaremos con la participación del Máster de Interpretación Operística del Conservatorio Superior de Música "Joaquín Rodrigo" de Valencia\, que nos ofrecerán una Ópera con un programa musical variado desde el Clasicismo de Mozart hasta llegar a Verdi\, pasando por el Belcanto italiano de Rossini y Donizetti\, unas interesantes piezas de autores rusos\, alemanes\, ópera francesa\, y el americano Leonard Bersntein. \nEl Máster de Interpretación Operística del CSMV está orientado al cantante solista de ópera. Su objetivo es tender un puente entre la finalización de los estudios superiores y el comienzo de la vida profesional\, dando la posibilidad de recibir la orientación y ayuda para encauzar su carrera artística. Durante sus 11 años de andadura el Máster ha producido las siguientes óperas: Carmen de Bizet\, Lucia di Lammermoor de Donizetti\, Rinaldo y Alcina de Händel\, Le nozze di Fígaro\, Cosí fan tutte y Die Zauberflöte de Mozart\, The medium y The telephone de Menotti\, Les contes d’Hoffmann de Offenbach\, The fairy Queen de Purcell\, L'enfant et les sortilèges de Ravel\,  Der Fledermaus de J. Strauss\, Bohemios de Vives\, Il segreto di Susanna de Wolf-Ferrari y las óperas de los valencianos Vicente Martín i Soler\, Una cosa rara y Dulcinea XL (estreno en España) de Juanjo Colomer. En el curso 2023-24 se ha representado la recuperación de la ópera de Vivaldi L’Adelaide y Il viaggio a Reims de Rossini. \nEn el concierto de hoy podremos escuchar\, en primer lugar\, fragmentos de la llamada “Trilogía da Ponte”\, formada por Le nozze di Figaro\, Don Giovanni y Così fan tutte; tres óperas cumbre de la obra mozartiana. A continuación\, nos adentramos en el belcanto italiano con la obra de Bellini I Capuletti e I Montecchi\, basada en el “Romeo y Julieta” de Shakespeare; seguido de la chispeante La cenerentola de Rossini\, obra maestra de la ópera cómica.  Con Lucia di Lammermoor\, Donizetti consolidó su prestigio como compositor dramático. \nEl estilo de Tchaikovsky está caracterizado por la música lírica\, bailes y melodías folclóricas. En esa línea compuso Evgeni Onegin\, su obra maestra. Le siguieron Orleanskaya deva (“La doncella de Orleans”)\, y Píkovaya dama (“La dama de picas”). Rimski-Kórsakov\, destacó por su dominio de la orquesta y sus evocadoras armonías\, en Snegurochka (“La doncella de nieve”) la protagonista anhela la compañía de humanos mortales\, pero en cuanto se enamora\, se le calienta el corazón y se derrite. \nCandide\, opereta cómica compuesta por Bernstein\, se basa en la novela homónima de Voltaire. Su protagonista\, Cunegunda\, en esta aria reflexiona… “perlas\, anillos de rubíes y collares ¿pueden compensar la pérdida de la dignidad?”. \nA mediados del s. XIX\, Gounod y Bizet inician la carrera de compositores franceses a los que seguirán Thomas\, Delibes o Saint-Saëns\, autores receptivos a las nuevas influencias musicales. Basándose en la gran obra de Shakespeare\, Thomas creó su ópera Hamlet. \nGiuseppe Verdi es considerado uno de los compositores de ópera más influyentes de todos los tiempos. Su carrera comprendió más de medio siglo\, y en estos años creó un repertorio realmente amplio y emocionante\, como las obras de este concierto. \nPor su parte\, Giacomo Puccini\, del que se conmemora este año el centenario de su nacimiento\, se alejó de la tendencia verista de los sucesores de Verdi para crear su propio estilo; buscando la máxima síntesis dramática y la dosificación exacta de los tiempos teatrales sobre el recorrido emotivo del espectador. \nIntérpretes: \nSopranos: Marina Cerdán\, Carmen Portela\, María Rouillé y Ruslana Yakovleva \nMezzosoprano: Carmen Lázaro \nTenores: Gabriel Álvarez y Gaetano Amore \nBarítono: Mario Guiot \nBajo: Erick Valverde \nPiano: Miquel Carbonell y Diego Sánchez \nPrograma:\nLe nozze di Figaro | Wolfgang Amadeus Mozart (1756-1791) \n“Vía resti servita” \n\nMaría Rouillé\, Carmen Lázaro\n\n  \nDon Giovanni \n“Notte e giorno faticar” \n\nErick Valverde\n\n  \nCosí fan tutte  \n“Smanie implacabili” \n\nCarmen Lázaro\n\n  \n“Rivolgete a lui lo sguardo” \n\nMario Guiot\n\n  \nI Capuletti e I Montecchi |  Vincenzo Bellini (1801-1835) \n“Eccomi in lieta vesta… O quante volte” \n\nMaría Rouillé\n\n  \nLucia di Lammermoor | Gaetano Donizetti (1797-1848) \n“Tomba degli’avi mieri… Fra poco a me ricovero” \n\nGabriel Álvarez\n\n  \nLa cenerentola | Gioacchino Rossini (1792-1868) \n“Nacqui all’affanno… Non piú mesta” \n\nCarmen Lázaro\n\n  \nLa doncella de Orleáns | Piotr Ilich Tchaikovski (1840-1893) \n“Prostite vy” \n\nRuslana Yakovleva\n\n  \nSimon Boccanegra | Giuseppe Verdi (1813-1901) \n“Il lacerato spirito” \n\nErick Valverde\n\n  \nLa Boheme | Giacomo Puccini (1858-1924) \n“Che gélida manina” \n\nGaetano Amore\n\n  \nCandide | Leonard Bernstein (1918-1990) \n“Glitter and be gay” \n\nCarmen Portela\n\n  \nLa doncella de nieve | Nikolái Rimski-Kórsakov (1844-1908) \n“Aria de Snegurochka” \n\nRuslana Yakovleva\n\n  \nHamlet | Ambroise Thomas (1811-1896) \n“O vin\, dissipe la tristesse” \n\nMario Guiot\n\n  \n“Doute de la lumière” \n\nCarmen Portela\, Mario Guiot\n\n  \nLa Traviata | Giuseppe Verdi (1813-1901) \n“È strano… Ah\, fors’è lui” \n\nMaría Cerdán\n\n  \n“Parigi o\, cara… Gran Dio morir si giovine” \n\nGabriel Álvarez\, María Cerdá\n\n Cartel:
URL:https://historico.ateneovalencia.es/evento/musica-en-el-ateneo-opera-por-el-master-de-interpretacion-operistica-del-csmv/
LOCATION:Teatro Ateneo
CATEGORIES:Conciertos Domingos
ATTACH;FMTTYPE=image/jpeg:https://historico.ateneovalencia.es/wp-content/uploads/2024/02/20240225-Concierto-Opera-CSMV.jpg
END:VEVENT
BEGIN:VEVENT
DTSTART;TZID=Europe/Madrid:20240609T110000
DTEND;TZID=Europe/Madrid:20240609T130000
DTSTAMP:20260425T131723
CREATED:20240602T201814Z
LAST-MODIFIED:20240603T071432Z
UID:78204-1717930800-1717938000@historico.ateneovalencia.es
SUMMARY:Música en el Ateneo: Concierto de Piano de Antonio Fontales "Just a Dreamer"
DESCRIPTION:Vuelve a visitarnos Antonio Fontales\, un artista habitual en el Ateneo Mercantil de Valencia. Si te gusta la música de piano romántica y descubrir nuevos autores\, no te pierdas este concierto donde la emoción\, la pasión y la melancolía se entrelazan llevándote a un mundo donde los sentimientos y las sensaciones flotan en el ambiente\, impregnado con cada nota del piano. \n"Just a Dreamer" es el título de su nuevo álbum de música para piano publicado por el compositor y concertista Antonio Fontales\, y que así mismo da nombre a la Gira 2024 del autor. En el recital\, además de los temas de "Just a Dreamer"\, presenta una selección de sus últimas composiciones para este instrumento\, incluidas en sus álbumes "Desde muy adentro"\, "Me lo contó el alba" e "Indoors". \nEl Ateneo Mercantil de Valencia y la Fundación del Ateneo Mercantil de la CV organizan el concierto "Just a Dreamer" dentro del Ciclo Música en el Ateneo\, que son un serial de conciertos gratuitos que todos los domingos se celebran en nuestro Teatro Ateneo. En esta ocasión será el domingo 9 de junio de 2024 a lasa 11 horas de la mañana. \nBreve biografía del autor:\nAntonio Fontales estudia piano y composición en el Real Conservatorio Superior de Música de Madrid. Fue alumno de Ignacio de la Campa\, Manuel Carra\, Carmelo Bernaola\, Amando Blanquer y Monserrat Bellés entre otros. Además de profesor de piano y composición\, es Licenciado en TEB (Humanidades). \nEs un artista polifacético\, que ha estudiado también realización audiovisual\, siendo guionista y director de cine. Ha rodado cuatro largometrajes y una serie de ficción. Así mismo\, ha publicado cuatro novelas y un poemario. Y como compositor ha realizado música para orquesta\, de cámara y para piano\, así como bandas sonoras para el cine. Fue Premio Tirant por la mejor banda sonora original. \nSu estilo musical bien podría enmarcarse dentro del actual neoclasicismo\, por el eclepticismo creativo característico del s. XXI. En ocasiones presenta tintes de música minimalista pero su característica sobresaliente es un neoromanticismo lleno de sensibilidad y pasión. Actualmente presenta sus composiciones por prestigiosas salas de concierto. \nPrograma:\n\nAmanecer junto a ti\nSonrisas que se fueron\nCuando tu me miras\nDouce Emma\nLonely heart\nDesengaño\nVivir en tus besos\nAmantes\nAdriana\nJust a dreamer\n\nCartel:
URL:https://historico.ateneovalencia.es/evento/musica-en-el-ateneo-concierto-de-piano-de-antonio-fontales-just-a-dreamer/
LOCATION:Teatro Ateneo
CATEGORIES:Conciertos Domingos
ATTACH;FMTTYPE=image/jpeg:https://historico.ateneovalencia.es/wp-content/uploads/2024/06/ANTONIO-FONTALES-_-PIANO-_-JUST-A-DREAMER.jpg
END:VEVENT
END:VCALENDAR