BEGIN:VCALENDAR
VERSION:2.0
PRODID:-//Ateneo Mercantil de Valencia - ECPv6.0.4//NONSGML v1.0//EN
CALSCALE:GREGORIAN
METHOD:PUBLISH
X-WR-CALNAME:Ateneo Mercantil de Valencia
X-ORIGINAL-URL:https://historico.ateneovalencia.es
X-WR-CALDESC:Eventos para Ateneo Mercantil de Valencia
REFRESH-INTERVAL;VALUE=DURATION:PT1H
X-Robots-Tag:noindex
X-PUBLISHED-TTL:PT1H
BEGIN:VTIMEZONE
TZID:Europe/Madrid
BEGIN:DAYLIGHT
TZOFFSETFROM:+0100
TZOFFSETTO:+0200
TZNAME:CEST
DTSTART:20240331T010000
END:DAYLIGHT
BEGIN:STANDARD
TZOFFSETFROM:+0200
TZOFFSETTO:+0100
TZNAME:CET
DTSTART:20241027T010000
END:STANDARD
END:VTIMEZONE
BEGIN:VEVENT
DTSTART;TZID=Europe/Madrid:20240107T113000
DTEND;TZID=Europe/Madrid:20240107T130000
DTSTAMP:20260425T224444
CREATED:20240102T092647Z
LAST-MODIFIED:20240102T113302Z
UID:76231-1704627000-1704632400@historico.ateneovalencia.es
SUMMARY:Música en el Ateneo: Concierto gratuito del Aula de Clarinete - ESMAR
DESCRIPTION:La Fundación del Ateneo Mercantil de la CV organiza de manera conjunta con la Escuela Superior de Música de Alto Rendimiento - ESMAR un concierto gratuito este domingo 7 de enero a las 11.30 horas en el Teatro Ateneo. Un evento que contará con la participación del Aula de Clarinete - ESMAR que dirige el profesor Juan Luis Puelles y que contará con los siguientes intérpretes: \nEl Trio Cliria: Laia Maresma\, Carla Calvo y Ana Rashkova. Mientras que también participarán de manera individual: Mª Mercedes Aras\, Celia Martínez\, Adriana Catalá y\, de nuevo\, Laia Maresma. \nPROGRAMA: \n\nTrio Cliria\n\nTrio V Op.114 - Brahms \nAllegro y Adagio \n\nMª Mercedes Aras\n\nSonata 1 - Brahms \n\nCelia Martínez\n\nSonata - Berstein \n\nAdriana Catalá\n\nSolo de concours - A. Messager \n\nLaia Maresma\n\nFantasías - Schumann \nCartel:
URL:https://historico.ateneovalencia.es/evento/musica-en-el-ateneo-concierto-gratuito-del-aula-de-clarinete-esmar/
LOCATION:Teatro Ateneo
CATEGORIES:Conciertos Domingos
ATTACH;FMTTYPE=image/jpeg:https://historico.ateneovalencia.es/wp-content/uploads/2024/01/20240107-Aula-de-Clarinete.jpg
END:VEVENT
BEGIN:VEVENT
DTSTART;TZID=Europe/Madrid:20240121T113000
DTEND;TZID=Europe/Madrid:20240121T130000
DTSTAMP:20260425T224444
CREATED:20240119T122943Z
LAST-MODIFIED:20240119T122944Z
UID:76358-1705836600-1705842000@historico.ateneovalencia.es
SUMMARY:Música en el Ateneo: Concierto gratuito Aula de Piano ESMAR - Rubén Talón
DESCRIPTION:La Fundación del Ateneo Mercantil de la CV en colaboración con la Escuela Superior de Música de Alto Rendimiento ESMAR organizan un nuevo concierto gratuito dentro del Ciclo Música en el Ateneo en la que nos traen a los alumnos del Aula de Piano ESMAR - Rubén Talón hasta el Teatro Ateneo. \nLos intérpretes son nueve alumnos del Aula de Piano ESMAR que están cursando sus estudios bajo la dirección del prestigioso pianista internacional\, Rubén Talón. Los intérpretes del concierto son: Carles Rodríguez\, María Dolores Vidal\, Gastón Ruiz\, Sergio Vidaurre\, Carlos Barrachina\, Víctor Moreno\, Laura Cariñena\, Pablo Frías y Marco Reyes. \nRubén Talón\, jefe del departamento de Piano de Esmar\, ha creado una escuela de interpretación pianística de referencia en España y también en el extranjero con la que pretende brindar su magisterio y proporcionar herramientas eficaces a sus alumnos para afrontar su carrera artística y profesional. Talón ha conseguido contagiar a muchos pianistas la ilusión por una exigente formación de alto rendimiento. \nPor su parte\, ESMAR es una Escuela Superior de Música de Alto Rendimiento que imparte las enseñanzas superiores de música y cuenta ya con más de 250 alumnos que estudian una amplia oferta académica de titulaciones superiores y cursos de formación musical de nivel avanzado. ESMAR representa un nuevo modelo de educación musical basado en la excelencia\, que ofrece una formación integral para ejercer la profesión musical en la actualidad\, en sus diferentes especialidades: Interpretación\, Pedagogía\, Gestión e Investigación. \nConcierto: Aula de Piano ESMAR - Rubén Talón \nIntérpretes: Carles Rodríguez\, María Dolores Vidal\, Gastón Ruiz\, Sergio Vidaurre\, Carlos Barrachina\, Víctor Moreno\, Laura Cariñena\, Pablo Frías y Marco Reyes \nDía: Domingo\, 21 de enero de 2024 \nHora: 11.30 horas \nLugar: Teatro Ateneo \nEntrada libre y gratuita hasta completar aforo. \nPrograma:\n J. HAYDN (1732 - 1809) \n\nSonata N.23 (Movimientos 1 y 2)\n\nIntérprete: Carles Rodríguez \n\n\n\n GINASTERA (1916 - 1983) \n\nDanzas Argentinas \n\nIntérprete: María Dolores Vidal\n\n\n\n J. HAYDN (1732 - 1809) \n\nSonata N.20 (1er mov)\n\nIntérprete: Gastón Ruiz\n\n\n\nV. RACHMANINOV (1873 - 1943)  \n\nEstudio Op.39 N.5 \n\nIntérprete: Sergio Vidaurre\n\n\n\nV. ALKAN (1813 - 1888) \n\nLe Festin D’Ésope\n\nIntérprete: Carlos Barrachina\n\n\n\nRAVEL (1875 - 1937) \n\nOndine\, de Gaspard de la Nuit\nIntérprete: Víctor Moreno\n\nCHOPIN (1810 - 1849) \nSonata N.2 (Movimientos 2 y 3) \n\nIntérprete: Laura Cariñena\n\n Cartel:
URL:https://historico.ateneovalencia.es/evento/musica-en-el-ateneo-concierto-gratuito-aula-de-piano-esmar-ruben-talon/
LOCATION:Teatro Ateneo
CATEGORIES:Conciertos Domingos
ATTACH;FMTTYPE=image/jpeg:https://historico.ateneovalencia.es/wp-content/uploads/2024/01/20240121-Aula-Piano-ESMAR.jpg
END:VEVENT
BEGIN:VEVENT
DTSTART;TZID=Europe/Madrid:20240128T113000
DTEND;TZID=Europe/Madrid:20240128T130000
DTSTAMP:20260425T224444
CREATED:20240126T085731Z
LAST-MODIFIED:20240126T090304Z
UID:76516-1706441400-1706446800@historico.ateneovalencia.es
SUMMARY:Música en el Ateneo: Concierto gratuito del Coro de Cámara del CSMV
DESCRIPTION:La Fundación del Ateneo Mercantil de la CV en colaboración con el Conservatorio Superior de Música 'Joaquín Rodrigo' de Valencia organizan el próximo concierto del Ciclo Música en el Ateneo por el que está desfilando los mejores jóvenes músicos de conservatorio y escuelas de alto rendimiento de música. En esta ocasión el CSMV nos trae hasta el Teatro Ateneo al Coro de Cámara del conservatorio. \nEsta agrupación vocal está habitualmente compuesta por alumnado de Grado Superior de Canto de primer y segundo curso y unos pocos estudiantes de Dirección del Conservatorio Superior de Música “Joaquín Rodrigo” de Valencia\, que eligen realizar sus prácticas con la formación. A partir de un trabajo grupal el conjunto convive a fin de dotar con habilidades y conocimientos\, por un lado\, a los futuros profesionales de canto - capaces de responder vocal y musicalmente a los diferentes gestos -\, y por otro\, a los directores\, forjando criterios para la concertación de un conjunto coral. \nEl Coro de cámara del CSMV trata de afrontar obras corales de diferentes épocas\, respondiendo\, como mínimo\, a dos programas o producciones cada curso\, en solitario o en colaboración. Asimismo\, en los últimos dos años se encarga de los coros de la producción operística anual del conservatorio\, uno de los proyectos más importantes del centro y de un gran capital humano. \nEstá dirigido por la profesora Nadia Stoyanova\, además\, de los alumnos\, Álvaro Perez\, José V. Balaguer y Toni Ligero\, y está acompañado por un conjunto instrumental de alumnos (especialidad Interpretación) y profesores. \nPrograma del concierto:\nMAGNIFICAT  - Francesco Durante (1684-1755) \n\nMagnificat\nEt Misericordia\nDeposuit Potentes\nSuscepit Israel\nSicut Locutus Est\nSicut Erat in Principio \n\nSolistas: Inca Ripoll\, Silvia Beneyto\, Javier Cuenca y Agustín Tato.                    Director: Álvaro Pérez \n  \nMESSE DE MINUIT POUR NOËL - Marc A. Charpentier (1643-1704) \n\nKyrie\nGloria\nCredo\n\n Director: José V. Balaguer \n\nLaiseez paitre vos bêtes\nSanctus – Benedictus\nAgnus Dei\n\nDirector: Toni Ligero \nSolistas: Agustín Tato\, Alba Martínez\, Altea Guevara\, Clàudia Ros\, Francisco José Cruz\, Inca Ripoll\, Javier Cuenca\, Jay Rockwell\, José Manuel Higueras\, Marta Madrid y Silvia Beneyto.  \n  \n\nEnsemble instrumental: David Enguidanos – violín\, Marina Maties – violín\, Alexia Bartolomé – viola\, Cristina Cerezo – cello\, Rubén Valencia – flauta e Iván Gómez – flauta.\n\nProfesores: Carlos García-Bernalt – clave\, Francesc Gamón – maestro repetidor y Nadia Stoyanova – directora. \n\nDescarga el Programa de Mano\nCartel:\n \n 
URL:https://historico.ateneovalencia.es/evento/musica-en-el-ateneo-concierto-gratuito-del-coro-de-camara-del-csmv/
LOCATION:Teatro Ateneo
CATEGORIES:Conciertos Domingos
ATTACH;FMTTYPE=image/jpeg:https://historico.ateneovalencia.es/wp-content/uploads/2024/01/20240128-Concierto-Coro-Camara-CSMV.jpg
END:VEVENT
END:VCALENDAR