BEGIN:VCALENDAR
VERSION:2.0
PRODID:-//Ateneo Mercantil de Valencia - ECPv6.0.4//NONSGML v1.0//EN
CALSCALE:GREGORIAN
METHOD:PUBLISH
X-WR-CALNAME:Ateneo Mercantil de Valencia
X-ORIGINAL-URL:https://historico.ateneovalencia.es
X-WR-CALDESC:Eventos para Ateneo Mercantil de Valencia
REFRESH-INTERVAL;VALUE=DURATION:PT1H
X-Robots-Tag:noindex
X-PUBLISHED-TTL:PT1H
BEGIN:VTIMEZONE
TZID:Europe/Madrid
BEGIN:DAYLIGHT
TZOFFSETFROM:+0100
TZOFFSETTO:+0200
TZNAME:CEST
DTSTART:20250330T010000
END:DAYLIGHT
BEGIN:STANDARD
TZOFFSETFROM:+0200
TZOFFSETTO:+0100
TZNAME:CET
DTSTART:20251026T010000
END:STANDARD
END:VTIMEZONE
BEGIN:VEVENT
DTSTART;TZID=Europe/Madrid:20250601T183000
DTEND;TZID=Europe/Madrid:20250601T200000
DTSTAMP:20260423T130200
CREATED:20250501T145534Z
LAST-MODIFIED:20250503T084912Z
UID:83794-1748802600-1748808000@historico.ateneovalencia.es
SUMMARY:Ciclo Música en el Ateneo: Concierto gratuito - Aula de Oboe de ESMAR
DESCRIPTION:La Fundación del Ateneo Mercantil de la Comunidad Valenciana te invita a disfrutar de un nuevo concierto del Ciclo Música en el Ateneo\, con un programa dedicado al oboe como protagonista absoluto. \nLos intérpretes son alumnas del Aula de Oboe de ESMAR (Escuela Superior de Música de Alto Rendimiento)\, dirigida por el reconocido oboísta y pedagogo Daniel Fuster. En esta ocasión\, se subirán al escenario las jóvenes intérpretes: Andrea Durà\, Irene Obispo\, Aída Puchades\, Julieta Martínez y Meritxell Quilis. \n📜 ProgramaUn recorrido desde el Barroco hasta el siglo XX con obras de: \n\nCarl Philipp Emanuel Bach (1714–1788)Sonata en Sol menor Wq 135\nRobert Schumann (1810–1856)Tres Romanzas Op. 94\nJohann Nepomuk Hummel (1778–1837)Introducción\, Tema y Variaciones Op. 102\nCamille Saint-Saëns (1835–1921)Sonata para oboe en Re mayor Op. 166\nRichard Strauss (1864–1949)Concierto para oboe en Re mayor Op. 144\n\n📍 Teatro Ateneo\, 3ª planta – Ateneo Mercantil de Valencia📅 Domingo 1 de junio | 🕦 18:30 h🎟️ Entrada libre hasta completar aforo \nUn concierto que combina lirismo\, virtuosismo y sensibilidad\, mostrando la riqueza expresiva del oboe en distintas épocas y estilos. ¡No te lo pierdas! \nCartel:
URL:https://historico.ateneovalencia.es/evento/ciclo-musica-en-el-ateneo-concierto-gratuito-aula-de-oboe-de-esmar/
LOCATION:Teatro Ateneo
CATEGORIES:Conciertos Domingos
ATTACH;FMTTYPE=image/jpeg:https://historico.ateneovalencia.es/wp-content/uploads/2025/05/20250504-Concierto-ESMAR-Oboe.jpg
END:VEVENT
BEGIN:VEVENT
DTSTART;TZID=Europe/Madrid:20250627T190000
DTEND;TZID=Europe/Madrid:20250627T203000
DTSTAMP:20260423T130200
CREATED:20250503T135401Z
LAST-MODIFIED:20250503T135700Z
UID:83829-1751050800-1751056200@historico.ateneovalencia.es
SUMMARY:Concierto "Música de Cine: De Hollywood al Ateneo"
DESCRIPTION:La Orquesta Sinfónica del Mediterráneo presentan de la mano del Ateneo Mercantil de Valencia un concierto inolvidable: "Música de Cine: de Hollywood al Ateneo"\, un recorrido único por las grandes bandas sonoras de la historia del cine\, bajo la dirección musical y artística de Juan Antonio Ramírez. \n\n🗓 Fecha del concierto: Viernes\, 27 de junio de 2025🕖 Hora: 19 horas📍 Lugar: Teatro Ateneo. Ateneo Mercantil de Valencia (Plaza del Ayuntamiento\, 18 de Valencia) \nPreventa de entradas abierta desde el 5 al 27 de mayo\n🎟 Entradas disponibles en taquilla y online. \nDel 5 al 27 de mayo\, aprovecha la preventa de entradas a precio reducido:🎟 Platea: 25€🎟 Anfiteatro lateral: 20€🎟 Anfiteatro: 15€ \nA partir del 28 de mayo y hasta el concierto 27 de junio\, el precio de la entradas subirán 5 euros por butaca: \n🎟 Platea: 30€🎟 Anfiteatro lateral: 25€🎟 Anfiteatro: 20€ \nUn espectáculo emocionante\, con arreglos originales interpretados por los solistas de la Orquesta Sinfónica del Mediterráneo\, que te hará revivir las emociones del cine en directo. \nEscucharás clásicos inolvidables como El Padrino\, La Misión\, La Vida es Bella o Casablanca; épicas cinematográficas como El Señor de los Anillos\, Star Wars\, Avatar\, Piratas del Caribe y Superman; y joyas emotivas como La Lista de Schindler\, Up o Bailando con Lobos. \nUna cuidada selección de temas compuestos por los grandes maestros del cine: John Williams\, Ennio Morricone\, James Horner\, Howard Shore\, Henry Mancini\, Elmer Bernstein\, entre otros. \nUn espectáculo que combina emoción\, nostalgia y espectacularidad sonora para que vivas el cine como nunca antes: a través de la música en vivo. \n🎼 Programa destacado:\n\n\nEl Padrino – Nino Rota \n\n\nEl Señor de los Anillos – Howard Shore \n\n\nLa Guerra de las Galaxias – John Williams \n\n\nLa Lista de Schindler – James Horner \n\n\nLa Misión – Ennio Morricone \n\n\nLa Vida es Bella – Nicola Piovani \n\n\nLos 7 Magníficos – Elmer Bernstein \n\n\nDesayuno con Diamantes – Henry Mancini \n\n\nEl Aprendiz de Brujo – Disney \n\n\nCasablanca \n\n\nBailando con Lobos \n\n\nLo que el Viento se Llevó \n\n\nAcross the Stars – Star Wars II \n\n\nRegreso al Futuro \n\n\nSuperman March – John Williams \n\n\nPiratas del Caribe \n\n\nAvatar\, Medley – James Horner \n\n\nUp\, Medley – Michael Giacchino \n\n\n¡No te quedes sin vivir esta experiencia cinematográfica y musical única! \nCartel:
URL:https://historico.ateneovalencia.es/evento/concierto-musica-de-cine-de-hollywood-al-ateneo/
LOCATION:Teatro Ateneo
CATEGORIES:Conciertos de Música
ATTACH;FMTTYPE=image/jpeg:https://historico.ateneovalencia.es/wp-content/uploads/2025/05/20250627-Concierto-BSO-Cine-Preventa-1.jpg
END:VEVENT
END:VCALENDAR