BEGIN:VCALENDAR
VERSION:2.0
PRODID:-//Ateneo Mercantil de Valencia - ECPv6.0.4//NONSGML v1.0//EN
CALSCALE:GREGORIAN
METHOD:PUBLISH
X-WR-CALNAME:Ateneo Mercantil de Valencia
X-ORIGINAL-URL:https://historico.ateneovalencia.es
X-WR-CALDESC:Eventos para Ateneo Mercantil de Valencia
REFRESH-INTERVAL;VALUE=DURATION:PT1H
X-Robots-Tag:noindex
X-PUBLISHED-TTL:PT1H
BEGIN:VTIMEZONE
TZID:Europe/Madrid
BEGIN:DAYLIGHT
TZOFFSETFROM:+0100
TZOFFSETTO:+0200
TZNAME:CEST
DTSTART:20250330T010000
END:DAYLIGHT
BEGIN:STANDARD
TZOFFSETFROM:+0200
TZOFFSETTO:+0100
TZNAME:CET
DTSTART:20251026T010000
END:STANDARD
END:VTIMEZONE
BEGIN:VEVENT
DTSTART;TZID=Europe/Madrid:20250314T153000
DTEND;TZID=Europe/Madrid:20250314T220000
DTSTAMP:20260423T095203
CREATED:20250227T104028Z
LAST-MODIFIED:20250227T104659Z
UID:83249-1741966200-1741989600@historico.ateneovalencia.es
SUMMARY:¡Mascletard! El mejor tardeo de Fallas 2025 con música en directo de San Bernardino y Dani Moreno 'El Gallo'
DESCRIPTION:Las Fallas 2025 llegan con más fuerza que nunca\, y para dar inicio a los días grandes de la fiesta\, te traemos Mascletard\, el tardeo que hará vibrar Valencia con el mejor ritmo y los mayores éxitos. \nPrepárate para una tarde espectacular con dos de los grandes de la radio musical: Cristian San Bernardino y Dani Moreno "El Gallo". Sus sesiones han recorrido toda la geografía nacional\, y ahora aterrizan en el Ateneo Mercantil de Valencia para hacerte bailar sin parar. Con una mezcla única de los temas más icónicos y las novedades más pegadizas\, estos DJs te harán vivir una experiencia inolvidable\, llena de energía y buen ambiente. La cabina de Mascletard traerá la mejor música para que no pares de moverte. \nAdemás\, el entorno del Ateneo Mercantil de Valencia\, en plena Plaza del Ayuntamiento\, se convertirá en el epicentro de la diversión\, rodeado del espíritu festivo de las Fallas. Entre amigos\, buena música y una atmósfera única\, esta será una de esas citas que no te puedes perder. Disfruta de una tarde de celebración con el auténtico sabor fallero y el mejor tardeo de la ciudad. \nFecha y horario:\n📅 Viernes 14 de marzo de 2025\n⏰ De 15:30 a 22:00 horas\n📍 Ateneo Mercantil de Valencia (Plaza del Ayuntamiento) \nEntradas:\n🎟 Precio: 12 € (incluye consumición: cerveza o refresco)\n🎟 Adquiérelas en online aquí: ateneovalencia.es o en taquillas del Ateneo.\n🎟 Descuento del 10% para socios comprando en taquilla.\nNo te pierdas la oportunidad de disfrutar de una tarde inolvidable en pleno corazón de Valencia. Vive la música en directo\, el mejor ambiente fallero y arranca la fiesta con Mascletard. \n¡Te esperamos para un tardeo legendario! \nCartel:
URL:https://historico.ateneovalencia.es/evento/mascletard-el-mejor-tardeo-de-fallas-2025-con-musica-en-directo-de-san-bernardino-y-dani-moreno-el-gallo/
LOCATION:Salón Noble - Ateneo Mercantil de Valencia\, Plaza del Ayuntamiento 18\, Valencia\, Valencia\, 46002\, España
CATEGORIES:Conciertos y Recitales
ATTACH;FMTTYPE=image/jpeg:https://historico.ateneovalencia.es/wp-content/uploads/2025/02/20250314-Tardeo-Fallero-MASCLETARD.jpg
END:VEVENT
BEGIN:VEVENT
DTSTART;TZID=Europe/Madrid:20250323T113000
DTEND;TZID=Europe/Madrid:20250323T130000
DTSTAMP:20260423T095203
CREATED:20250320T113006Z
LAST-MODIFIED:20250320T113723Z
UID:83312-1742729400-1742734800@historico.ateneovalencia.es
SUMMARY:Música en el Ateneo: Recital de piano gratuito de Fernando Alarcón "Funeral en tres actos: Beethoven\, Chopin y Liszt"
DESCRIPTION:La Fundación del Ateneo Mercantil de la CV organiza un nuevo concierto gratuito dentro de Música en el Ateneo el próximo domingo 23 de marzo a las 11.30 horas en el Teatro Ateneo. En esta ocasión se desarrollará un Recital de Piano de un joven intérprete Fernando Alarcón\, que ha ganado infinidad de Concursos nacionales e internacionales\, tanto en solitario como en la modalidad Música de Cámara. El concierto llega bajo el título "Funeral en tres actos: Beethoven\, Chopin y Liszt". La entrada es completamente libre y gratuita hasta completar aforo. \nPrograma:\nEl presente recital ofrece un viaje musical a través de la forma sonata y la expresión del luto en el repertorio pianístico. Desde la estructura clásica de Beethoven hasta la intensidad romántica de Chopin y Liszt\, estas obras presentan diferentes aproximaciones a la variación\, la marcha fúnebre y el virtuosismo. Este programa\, centrado en la reflexión sobre la vida y la muerte\, ofrece una experiencia musical de profunda emoción y trascendencia. \nLudwig van Beethoven (1770-1827) – Sonata para piano n.º 12 en La bemol mayor\, Op. 26\nCompuesta entre 1800 y 1801\, esta sonata se aparta del esquema tradicional al comenzar con un Andante con variaciones en lugar del clásico movimiento rápido. El segundo movimiento\, un Scherzo enérgico y animado\, contrasta con el conmovedor tercer movimiento\, titulado Marcia funebre sulla morte d’un Eroe. Esta marcha fúnebre\, cargada de solemnidad\, prefigura la grandeza expresiva de obras posteriores como la "Heroica". El final\, un Allegro fugaz y ligero\, disipa la tensión previa con brillantez. \nFrédéric Chopin (1810-1849) – Sonata para piano n.º 2 en Si bemol menor\, Op. 35\nEsta sonata\, escrita entre 1837 y 1839\, es una de las más icónicas del repertorio pianístico. Su primer movimiento\, Grave – Doppio movimento\, introduce un dramatismo inmediato con su motivo descendente. El Scherzo\, enérgico y lleno de contrastes\, da paso al célebre tercer movimiento\, la Marcha fúnebre\, cuya sombría solemnidad ha trascendido el ámbito de la música clásica. El Finale\, un Presto inquietante\, rompe con toda expectativa tradicional: una ráfaga de notas fugaces que se desvanece en el vacío\, dejando un enigma interpretativo. \nFranz Liszt (1811-1886) – Funérailles\nParte de los Harmonies poétiques et religieuses (1850)\, esta obra es un homenaje a las víctimas de la Revolución Húngara de 1848. Su introducción sombría y sus poderosos acordes evocan campanas fúnebres\, mientras que la sección central despliega un lirismo profundo. La sección virtuosa\, con sus octavas relampagueantes\, ha sido asociada con el estilo heroico de Chopin\, sugiriendo incluso un tributo a su legado. \nCartel:\n \n 
URL:https://historico.ateneovalencia.es/evento/musica-en-el-ateneo-recital-de-piano-gratuito-de-fernando-alarcon-funeral-en-tres-actos-beethoven-chopin-y-liszt/
LOCATION:Teatro Ateneo
CATEGORIES:Conciertos Domingos
ATTACH;FMTTYPE=image/jpeg:https://historico.ateneovalencia.es/wp-content/uploads/2025/03/20250323-Recital-Piano-CSMC-Fernando-Alarcon.jpg
END:VEVENT
BEGIN:VEVENT
DTSTART;TZID=Europe/Madrid:20250329T193000
DTEND;TZID=Europe/Madrid:20250329T210000
DTSTAMP:20260423T095203
CREATED:20250326T131535Z
LAST-MODIFIED:20250326T132100Z
UID:83397-1743276600-1743282000@historico.ateneovalencia.es
SUMMARY:Ciclo de Arte Flamenco en Valencia "La Flama Flamenco" - Espectáculo: EL REENCUENTRO
DESCRIPTION:La ciudad de Valencia se prepara para vibrar con el alma y la pasión del flamenco en 'La Flama Flamenco'\, un nuevo ciclo de espectáculos que reunirá a algunos de los máximos exponentes del género. El emblemático Teatro Ateneo Mercantil\, referente cultural por excelencia\, será el escenario donde el arte\, el compás y la emoción se fusionarán en una experiencia inolvidable. \nEste ciclo de arte flamenco se compone de tres citas ineludibles\, ofreciendo al público la oportunidad de sumergirse en la riqueza de la tradición y la fuerza expresiva de este estilo musical universal. La primera de ellas será este sábado 29 de marzo a las 19.30 horas (apertura de puertas 30 minutos antes del evento). \nFecha: 29 de marzo de 2025\nLugar: Teatro Ateneo Mercantil\, Valencia\nOrganiza: Atenea Cultura & Somos la Doce 13 Producciones \nPrimera cita: 'El Reencuentro'\n🎭 Artistas:\n\nEsther Garcés y Paco Berbel (Baile)\nJosé de Torres (Guitarra)\nJuan Amador y Javier Calderón (Cante)\n\nUna noche mágica en la que la esencia del flamenco cobrará vida con la maestría de estos grandes artistas. La energía vibrante del baile\, el quejío profundo del cante y la armonía de la guitarra se unirán para ofrecer una velada cargada de emoción y duende. \n📍 Más información y venta de Entradas: https://ateneasky.com/laflamaflamenco/#events/1er-espectaculo-de-baile-el-reencuentro-29-03-2025-TARW\n🔸 No te pierdas esta oportunidad única de vivir el flamenco en su máxima expresión. \nCartel:
URL:https://historico.ateneovalencia.es/evento/ciclo-de-arte-flamenco-en-valencia-la-flama-flamenco-espectaculo-el-reencuentro/
LOCATION:Teatro Ateneo
CATEGORIES:Conciertos y Recitales
ATTACH;FMTTYPE=image/jpeg:https://historico.ateneovalencia.es/wp-content/uploads/2025/03/20250329-El-Reencuentro-Flamenco-Atenea.jpg
END:VEVENT
BEGIN:VEVENT
DTSTART;TZID=Europe/Madrid:20250330T113000
DTEND;TZID=Europe/Madrid:20250330T130000
DTSTAMP:20260423T095203
CREATED:20250324T122902Z
LAST-MODIFIED:20250326T093618Z
UID:83368-1743334200-1743339600@historico.ateneovalencia.es
SUMMARY:Música en el Ateneo: Concierto gratuito "Contrabassatta" - ESMAR
DESCRIPTION:La Fundación del Ateneo de la CV y la Escuela de Música de Alto Rendimiento ESMAR organizan un nuevo concierto gratuito dentro del ciclo Música en el Ateneo lleno de talento con el Concierto Contrabassatta\, un recital gratuito que se llevará a cabo en el Teatro Ateneo. \nEl contrabajo\, un instrumento a menudo relegado al acompañamiento\, toma el protagonismo en este recital interpretado por talentosos músicos de la ESMAR. Un concierto que nos sumerge en un viaje musical que abarca desde el virtuosismo del repertorio clásico hasta sorprendentes adaptaciones contemporáneas. Con piezas que van del barroco al jazz y homenajes a grandes compositores\, esta cita es una oportunidad excepcional para descubrir la versatilidad y la expresividad del contrabajo en todo su esplendor. \nPrograma del Concierto: \n\nSUITE AL VIEJO ESTILO - PRELUDIO – H. Fryba\nIntérprete: Jesús Parejo\nUna obra que evoca la tradición barroca con un lenguaje moderno\, resaltando la riqueza tímbrica del contrabajo.\nSONATA Op. 6 – A. Misek\nIntérprete: Javier Gimeno\nEsta sonata combina lirismo y virtuosismo en un viaje sonoro que explora las capacidades expresivas del contrabajo.\nVALS MINIATURA – S. Koussevitzky\nIntérprete: Manel Puig\nUn delicado y elegante vals que demuestra la influencia romántica en la obra de Koussevitzky.\nLUCÍA LAMMERMOOR – S. Mercadante\nIntérprete: Pau Mateu\nInspirada en la ópera de Donizetti\, esta pieza captura la esencia del bel canto con el protagonismo del contrabajo.\nELEGIA – G. Bottesini\nIntérprete: Jaume Cremades\nUna obra melancólica y emotiva\, representativa del virtuosismo y sensibilidad de Bottesini.\nHÉROES Y VILLANOS – S. García\nUna composición contemporánea que juega con contrastes dramáticos y dinámicas sorprendentes.\nAL ANDALUS – S. García\nUna obra que evoca los sonidos y ritmos de la tradición andaluza\, fusionando influencias clásicas y flamencas.\nSARABANDE – J.S. Bach\nUna de las danzas más icónicas del barroco\, con una interpretación en contrabajo que resalta su solemnidad.\nENTERTAINER – S. Joplin\nUn clásico del ragtime con un arreglo para contrabajo lleno de energía y ritmo contagioso.\nBEATLES IN THE DOG HOUSE – Arr. R. Giorgis\nUn homenaje a los Beatles con un arreglo innovador que combina melodía y groove.\nSWING-K 1000 – S. García\nUna pieza vibrante con influencias del swing y el jazz\, destacando el dinamismo del contrabajo.\n\nEste evento es una oportunidad única para disfrutar de la excelencia musical en un entorno incomparable. ¡Te esperamos! \nCartel:
URL:https://historico.ateneovalencia.es/evento/musica-en-el-ateneo-concierto-gratuito-contrabassata-esmar/
LOCATION:Teatro Ateneo
CATEGORIES:Conciertos Domingos
ATTACH;FMTTYPE=image/jpeg:https://historico.ateneovalencia.es/wp-content/uploads/2025/03/20250330-Musica-Ateneo-Contrabajo-ESMAR.jpg
END:VEVENT
BEGIN:VEVENT
DTSTART;TZID=Europe/Madrid:20250331T190000
DTEND;TZID=Europe/Madrid:20250331T203000
DTSTAMP:20260423T095203
CREATED:20250304T102034Z
LAST-MODIFIED:20250304T102404Z
UID:83271-1743447600-1743453000@historico.ateneovalencia.es
SUMMARY:Tardes de LiterAteneo XXVI: J. R. Barat: Un viaje literario
DESCRIPTION:El Ateneo Mercantil de Valencia tiene el placer de invitarle a una nueva edición de Tardes de LiterAteneo\, la 26ª edición del ciclo\, un espacio dedicado a la literatura y el pensamiento. En esta ocasión\, contaremos con la presencia del escritor Juan Ramón Barat Dolz\, quien nos llevará a través de un fascinante viaje literario. \n📅 Fecha: Lunes 31 de marzo⏰ Hora: 19 horas📍 Lugar: Sala Sorolla (5ª planta del Ateneo Mercantil de Valencia)🎟 Entrada: Libre y gratuita hasta completar aforo \n📢 Invitado: Juan Ramón Barat Dolz🎙 Presenta: Pascual Casañ📚 Coordinan: Vicente Bosch y Vicente Barberá Albalat \nEl escritor Juan Ramón Barat Dolz (Valencia\, 1959) cultiva todos los géneros literarios y ha recibido diversos premios y reconocimientos como poeta\, dramaturgo y narrador. Entre sus obras destacan: \n\n1707\, el sueño perdido (novela histórica sobre la Guerra de Sucesión)\nJaime I el rey templario (ambientada en la Baja Edad Media)\nInfierno de neón (Premio Internacional «Ciudad de Salamanca»)\nDeja en paz a los muertos (Premio Hache 2014 - mejor novela juvenil)\nLa sepultura 142 (su continuación\, publicada en la colección Paralelo Cero)\n\nUna oportunidad única para disfrutar de un viaje literario de la mano de uno de los grandes escritores del panorama actual. ¡No te lo pierdas! \nCartel:
URL:https://historico.ateneovalencia.es/evento/tardes-de-literateneo-xxvi-j-r-barat-un-viaje-literario/
LOCATION:Salón Sorolla - Ateneo Mercantil de Valencia\, Plaza del Ayuntamiento 18\, Valencia\, Valencia\, 46002\, España
CATEGORIES:Tardes de LiterAteneo
ATTACH;FMTTYPE=image/jpeg:https://historico.ateneovalencia.es/wp-content/uploads/2025/03/20250331-LterAteneo-XXVI-Barat.jpg
END:VEVENT
END:VCALENDAR