BEGIN:VCALENDAR
VERSION:2.0
PRODID:-//Ateneo Mercantil de Valencia - ECPv6.0.4//NONSGML v1.0//EN
CALSCALE:GREGORIAN
METHOD:PUBLISH
X-ORIGINAL-URL:https://historico.ateneovalencia.es
X-WR-CALDESC:Eventos para Ateneo Mercantil de Valencia
REFRESH-INTERVAL;VALUE=DURATION:PT1H
X-Robots-Tag:noindex
X-PUBLISHED-TTL:PT1H
BEGIN:VTIMEZONE
TZID:Europe/Madrid
BEGIN:DAYLIGHT
TZOFFSETFROM:+0100
TZOFFSETTO:+0200
TZNAME:CEST
DTSTART:20240331T010000
END:DAYLIGHT
BEGIN:STANDARD
TZOFFSETFROM:+0200
TZOFFSETTO:+0100
TZNAME:CET
DTSTART:20241027T010000
END:STANDARD
END:VTIMEZONE
BEGIN:VEVENT
DTSTART;TZID=Europe/Madrid:20241103T113000
DTEND;TZID=Europe/Madrid:20241103T130000
DTSTAMP:20260421T202756
CREATED:20241028T205529Z
LAST-MODIFIED:20241101T082616Z
UID:81969-1730633400-1730638800@historico.ateneovalencia.es
SUMMARY:Música en el Ateneo: "A la lluna de València" por el Grup de Ball Quiqueríes | APLAZADO
DESCRIPTION:El Grup de Ball Quiqueríes formado por más de 30 miembros\, nació en 2009 para la recuperación y promoción del folclore valenciano en todo tipo de eventos\, y para celebrar su 15° aniversario presentan el espectáculo "A la lluna de València" escrito y presentado por María Victoria Selma. Un espectáculo costumbrista con una muestra de historia\, bailes y música tradicional valenciana. \nConcierto: "A la lluna de València" por el Grup de Ball Quiqueríes  \nDía: Domingo\, 3 de noviembre de 2024 \nHora: 11.30 horas \nLugar: Teatro Ateneo \nEntrada libre y gratuita hasta completar aforo \nCartel:
URL:https://historico.ateneovalencia.es/evento/musica-en-el-ateneo-a-la-lluna-de-valencia-por-el-grup-de-ball-quiqueries/
LOCATION:Teatro Ateneo
CATEGORIES:Conciertos Domingos,Fundación A.M. C.V.
ATTACH;FMTTYPE=image/jpeg:https://historico.ateneovalencia.es/wp-content/uploads/2024/10/20241103-Musica-Ateneo-Grup-Ball-Quiqueries-aplazado.jpg
END:VEVENT
BEGIN:VEVENT
DTSTART;TZID=Europe/Madrid:20241117T110000
DTEND;TZID=Europe/Madrid:20241117T130000
DTSTAMP:20260421T202756
CREATED:20241107T174545Z
LAST-MODIFIED:20241109T104727Z
UID:82107-1731841200-1731848400@historico.ateneovalencia.es
SUMMARY:Música en el Ateneo: Concierto Aula de Cámara y Cello - ESMAR
DESCRIPTION:La Fundación del Ateneo Mercantil de la CV organiza junto a la Escuela Superior de Música de Alto Rendimiento el concierto dentro del Ciclo Música en el Ateneo el próximo domingo 17 de noviembre de 2024 a las 11 de la mañana y llega bajo el título "Aula de Cámara y Cello - ESMAR". \nEl Aula de Música de Cámara de instrumentos de cuerda de ESMAR y el Aula de Violoncello están dirigidas por el profesor Adrian Van Dongen. Estas aulas están formadas por jóvenes intérpretes con recorridos artísticos reconocidos en numerosas salas de concierto y concursos de interpretación. El repertorio interpretado\, que comprende un recorrido histórico desde el Clasicismo hasta las Vanguardias musicales\, pone especial acento en la música europea del romanticismo y posromanticismo. Este programa supone una muestra representativa de las obras de los principales autores de la literatura para los instrumentos de cuerda\, tanto a solo como en pequeñas agrupaciones camerísticas. \nPrograma:\n\nConcierto en mi menor opus 85 1er mvt. Adagio\, Moderato | E. Elgar\nSinfonia no 6  (arr. Hummel) 1er mvt. Allegro ma non troppo | L. von Beethoven \nTrio opus 114 en la menor 1er mvt. Allegro | J. Brahms\nConcierto en re 1 mvt. Allegro moderato | J. Haydn\nTrio 'Contrasten' 1er mvt. "Verbunkos" | B. Bartok \n\nConcierto: Concierto Aula de Cámara y Cello - ESMAR \nIntérpretes: Escuela Superior de Música de Alto Rendimiento. Director del Aula: Adrián Van Dongen \nDía: Domingo\, 17 de noviembre de 2024 \nHora: 11 horas \nLugar: Teatro Ateneo \nEntrada libre y gratuita hasta completar aforo. \nCartel:\n \n 
URL:https://historico.ateneovalencia.es/evento/musica-en-el-ateneo-concierto-aula-de-camara-y-cello-esmar/
LOCATION:Teatro Ateneo
CATEGORIES:Conciertos Domingos
ATTACH;FMTTYPE=image/jpeg:https://historico.ateneovalencia.es/wp-content/uploads/2024/11/20241117-APLAZADO-Musica-en-el-Ataneo-ESMAR-Cellos.jpg
END:VEVENT
BEGIN:VEVENT
DTSTART;TZID=Europe/Madrid:20241118T183000
DTEND;TZID=Europe/Madrid:20241118T200000
DTSTAMP:20260421T202756
CREATED:20241031T112257Z
LAST-MODIFIED:20241106T091641Z
UID:81980-1731954600-1731960000@historico.ateneovalencia.es
SUMMARY:Tardes de LiterAteneo XXIII: "Miguel Romaguera (1955-2023). Poeta de la sensibilidad. Recuerdo y homenaje"
DESCRIPTION:La vigésimo tercera edición de Tardes de LiterAteneo\, el ciclo de literatura que coordinan Vicente Bosch y Vicente Barberá Albalat\, llega el próximo lunes 11 de noviembre de 2024 al Salón Sorolla del Ateneo Mercantil. Un nuevo encuentro que en esta ocasión será un sentido homenaje al poeta Vicente Miguel Romaguera Aguilar que nos dejó el 2 de mayo de 2023 y llega bajo el título "Miguel Romaguera (1955-2023). Poeta de la sensibilidad. Recuerdo y homenaje". El presentador será Blas Muñoz\, mientras que intervienen: José L. Falcó y Juan Luis Bedins. Un evento que organiza la Fundación del Ateneo Mercantil de la CV. \nTítulo: "Miguel Romaguera (1955-2023). Poeta de la sensibilidad. Recuerdo y homenaje" \nConferenciantes: Blas Muñoz\, José L. Falcó y Juan Luis Bedins  \nDía: Lunes\, 18 de noviembre de 2024 \nHora: 18.30 horas \nLugar: Salón Sorolla \nEntrada libre y gratuita hasta completar aforo. \nCartel:
URL:https://historico.ateneovalencia.es/evento/tardes-de-literateneo-xxiii-homenaje-a-miguel-romaguera-poesia-en-estado-puro/
LOCATION:Salón Sorolla - Ateneo Mercantil de Valencia\, Plaza del Ayuntamiento 18\, Valencia\, Valencia\, 46002\, España
CATEGORIES:Tardes de LiterAteneo
ATTACH;FMTTYPE=image/jpeg:https://historico.ateneovalencia.es/wp-content/uploads/2024/10/20241111-Literateneo-XXIII.jpg
END:VEVENT
BEGIN:VEVENT
DTSTART;TZID=Europe/Madrid:20241124T113000
DTEND;TZID=Europe/Madrid:20241124T130000
DTSTAMP:20260421T202756
CREATED:20241122T130452Z
LAST-MODIFIED:20241122T131305Z
UID:82242-1732447800-1732453200@historico.ateneovalencia.es
SUMMARY:Música en el Ateneo: Concierto de Ópera y Zarzuela del CSMV
DESCRIPTION:El Máster de Interpretación Operística está orientado al cantante solista de ópera y responde a la necesidad de tender un puente entre la finalización de los estudios académicos superiores y el comienzo de la vida profesional\, proporcionando a los titulados la posibilidad de cursar estudios de perfeccionamiento y recibir la orientación y ayuda necesarias para encauzar su carrera artística. \nLos pilares del Máster de Interpretación Operística son tres: perfeccionamiento de la técnica vocal\, trabajo sobre el repertorio adecuado a cada caso y profundización de la interpretación en escena. Todo ello cristaliza en la representación de dos títulos operísticos de repertorio y diversos conciertos en los que se interpretan escenas de ópera y zarzuela frente a la crítica especializada\, agentes artísticos y público en general. \nLa formación abarca las siguientes materias: Canto\, Repertorio\, Concertación\, Idioma\, Declamación\, Historia y Literatura\, Técnicas de Promoción y Legislación Laboral\, Entrenamiento Actoral y Escena Lírica\, aplicados a montajes operísticos de diferentes épocas y estilos. Los alumnos del Máster reciben\, además de la docencia incluida en el curso\, clases magistrales a cargo de reconocidas personalidades. \nUn concierto que destaca por su riqueza estilística y emocional \nEl programa del concierto ofrece una rica panorámica de la ópera y la zarzuela\, abarcando desde la elegancia del clasicismo hasta el lirismo romántico. Se inicia con Dalla sua pace de Mozart\, un aria de Don Giovanni que refleja el anhelo y la vulnerabilidad del personaje\, seguida por el delicado dúo Canzonetta sull'aria de Le Nozze di Figaro\, donde el ingenio musical de Mozart crea un momento de íntima complicidad. Johann Strauss II aporta un contraste festivo con Klänge der Heimat de Die Fledermaus\, una oda a la alegría y la celebración. \nEl repertorio continúa con la intensidad emocional de I Capuleti e I Montecchi de Bellini y la brillantez cómica de Così fan tutte de Mozart. La pasión dramática de Turandot de Puccini emerge en Tu che di gel sei cinta\, una obra de gran carga emocional\, seguida por el esplendor vocal de Air des bijoux de Gounod\, perteneciente a Faust. Chi il bel sogno di Doretta\, de La Rondine\, también de Puccini\, aporta un toque de ternura y ensueño. \nFinalmente\, el programa incluye piezas emblemáticas de zarzuela y música española\, como la melancólica Cançó de l’estel de Pedrell y la vibrante Canción de Paloma de El barberillo de Lavapiés de Barbieri. Bella enamorada\, de Soutullo\, cierra con una evocación romántica. Este variado repertorio\, interpretado por talentosos cantantes\, destaca por su riqueza estilística y emocional\, ofreciendo una experiencia única para el público. \nPrograma:\n\nDalla sua pace "DON GIOVANNI" de Wolfgang Amadeus Mozart (1756-1791) - Intérprete: José Manuel Monfort\nCanzonetta sull'aria "LE NOZZE DI FIGARO" de Wolfgang Amadeus Mozart (1756-1791) - Intérpretes: Alba Velert y Maria Pitarch\nKlänge der Heimat "DIE FLEDERMAUS"  de Johann Strauss II (1825-1899) - Intérprete: Teresa Bellido\nEccomi\, in lieta vesta... Oh! Quante volte... "I CAPULETI E I MONTECCHI" de Vincenzo Bellini (1801-1835) - Intérprete: Alba Velert\nFra gli amplessi in pochi istanti "COSÌ FAN TUTTE" de Wolfgang Amadeus Mozart (1756-1791) - Intérpretes: María Pitarch y José Manuel Monfort\nTu che di gel sei cinta "TURANDOT" de Giacomo Puccini (1858-1924) - Intérprete: Teresa Bellido\nAir des bijoux "FAUST" de Charles Gounod (1818-1893)- Intérprete: María Pitarch\nChi il bel sogno di Doretta "LA RONDINE" de Giacomo Puccini (1858-1924) - Intérprete: Teresa Bellido\nCançó de l’estel "ELS PIRINEUS" de Felip Pedrell (1841-1922) - Intérprete: Alba Velert\nCanción de Paloma "EL BARBERILLO DE LAVAPIÉS" de Francisco Asenjo Barbieri (1823-1894) - Intérprete: María Pitarch\nBella enamorada "EL ÚLTIMO ROMÁNTICO" de Reveriano Soutullo (1880-1932) - Intérprete: José Manuel Monfort\nUn tiempo fue que en dulce calma "JUGAR CON FUEGO" de Juan Vert (1890-1931) - Intérprete: Alba Velert\nPetenera: Tres horas antes del día "LA MARCHENERA" de Federico Moreno Torroba (1891-1982) - Intérprete: Teresa Bellido\n\nCartel:
URL:https://historico.ateneovalencia.es/evento/musica-en-el-ateneo-concierto-de-opera-y-zarzuela-del-csmv/
LOCATION:Teatro Ateneo
CATEGORIES:Conciertos Domingos
ATTACH;FMTTYPE=image/jpeg:https://historico.ateneovalencia.es/wp-content/uploads/2024/11/20241124-Opera-y-Zarzuela-CSMV.jpg
END:VEVENT
BEGIN:VEVENT
DTSTART;TZID=Europe/Madrid:20241124T180000
DTEND;TZID=Europe/Madrid:20241124T193000
DTSTAMP:20260421T202756
CREATED:20241123T121926Z
LAST-MODIFIED:20241123T121957Z
UID:82257-1732471200-1732476600@historico.ateneovalencia.es
SUMMARY:Encuentro solidario de Rondallas de Pulso y Púa - Concierto en Beneficio de los Enfermos de ELA -
DESCRIPTION:Disfruta de la actuación de dos ronaldallas de Pulso y Púa como son la Coral Rondalla ADAGIO-LA AMISTAD y la Asociación Coral Rondalla NOU BENICALAP\, que en colaboración con la Associació Valenciana d’Esclerosi Lateral Amiotròfica\, ADELA CV\, van a ofrecer el próximo domingo 24 de noviembre a las 18 horas un concierto solidario en beneficio de los Enfermos de ELA. \nSi deseas asistir puedes conseguir tus Entradas en los centros de ambas Rondallas y en el TELÉFONO 699.24.24.52 (María). Además\, se abre una fila cero para poder donar una ayuda en beneficio del estudio para lograr paliar esta grave enfermedad como es el ELA. \nCOLABORA - FILA O: IBAN ES75 3159 0018 1229 6871 3111 \nCartel:
URL:https://historico.ateneovalencia.es/evento/encuentro-solidario-de-rondallas-de-pulso-y-pua-concierto-en-beneficio-de-los-enfermos-de-ela/
LOCATION:Teatro Ateneo
CATEGORIES:Conciertos Domingos
ATTACH;FMTTYPE=image/jpeg:https://historico.ateneovalencia.es/wp-content/uploads/2024/11/20241124-Convierto-Benefico-ELA.jpg
END:VEVENT
END:VCALENDAR