BEGIN:VCALENDAR
VERSION:2.0
PRODID:-//Ateneo Mercantil de Valencia - ECPv6.0.4//NONSGML v1.0//EN
CALSCALE:GREGORIAN
METHOD:PUBLISH
X-WR-CALNAME:Ateneo Mercantil de Valencia
X-ORIGINAL-URL:https://historico.ateneovalencia.es
X-WR-CALDESC:Eventos para Ateneo Mercantil de Valencia
REFRESH-INTERVAL;VALUE=DURATION:PT1H
X-Robots-Tag:noindex
X-PUBLISHED-TTL:PT1H
BEGIN:VTIMEZONE
TZID:Europe/Madrid
BEGIN:DAYLIGHT
TZOFFSETFROM:+0100
TZOFFSETTO:+0200
TZNAME:CEST
DTSTART:20240331T010000
END:DAYLIGHT
BEGIN:STANDARD
TZOFFSETFROM:+0200
TZOFFSETTO:+0100
TZNAME:CET
DTSTART:20241027T010000
END:STANDARD
END:VTIMEZONE
BEGIN:VEVENT
DTSTART;TZID=Europe/Madrid:20240921T190000
DTEND;TZID=Europe/Madrid:20240921T203000
DTSTAMP:20260421T054724
CREATED:20240730T075631Z
LAST-MODIFIED:20240730T080607Z
UID:81326-1726945200-1726950600@historico.ateneovalencia.es
SUMMARY:Concierto "Nino Bravo - Rock y Corazón"
DESCRIPTION:Nino Bravo Rock y Corazón es un espectáculo en el que\, el compositor valenciano Juan Carlos Sotos ha transformado las canciones melódicas que diversos autores escribieron para Nino Bravo y que éste popularizó como baladas. Sotos las convierte en Rock; se trata de una visión diferente de unas canciones que forman parte de la memoria popular y ahora se visten con traje rockero. Un evento que se suma a este año 2024\, el año Nino Bravo (80 Aniversario de su nacimiento)\, y que promete una velada llena de emoción y nostalgia. Un concierto que está organizado por la familia de Nino Bravo y por 'Destino Nino' Rutas con Arte\, y en el que colaboran entidades como el Ateneo Mercantil\, el Corte Inglés\, MovingTickets.com y BGO Contratación & Booking. \nENTRADAS A LA VENTA AQUÍ\n\nTeatro Ateneo - Ateneo Mercantil de Valencia (Pl. del Ayuntamiento\, 18\, 3ª Planta\, 46002\, Valencia).\nHora del Concierto: 19 horas\nApertura de Puertas: 18:15 horas\nEntradas: Desde 18 €\nFormas de Pago: Bono Cultural Joven\, Tarjeta Crédito-Débito (Redsys MT)\n\nCartel:
URL:https://historico.ateneovalencia.es/evento/concierto-nino-bravo-rock-y-corazon/
LOCATION:Teatro Ateneo
CATEGORIES:Conciertos y Recitales
ATTACH;FMTTYPE=image/jpeg:https://historico.ateneovalencia.es/wp-content/uploads/2024/07/20240921-Concierto-Nino-Bravo-Rock.jpg
END:VEVENT
BEGIN:VEVENT
DTSTART;TZID=Europe/Madrid:20240922T180000
DTEND;TZID=Europe/Madrid:20240922T200000
DTSTAMP:20260421T054724
CREATED:20240912T170007Z
LAST-MODIFIED:20240912T170008Z
UID:81491-1727028000-1727035200@historico.ateneovalencia.es
SUMMARY:Concierto Cant d'Estil -  Noves Veus del Cant Valencià 2024
DESCRIPTION:El Ateneo Mercantil de Valencia acoge este próximo domingo 22 de septiembre a las 18 horas una la edición de Noves Veus del Cant Valencià 2024\, una muestra de los diversos cantos de estilos para los alumnos de las distintas Escoles del Cant Valencià. Una fiesta de encuentros con las raíces de la tradicional música valenciana y de la cultura popular a través del género más completo\, original y espectacular de todos los que integran el patrimonio musical valenciano\, como es el Cant d’Estil. \nPor el Ateneo Mercantil desfilarán los alumnos de diferentes edades de varias escuelas de canto de diferentes localidades de la Comunitat Valenciana como Castellón\, El Puig\, Rafelbuñol\, Paterna\, Bétera o Chiva. Una gran ocasión para poder comprobar la buena salud con la que que cuenta el Cant Valencià\, ya que hay mucho nivel entre las nuevas voces. \nCartel:
URL:https://historico.ateneovalencia.es/evento/concierto-cant-destil-noves-veus-del-cant-valencia-2024/
LOCATION:Teatro Ateneo
CATEGORIES:Conciertos Domingos
ATTACH;FMTTYPE=image/jpeg:https://historico.ateneovalencia.es/wp-content/uploads/2024/09/20240922-Cant-Valencia.jpg
END:VEVENT
END:VCALENDAR