BEGIN:VCALENDAR
VERSION:2.0
PRODID:-//Ateneo Mercantil de Valencia - ECPv6.0.4//NONSGML v1.0//EN
CALSCALE:GREGORIAN
METHOD:PUBLISH
X-ORIGINAL-URL:https://historico.ateneovalencia.es
X-WR-CALDESC:Eventos para Ateneo Mercantil de Valencia
REFRESH-INTERVAL;VALUE=DURATION:PT1H
X-Robots-Tag:noindex
X-PUBLISHED-TTL:PT1H
BEGIN:VTIMEZONE
TZID:Europe/Madrid
BEGIN:DAYLIGHT
TZOFFSETFROM:+0100
TZOFFSETTO:+0200
TZNAME:CEST
DTSTART:20240331T010000
END:DAYLIGHT
BEGIN:STANDARD
TZOFFSETFROM:+0200
TZOFFSETTO:+0100
TZNAME:CET
DTSTART:20241027T010000
END:STANDARD
END:VTIMEZONE
BEGIN:VEVENT
DTSTART;TZID=Europe/Madrid:20240204T113000
DTEND;TZID=Europe/Madrid:20240204T130000
DTSTAMP:20260422T044254
CREATED:20240127T163057Z
LAST-MODIFIED:20240127T163747Z
UID:76538-1707046200-1707051600@historico.ateneovalencia.es
SUMMARY:Música en el Ateneo: Concierto gratuito de Black & White Keys dúo
DESCRIPTION:El próximo domingo 4 de febrero llega a nuestro teatro un nuevo concierto del Ciclo Música en el Ateneo que organiza La Fundación Ateneo Mercantil de CV.  Tras estrenarse en 2017 en el Ateneo con un gran éxito\, regresan nuevamente Black & White Keys dúo\, dos músicos valencianos\, jóvenes y emprendedores con un proyecto muy innovador. El dúo lo forma en la actualidad\, Andreu Soler (marimba) y Miguel Ángel Cuadrado (piano). \nBLACK & WHITE KEYS DÚO\nDúo fundado en el año 2010 y con más de 100 conciertos en toda la geografía española. Dúo compuesto en la actualidad por los músicos valencianos Andreu Soler (marimba) y Miguel Ángel Cuadrado (piano). Ambos se licenciaron en el Conservatorio Superior de Castellón. \nSus interpretaciones han recibido siempre muy buena acogida por parte del público y de la crítica. Han tocado en algunas de las salas más emblemáticas del país: Salón de Cristal del Ayuntamiento de Valencia\, Jardín Botánico\, Beneficencia\, Universidad Politécnica\, Beneficencia\, Capilla de la Sapiencia\, Castillo de Riba-roja\, Sala María Cristina de Málaga\, Fundación Olivar de Castillejo de Madrid\, Casino de Castellón\, Sala Eutherpe en León\, Fundación Bancaja\, Teatro Principal de Vitoria\, VIPA\, entre otras. \nEn diciembre de 2016 realizan un concierto en la Sala Rodrigo del Palau de la Música. Fruto de ese concierto en directo es su primer DVD\, editado a principios de 2017.\nSu repertorio abarca piezas de todas las épocas\, desde el barroco a la actualidad y se ve ampliado y enriquecido constantemente con obras compuestas por ellos mismos.\nTienen en el mercado dos trabajos: Classic’s (piano a 4 manos) y Café\, con la marimba y el piano como protagonistas. \nPrograma:\nII Movimiento del concierto para guitarra y orquesta Aranjuez (J. Rodrigo / Arr. BWKdúo) \nSuite de la ópera Carmen (G. Bizet) \nAdagio (T. Albinoni) \nDanza Española (E. Granados) \nDanza húngara n.5 (J. Brahms) \nObertura Guillermo Tell (G.Rosini) \nSuite Peer Gynt  (E. Grieg) \n\nI. La Mañana\nII. En el Hall del Rey de las Montañas\n\nAutumn  leaves (M. Bonfa) \nOblivion (A. Piazzolla) \nMambo influenciado (Ch. Valdés) \nLibertango (A. Piazzolla) \nCsardas (V. Monti) \nCartel:\n \n 
URL:https://historico.ateneovalencia.es/evento/musica-en-el-ateneo-concierto-gratuito-de-black-white-keys-duo/
LOCATION:Teatro Ateneo
CATEGORIES:Conciertos Domingos
ATTACH;FMTTYPE=image/jpeg:https://historico.ateneovalencia.es/wp-content/uploads/2024/01/20240204-Musica-Ateneo-Black-White-Duo.jpg
END:VEVENT
BEGIN:VEVENT
DTSTART;TZID=Europe/Madrid:20240210T193000
DTEND;TZID=Europe/Madrid:20240210T213000
DTSTAMP:20260422T044254
CREATED:20230919T102338Z
LAST-MODIFIED:20240124T125821Z
UID:75418-1707593400-1707600600@historico.ateneovalencia.es
SUMMARY:Fiesta barroca con máscaras "Folía Barroca" de la compañía de danza histórica Armonía Danza
DESCRIPTION:La compañía de danza histórica Armonía Danza\, cuyo objetivo es la divulgación de las coreografías de los siglos XV\, XVI y XVII a través de su estudio y divulgación\, organiza un evento muy especial en el Ateneo Mercantil de Valencia\, una fiesta barroca con máscaras bajo el nombre "Folía Barroca" y llega a nuestra institución gracias al esfuerzo e interés de su directora\, Sofía Grande. \nA través de esta fiesta barroca con máscaras\, "Folía Barroca" se pretende ofrecer una experiencia inmersiva de los bailes con máscaras que tuvieron lugar en los siglos XVI y XVII con el apoyo de algunos casos de las monarquías reinantes. El arte teatral comenzó a ser admitido como entretenimiento de los nobles y cortesanos. Eran muy comunes las representaciones escénicas con música\, teatro y por supuesto danza\, lo que implicó el preludio de la ópera. \nEn muchas ocasiones las danzas del Renacimiento se representaban con máscaras\, aludiendo a los personajes típicos de la comedia del arte. Se conoce que "la gente derrochaba inventiva para la elección de las máscaras de todos los países\, de todas las edades\, y en la misma sala\, los músicos daban inicio al baile". \nDesde Armonía Danza queremos revivir con la danza y el teatro esa transición del Renacimiento al Barroco que se empieza a desarrollar en Venecia con las celebraciones de las fiestas del carnaval y en Florencia\, durante la gobernanza de la familia Medici. La máscara veneciana se convierte en el germen de las "danzas con máscara" afición muy popular en la nobleza y la monarquía de los siglos XVII\, cuando nace la Academia Real de Danza en París en 1661. Medio siglo más tarde\, el duque de Orleans aprobaba el primer baile público de la historia en el Teatro de la Ópera de París. \nAdemás\, la compañía también ofrece con antelación al evento\, clases de danza histórica para aquellas personas que deseen preparar una coreografía para la Fiesta\, llamando al 654850880. \nArmonía Danza lleva 20 años ofreciendo cursos y espectáculos de la mano de nuestro coreógrafo y bailarín Marco Bendoni\, quién ha trabajado con formaciones prestigiosas como Christina Pluhar\, Jordi Savall\, La Petite Bande o Emilio Villalba. Justamente\, realizó la coreografía junto a Bruna Gondoni\, del baile con máscaras de la producción hollywoodiense de "Romeo and Juliet" de Carlo Carlei. Web: www.armoniadanza.com \nDress Code: Obligatoriedad de vestimenta y máscara para poder acceder al evento \nPincha aquí para obtener Información Adicional de la Fiesta Barroca con Máscaras y Clases de Danza Histórica\nTítulo: Fiesta barroca con máscaras "Folía Barroca" \nDía: Sábado 10 de febrero de 2024 \nHora: 19.30 horas \nLugar: Salón Stolz del Ateneo Mercantil (3ª planta) \nPrecio de la entrada: 49 euros \nEntradas a la venta en taquillas del Ateneo Mercantil\, llamando al 654.85.08.80 y en Online aquí: https://entradas.ateneovalencia.es/espectaculo/7/fiesta-barroca-con-mascaras-folia-barroca.html\n  \n\n		\n		\n			\n				\n			\n			\n				\n			\n			\n				\n			\n		\n\n\nhttps://historico.ateneovalencia.es/wp-content/uploads/2023/09/Folia-2.mp4\n  \nhttps://historico.ateneovalencia.es/wp-content/uploads/2023/09/BaileMascaras-1.mp4\n  \n Cartel:
URL:https://historico.ateneovalencia.es/evento/fiesta-barroca-con-mascaras-folia-barroca-de-la-compania-de-danza-historica-armonia-danza/
LOCATION:Salón Stolz - Ateneo Mercantil de Valencia\, Plaza del Ayuntamiento\, 18\, Valencia\, España\, Valencia\, Valencia\, 46002\, España
CATEGORIES:Danza y Música
ATTACH;FMTTYPE=image/jpeg:https://historico.ateneovalencia.es/wp-content/uploads/2023/09/20231024-Baile-de-Mascaras.jpg
ORGANIZER;CN="Compa%C3%B1%C3%ADa%20Armon%C3%ADa%20Danza":MAILTO:fundacioninstrumentos@gmail.com
END:VEVENT
BEGIN:VEVENT
DTSTART;TZID=Europe/Madrid:20240211T113000
DTEND;TZID=Europe/Madrid:20240211T133000
DTSTAMP:20260422T044254
CREATED:20240204T132545Z
LAST-MODIFIED:20240208T101705Z
UID:76715-1707651000-1707658200@historico.ateneovalencia.es
SUMMARY:Música en el Ateneo: Concierto 'Amor' - Andreu Soler y Coro Veus del Túria
DESCRIPTION:La Fundación del Ateneo Mercantil de la CV organiza un nuevo concierto gratuito dentro del Ciclo Música em el Ateneo el próximo domingo 11 de febrero 11.30 horas. En esta ocasión nuestro teatro acogerá el Concierto 'Amor' que nos trae el multifacético Andreu Soler junto a Coro Veus del Túria. \nAndreu Soler es multifacético. Pianista\, compositor y como director de coro dirige el Cor Veus del Túria. Un coro joven formado por diversas voces de la comarca del Camp del Túria de Valencia. Nace con el compromiso de ser un coro diferente\, reinvindicativo de la libertad y de la solidaridad en todos sus ámbitos y así se hace patente en sus diversos repertorios y actuaciones\, llenos todos de fuerza y autenticidad. \nDe la mano de su director Andreu Soler\, se ha conseguido unir gente muy diversa que tiene una misma pasión\, la música. El Coro Veus del Túria es una experiencia que no deja indiferente a nadie. \nCurrículum abreviado del Andreu Soler:\nNace en 1987. Licenciado en Piano con las más altas calificaciones por el Conservatorio Superior de Música Salvador Seguí de Castellón. Es Máster en Formación del profesorado y Máster en Didácticas Específicas\, ambos por la Universidad de Valencia. Como Pianista acompaña a prestigiosos coros y agrupaciones de la Comunidad Valenciana\, actuando en salas de toda la geografía española. En su faceta de Marimbista\, Andreu forma parte del Black & White Keys\, dúo de marimba y piano\, con el que ha grabado 2 discos. Han actuado en salas de toda España. Ha actuado como Marimba Solista con las Orquestas de la Unió Musical de l’Eliana o la orquesta Tetracorde de Foios. Como Director de Coro dirige 5 Coros de voces mixtas: Veus del Túria\, Cor de la Pobla de Vallbona\, Sociedad Coral de San Antonio de Benagéber\, Coro del Colegio Alemán de Valencia SEELE\, Coro de la Escuela Oficial de Idiomas de Valencia. Como Compositor\, ha ganado numerosos premios en Concursos de música coral de toda España. Tiene varias obras editadas en la Editorial Piles Ediciones Musicales. Como Productor\, Andreu ha compuesto y producido 3 discos. \nPrograma de mano:\nCONCIERTO AMOR \nParte I \nCoro Veus del Túria \n\nCançó de bres per a una princesa negra….. G.  Janer/ A. Rodríguez\nCançó de bressol | V. A. Estellés/ A. Soler\nParaules d’amor | J. M. Serrat / J. Vila\nAssumiràs la veu | V. A. Estellés/ A. Soler\nCançó de la Rosa de Paper | V. A. Estellés/ A. Soler\nGloria | C. Stephenson\nThi Little light of mine | Gospel\n\nDirector: Andreu Soler \nParte II \nAndreu Soler\, piano \nSelección de obras para piano solo entre las que se encuentran: \n\nLágrimas negras\nAlfonsina y  el mar\nAl alba\nConcierto de Aranjuez\n\nCartel:
URL:https://historico.ateneovalencia.es/evento/musica-en-el-ateneo-concierto-amor-andreu-soler-y-coro-veus-del-turia/
LOCATION:Teatro Ateneo
CATEGORIES:Conciertos Domingos
ATTACH;FMTTYPE=image/jpeg:https://historico.ateneovalencia.es/wp-content/uploads/2024/02/20240211-Concierto-Coro-Veus-del-Turia.jpg
END:VEVENT
BEGIN:VEVENT
DTSTART;TZID=Europe/Madrid:20240218T113000
DTEND;TZID=Europe/Madrid:20240218T130000
DTSTAMP:20260422T044254
CREATED:20240213T191739Z
LAST-MODIFIED:20240216T084857Z
UID:76786-1708255800-1708261200@historico.ateneovalencia.es
SUMMARY:Música en el Ateneo: Concierto ‘Er@Smus_Music +’ - Unión Musical "Padre Basté" - Colegio Sagrada Familia PJO
DESCRIPTION:La Fundación del Ateneo Mercantil de la CV ha organizado un nuevo concierto gratuito en el Teatro Ateneo para el próximo domingo 18 de febrero de 2024 en su horario habitual\, las 11.30 horas. En esta ocasión contaremos con la participación de la Unión Musical "Padre Basté" - Colegio Sagrada Familia Patronato de la Juventud Obrera de Benimaclet\, que\, bajo la dirección de D. Ildefonso Martos Carretero\, nos ofrecerán un programa musical variado y ameno. \nUnión Musical "Padre Basté" - Colegio Sagrada Familia PJO\nEn septiembre de 2011 el director del Patronato de la Juventud Obrera D. José Luis Ferrando\, percibe un creciente interés del alumnado y vecindario de Benimaclet hacia la educación musical y cree que ha llegado el momento de dar un salto cualitativo en este aspecto; creando una banda de música propia\, sin tener que depender de instituciones externas al centro educativo. \nEsta propuesta va dirigida a los alumnos del centro Sagrada Familia PJO\, personas allegadas al Patronato\, gente que ama la música y quiere crecer y potenciar este nuevo proyecto. Y así nace\, la Unión Musical Padre Basté\, demostrando lo importante que es esta iniciativa y los beneficios que aporta la música al ámbito educativo y cultural de la institución\, bajo la dirección de D. Ildefonso Martos Carretero. \nComo es sabido la música es un arte y\, como tal\, requiere de una gran dosis de trabajo y disciplina\, los cuales no tendrían sentido si no fueran acompañados de valores éticos y morales. En definitiva\, valores humanos imprescindibles en nuestra sociedad como el compañerismo\, el respeto hacia uno mismo y hacia los demás. Crearlos\, mantenerlos y afianzarlos va a ser la piedra angular en la que se va a apoyar este proyecto. \nParticipan en multitud de actividades musicales tanto en el centro como en distintos sitios de nuestra geografía y en diferentes proyectos. Han participado en los festivales de bandas juveniles con Sinarcas\, La Font de la Figuera... el proyecto Erasmus + "Digital Musical Learning at School" y el intercambio a Milán con la banda de “San Luigi”. \nLa inclusión de la banda UMPB del colegio Sagrada Familia PJO en la PGA es esencial para proporcionar a los estudiantes una experiencia enriquecedora en lo académico\, pero también en su desarrollo personal\, cultural y social. Actividad que se alinea con la visión educativa integral del Centro\, promoviendo valores\, habilidades artísticas y la participación activa de los estudiantes en la vida cultural de la comunidad educativa. \nIldefonso Martos Carretero \nPosee el "Título de Profesor Superior de Música" en la especialidad de Tuba con las máximas calificaciones y obtiene en el ejercicio de oposición al "Premio extraordinario fin de carrera" la Mención de Honor. Ha estudiado dirección bajo la tutela del maestro D. José Rafael Vilaplana\, D. Ramón Ramírez\, D. Llorens Mendoza\, entre otros. \nComo músico de orquesta sinfónica\, ha sido miembro de la "Orquesta Sinfónica de las Islas Baleares" y de la "Orquesta Sinfónica Isla de la Palma" de Gran Canaria. Con ellas ha realizado conciertos de temporada y temporada de ópera. Ha trabajado bajo la batuta de los maestros Philip Bender\, Renato Palumbo\, Salvador Brotons y Manuel Galduf\, entre otros. En cuanto a la música de cámara ha sido miembro fundador de diversas agrupaciones como el cuarteto de tubas "Bido.net" y el quinteto de metales "Vent de Llevant". En su faceta de músico de jazz y flamenco es miembro fundador de la "Bourbon Street Dixie-Band" y "ReUnión" realizando diversas grabaciones y giras por el resto de Europa. \nEn el ámbito de la pedagogía\, desarrolla actividades en dos campos de la enseñanza musical\, en el de la enseñanza secundaria y en el de la pedagogía instrumental. Como profesor de enseñanza secundaria\, es profesor de música en el Instituto de Enseñanza Secundaria "P.J.O" Sagrada Familia de Valencia desde el año 2004. En el campo de la pedagogía instrumental ha sido profesor y director de diversas escuelas de música de la Comunidad Valenciana. \nComo director\, ha estado al frente de diversas bandas y orquestas de la Comunidad Valenciana\, destacando su paso por la Banda Sinfónica de la "Agrupación Musical Alfara del Patriarca"\, la Banda Sinfónica de la "Unión Musical Santa María del Puig" y la Banda Sinfónica del "CIM de Benimaclet". \nEn la actualidad dirige el coro "MiForte"\, la Banda "Unión Musical Padre Basté" y desde 2018 es el director titular de la banda "Agrupació Musical de Massarrojos". También participa como coordinador en proyectos europeos Erasmus +. \nPrograma del concierto ‘Er@Smus_Music +’\n\nEls Poblets | Miguel Torrens\nEl templario | Jaime Castro\nFor you | Corrado Lambona\n*Er@smus_@rt | Marco Lourenço | *(Preestreno)\nBarco Pirata | David Postiguillo\nErice | Lorenzo Pusceddu\nWe will rock you | Brian May\nFanfare and flourishes | James Curnow\nValencia |  Padilla\nDirector: Ildefonso Martos Carretero\n\nCartel:
URL:https://historico.ateneovalencia.es/evento/musica-en-el-ateneo-concierto-ersmus_music-union-musical-padre-baste-colegio-sagrada-familia-pjo/
LOCATION:Teatro Ateneo
CATEGORIES:Conciertos Domingos
ATTACH;FMTTYPE=image/jpeg:https://historico.ateneovalencia.es/wp-content/uploads/2024/02/20240218-Concierto-Padre-Baste-Erasmus.jpg
END:VEVENT
BEGIN:VEVENT
DTSTART;TZID=Europe/Madrid:20240219T190000
DTEND;TZID=Europe/Madrid:20240219T203000
DTSTAMP:20260422T044254
CREATED:20240201T112954Z
LAST-MODIFIED:20240201T113058Z
UID:76708-1708369200-1708374600@historico.ateneovalencia.es
SUMMARY:Tardes de LiterAteneo XVII: Emi Zanón. La novela de intriga
DESCRIPTION:La décimo séptima edición de Tardes de LiterAteneo\, el ciclo de literatura que coordinan Vicente Bosch y Vicente Barberá Albalat\, llega el próximo lunes 19 de febrero de 2024 en el Salón Sorolla del Ateneo Mercantil. Un nuevo encuentro que en esta ocasión será con la escritora Emi Zanón y nos hablará sobre "La novela de intriga". El presentador será Pascual Casañ. \nTítulo: Emi Zanón. La novela de intriga \nConferenciante: Emi Zanón \nDía: Lunes\, 19 de febrero de 2024 \nHora: 19 horas \nLugar: Salón Sorolla \nEntrada libre y gratuita hasta completar aforo. \nCurrículum abreviado de Emi Zanón:\nEmi Zanón Simón. Escritora\, natural de Buñol (Valencia)\, España. Entusiasta\, vital y enamorada de la Vida. Finalista del XII Premio de Novela Fernando Lara con su primera novela Su último viaje (Editorial Araña\, 2009)\, seleccionada para el proyecto internacional Primitivismo Femenino. Su segunda novela\, la exótica Yámana\, Tierra del Fuego (Editorial Sargantana\, 3ª ed.\, 2019) y su primera novela juvenil La Hierba azul de Calíope (NPQ Editores\, 2018) han cautivado a los lectores y llegado a las principales cadenas de librerías en México. \nFinalista del XXXVI Premio de Novela Felipe Trigo (2016) con Las cinco estaciones de Vivaldi\, (Editorial Sargantana\, 1ª ed.\, septiembre 2020). Finalista de los XL Premios de la Critica Valenciana 2021. \nFinalista del V Certamen Maratón de Microrrelatos de Valencia con La Frontera (2018) y finalista del VII con Homo (2022)\, antologado en La Llum busca el pinzell i la ploma. Antologada en El arte del microrrelato\, Editorial Contrabando\, con ¿Qué es humanizarte? \nOtros títulos publicados de la autora: Metacuentos\, relatos cortos para el despertar de la conciencia\, 3ª edición\, (Editorial Pokhara\, 2004); Dayal\, miradas al interior\, microrrelatos (Bubok\, 2ª ed. 2010); La voz blanca\, aforismos\, reflexiones y poemas de la naturaleza y místicos (Cultivalibros\, 2012). Junto a Clive Carthew\, Pitos y Gritos\, comedia\, estrenada en 2014 por Plateatro. Ha participado en la elaboración del libro 125 Aniversario del C.I.M. La Armónica de Buñol\, 2014. \nArticulista mensual desde 2004 en diferentes medios de comunicación. Ha conducido cuatro ediciones del programa de radio Nueva Consciencia\, y ha colaborado en Radio Euskadi\, Sirena Cope y esRadio\, entre otras. En la primavera de 2017\, fue autora invitada en el VIII Festival de Cultura Hispánica “Cinespañol” en Periguéux (Dordoña) Francia. \nEn 2019\, viajó a México para encontrarse con sus lectores en la XXXIII Feria del Libro de Guadalajara (Jalisco). En 2020\, participó en el Encuentro de Literatura y Fomento a la Lectura\, Feria Internacional del Libro de Coahuila (México) con su novela Yámana\, Tierra del Fuego. Y en FENALIZ 2020\, Feria Nacional del Libro de Zacatecas (México) con La hierba azul de Calíope. \nEn 2021\, coordina la I Jornada Literaria “Castillo de Buñol”\, Viaje a la Literatura del Siglo XXI en la Comunidad Valenciana\, organizada por la Concejalía de Cultura del Ayuntamiento de Buñol y CLAVE (Asociación valenciana de escritores y críticos). Y en 2023\, la II Jornada con el lema Las nuevas formas de literatura en el Siglo XXI. Desde 2011\, colabora en la Biblioteca Pública de Buñol para dinamizar e impulsar diversas actividades culturales. \nLeer y escribir son sus grandes pasiones. Todas sus actividades creativas y de comunicación forman parte de un compromiso que estableció hace años con ella misma y con la nueva Humanidad emergente\, basada en el amor y el respecto a todo lo que nos rodea. A través de sus novelas\, relatos cortos\, microrrelatos\, poesía\, artículos\, radio… se consagra plenamente a la "trascendentalidad" como valor superior y fundamental del ser humano\, necesario para hallar el auténtico sentido a nuestra existencia. \nCartel:
URL:https://historico.ateneovalencia.es/evento/tardes-de-literateneo-xvii-emi-zanon-la-novela-de-intriga/
LOCATION:Salón Sorolla - Ateneo Mercantil de Valencia\, Plaza del Ayuntamiento 18\, Valencia\, Valencia\, 46002\, España
CATEGORIES:Tardes de LiterAteneo
ATTACH;FMTTYPE=image/jpeg:https://historico.ateneovalencia.es/wp-content/uploads/2024/02/20240219-LiterAteneo-XVII-EMI-ZANON-1.jpg
END:VEVENT
END:VCALENDAR