BEGIN:VCALENDAR
VERSION:2.0
PRODID:-//Ateneo Mercantil de Valencia - ECPv6.0.4//NONSGML v1.0//EN
CALSCALE:GREGORIAN
METHOD:PUBLISH
X-WR-CALNAME:Ateneo Mercantil de Valencia
X-ORIGINAL-URL:https://historico.ateneovalencia.es
X-WR-CALDESC:Eventos para Ateneo Mercantil de Valencia
REFRESH-INTERVAL;VALUE=DURATION:PT1H
X-Robots-Tag:noindex
X-PUBLISHED-TTL:PT1H
BEGIN:VTIMEZONE
TZID:Europe/Madrid
BEGIN:DAYLIGHT
TZOFFSETFROM:+0100
TZOFFSETTO:+0200
TZNAME:CEST
DTSTART:20230326T010000
END:DAYLIGHT
BEGIN:STANDARD
TZOFFSETFROM:+0200
TZOFFSETTO:+0100
TZNAME:CET
DTSTART:20231029T010000
END:STANDARD
END:VTIMEZONE
BEGIN:VEVENT
DTSTART;TZID=Europe/Madrid:20231104T190000
DTEND;TZID=Europe/Madrid:20231104T203000
DTSTAMP:20260421T225049
CREATED:20230912T111226Z
LAST-MODIFIED:20231031T123737Z
UID:75352-1699124400-1699129800@historico.ateneovalencia.es
SUMMARY:Concierto - Tributo a Rocío Jurado por Ana María La Pelirroja
DESCRIPTION:El Ateneo Mercantil de Valencia rinde un sentido homenaje a Rocío Jurado con un espectáculo fantástico plenamente recomendable\, con una perfecta escenografía y bailes en cada una de las actuaciones de la mano de Ana María ‘La Pelirroja’ que aúna una gran profesionalidad y una voz que emociona. \nPara que no te lo pierdas hemos programado una promoción especial\, pinchando aquí\, del 50% de descuento para los socios del Ateneo Mercantil utilizando código promocional SOCIOROCIO50 y un 40% de descuento para el público en general utilizando el código promocional ROCIO40. También es posible obtener estos descuentos en las taquillas del Ateneo Mercantil de Valencia. \nAna María La Pelirroja rinde Tributo a la más Grande\, como fue Rocío Jurado\, haciendo un recorrido por todos sus grandes éxitos musicales que marcaron la carrera de esa gran artista. \nLa prodigiosa voz\, la elegancia y el arte que caracteriza a Ana María Puente\, hacen de este espectáculo digno de homenajear a las mas Grande. \nReviviremos momentos únicos en la vida de Rocio Jurado proyectados visualmente para el deleite del público\, llegando a la parte final del espectáculo con un cuadro flamenco donde Ana Maria Puente dará voz a esos temas que Rocio Jurado hacía tan suyos. Gran Tributo rendido desde el respeto y admiración que Ana Maria siente por esta artista universal. \nVenta de entradas en taquillas del Ateneo y de venta online aquí: \nhttps://entradas.ateneovalencia.es/espectaculo/3/tributo-a-rocio-jurado.html\nCartel:
URL:https://historico.ateneovalencia.es/evento/concierto-tributo-a-rocio-jurado-por-ana-maria-la-pelirroja/
LOCATION:Teatro Ateneo
CATEGORIES:Conciertos y Recitales
ATTACH;FMTTYPE=image/jpeg:https://historico.ateneovalencia.es/wp-content/uploads/2023/10/20231104-Tributo-Rocio-Jurado-evento.jpg
END:VEVENT
BEGIN:VEVENT
DTSTART;TZID=Europe/Madrid:20231105T113000
DTEND;TZID=Europe/Madrid:20231105T130000
DTSTAMP:20260421T225049
CREATED:20231031T132403Z
LAST-MODIFIED:20231031T132404Z
UID:75732-1699183800-1699189200@historico.ateneovalencia.es
SUMMARY:Música en el Ateneo: Concierto gratuito de piano y saxofón - Espectáculo Contrastes
DESCRIPTION:La Música en el Ateneo que organiza la Fundación Ateneo Mercantil CV con la colaboración de ESMAR\, la Escuela Superior de Música de Alto Rendimiento\, ha preparado un concierto gratuito de piano y saxofón para el próximo domingo 5 de noviembre a las 11.30 horas en el Teatro Ateneo.  Un espectáculo que llega bajo el título 'Contrastes' y en el que podremos ver a DASPEC\, un dúo formado por dos jóvenes de primer nivel como son Blanca González al piano y Miguel Ángel Pacheco al saxo. \nLa palabra Contrastes define una oposición o diferencia notable entre varias cosas. Musicalmente\, siempre se ha contrastado y alejado la música jazz con la del ámbito clásico debido a una aparente diferencia entre estos dos géneros. Este programa de los siglos XX y XXI presenta toda una serie de obras que fusionan la escritura clásica musical con la jazzística\, incluyendo elementos de esta para comprobar que los dos géneros no están tan alejados uno del otro. \nDASPEC es un dúo formado por el saxofonista Miguel Ángel Pacheco Maicas y la pianista Blanca González Peris. Una agrupación versátil\, capaz de acomodarse a cualquier registro musical: desde el repertorio más clásico hasta el contemporáneo\, sin olvidar el repertorio que incluye más jazz o flamenco entre otros. \nHan actuado en el festival "Diacronías"\, en el encuentro de música contemporánea organizado por "Kuraia Ensemble" y en ciclos de conciertos organizados por la AÏS\, o en el Ciclo Amadeus entre otros. También han sido finalistas en prestigiosos concursos como en el "27è Concurs Josep Mirabent i Magrans" o en la 2a edición del concurso de música de cámara "FIM". Han actuado en diferentes salas como el Auditorio "Joaquín Rodrigo de las Rozas" o en el "Museo de Bellas Artes de Coruña" y han recorrido salas de España por Bilbao\, Coruña\, Madrid\, Toledo\, Barcelona\, Valencia... Sus actuaciones pueden depender según el objetivo de esta. Son artistas multidisciplinares que dominan también instrumentos como la percusión y la pueden incluir en sus conciertos\, además de trabajar también con música electroacústica. \nCurrículum de Blanca González:\nNacida en Torrent en el año 2000. Cursa el Grado Elemental y el Profesional en el "Conservatori Professional de Música de Torrent"\, terminándolo con Mención Honorífica en Piano y el Premio Profesional de Música de Cámara. Cursó sus estudios de Grado Superior en la ESMAR con Rubén Talón como mentor\, finalizándolos con matrícula de honor. Actualmente\, realiza un máster de interpretación musical con Vladislav Bronevetzky. Ha perfeccionado su técnica con diversos másters en "Método Suzuki" y "Music Mind Games". \nHa complementado sus estudios con distintos cursos de formación profesional como Fórum Musikae\, el Curso y Festival Venta del Moro\, Encuentro Pianístico Sala Clemente\, Curso VIPA\, Masterclasses en el Ciclo Amadeus... Ha recibido diferentes masterclasses de prestigiosos pianistas como Piotr Paleczny\, Jura Margulis\, Andreas Frolich\, Pascual Nemirovski... \nActuaciones como solista con la Orquesta del Conservatorio Profesional de Torrent y con la Orquesta Sinfónica ESMAR\, entre otras. Ha actuado en prestigiosas salas nacionales como el Auditori de Torrent\, Teatro la Primitiva de Llíria\, Sala Clemente\, Auditorio Luís Monzonís... e internacionales como el Museo Diocesano de Brescia (Italia) o el Palau de Gel (Andorra). Ha sido galardonada en importantes concursos\, quedando primera en el "Fanny Mendelssohn Competition"\, "Caneres Competition" y en el "International Moscow Music Competition". Además\, tiene experiencia laboral trabajando en la Academia Allegreto Torrent y en el Conservatorio Profesional IALE. \nCurrículum de Miguel Ángel Pacheco Maicas:\nNacido en Faura en el año 2002. Estudia el Grado Elemental con Vicent Aznar y el Grado Profesional en el "Conservatori Mossén Francesc Peñarroja" graduándose con expediente sobresaliente y el premio final de carrera. Actualmente\, estudia el Grado Superior en Interpretación del saxofón con la concertista internacional Xelo Giner en la ESMAR. Ha complementado su formación con los mejores saxofonistas del panorama internacional (Vincent David\, Maribe Charrier\, Arno Bornkamp...). También se ha nutrido de formación especializada en música de cámara con el cuarteto "Púrpura Pansa". Ha hecho conciertos en salas muy prestigiosas como el Palau de les Arts\, el Palau de la Música\, el ADDA\, el Palau de Gel\, Auditorio Federico García Lorca\, Auditorio Luís Monzonís... \nHa sido Galardonado en diversos concursos nacionales e internacionales: 2º premio y Premio al mejor intérprete de música contemporánea en el concurso " XXI Intercentros Melómano"\, 1er premio en el concurso "Jóvenes Talentos Las Provincias"\, 1er premio en internacionales como el "Charleston International Music Competition" o "King's Peak International Music Competition" entre otros. Ganador de diferentes becas como la beca "AIE de Alta Especialización"\, la beca "Consolat de Mar" o la beca "UNIR" entre otras. \nExperiencia como saxofón solista en la "Orquestra de la Comunitat Valenciana - Les Arts" bajo la batuta de James Gaffigan o la "Moonwinds Orquesta" dirigido por Joan Enric Lluna. Experiencia como saxofón solista al frente de orquestas como la orquesta ESMAR o bandas como la SJMF. Colaboraciones con la mejor banda de la Comunitat Valenciana\, la Banda Primitiva de Llíria (grabaciones de discos\, certámenes...). Experiencia en entrevistas y programas de televisión (Levante\, Melómano Digital\, Àpunt...). \nCartel:
URL:https://historico.ateneovalencia.es/evento/musica-en-el-ateneo-concierto-gratuito-de-piano-y-saxofon-espectaculo-contrastes/
LOCATION:Teatro Ateneo
CATEGORIES:Conciertos Domingos
ATTACH;FMTTYPE=image/jpeg:https://historico.ateneovalencia.es/wp-content/uploads/2023/10/20231105-Musica-en-el-Ateneo-Duo-DISPEC.jpg
END:VEVENT
BEGIN:VEVENT
DTSTART;TZID=Europe/Madrid:20231112T113000
DTEND;TZID=Europe/Madrid:20231112T130000
DTSTAMP:20260421T225049
CREATED:20231102T122805Z
LAST-MODIFIED:20231102T122834Z
UID:75742-1699788600-1699794000@historico.ateneovalencia.es
SUMMARY:Música en el Ateneo - Concierto Gratuito de Piano y Flauta ‘COMPOSITORAS’ por MEL DUO
DESCRIPTION:La Fundación del Ateneo Mercantil de la CV organiza un nuevo concierto gratuito el próximo domingo 12 de noviembre a las 11.30 horas en el que el Piano y la Flauta serán los grandes protagonistas. Un proyecto que llega bajo el nombre 'Compositoras'\, en el que se ensalzará a la figura de la mujer dentro de la historia de la música. \nEl papel de la mujer en todos los ámbitos de la vida pública ha sido tradicionalmente silenciado. Y en el imaginario colectivo\, el conocimiento es eminentemente masculino. A día de hoy\, la lucha por sacar a la luz la figura femenina nos proporciona herramientas para limitar estos privilegios. Y es que siempre hubo\, hay y habrá muchas mujeres ofreciendo su talento a la humanidad\, aún sabiendo que la primera reacción será el desdén. Este fenómeno también sucede en el mundo de la música y el objetivo de Mel Duo es poner en valor el gran valor de estas artistas. \nMel Duo\nAdemás\, Mel Duo es un proyecto musical que busca recuperar la figura y la voz de la mujer en la música clásica. Formada por Elena Doménech y Carlos Ferrer\, la agrupación es el producto de una investigación en estos términos. Ambos músicos interpretan un repertorio exclusivo para flauta y piano compuesto en su totalidad por mujeres\, algo poco habitual en las salas de concierto. Con este proyecto\, nacido en 2018\, la agrupación ha actuado en numerosos recitales en la Comunidad Valenciana. También han participado en el Festivalie de Madrid y en el Primer Festival de Música de Cámara de Honduras. Han sido galardonados con el Segundo premio en el VIII Concurso Jóvenes Intérpretes de Música de Cámara de Montserrat y han sido seleccionados para la convocatoria MUSAE 2023. En su labor divulgativa\, han creado un perfil de Instagram donde publican información sobre las compositoras y recientemente han grabado una pieza para flauta y piano inédita. \nCurrículum de Elena Doménech Lorente\nTitulada en el Conservatorio Superior de Música de Aragón con Miguel Ángel Ortega Chavaldas\, finalizándolos en el Conservatorio Superior de Música de Valencia “Joaquín Rodrigo” con los profesores Carlos Apellániz y David Ortolà. Ha participado en múltiples masterclass con destacados pianistas como Anna Jastrezebska\, Josu de Solaun y Graham Jackson\, entre otros; así como en cursos de pedagogía pianística en el Instituto de Educación Musical “EmilioMolina” y Musikeon. Actualmente estudia un Máster de Investigación Musical en la Universidad Europea de Madrid.\nHa actuado como solista\, acompañante y miembro de agrupaciones camerísticas en salas de toda España. También ha participado en la creación e interpretación de varios espectáculos multidisciplinares con danza y arte dramático de carácter reivindicativo y social. Ha trabajado como pianista acompañante en varios conservatorios de la Comunidad Valenciana y en la actualidades pianista en el Conservatorio Superior de Danza de Valencia. Además\, forma parte de la orquesta Madrid Sifónico DécimoArte. \nCurrículum de Carlos Ferrer Peralta\nHa realizado estudios superiores de flauta en el Conservatorio Superior de Música de Aragón de la mano de Antonio Nuez\, Fernando Gómez y André Cebrián\, y un máster en Investigación Musical en la Universidad Internacional de Valencia\, además de diversos cursos y masterclass con flautistas de relevancia internacional como Aldo Baerten\, Paul Edmond Davies o Emily Beynon\, entre otros. Como músico clásico ha participado en numerosos concursos como el Concurso villa de Cox o el Concurso de Jóvenes intérpretes de Castelnovo en el cual obtiene el tercer premio... También forma parte de la banda y orquesta del Ateneo Musical del Puerto de Valencia y de la Artística de Buñol. Además\, se encuentra en pleno desarrollo de un proyecto íntimo ligado al flamenco\, al rock y a la música urbana con la flauta. Genera una amplia producción musical en redes sociales brindando una oportunidad nueva de aprendizaje y de producción creativa. Energía\, fusión y fuerza definen a un músico polifacético que el amor por la flauta y por el arte hacen que cada segundo de su vida gire en torno a la música. \nCartel:
URL:https://historico.ateneovalencia.es/evento/musica-en-el-ateneo-concierto-gratuito-de-piano-y-flauta-compositoras-por-mel-duo/
LOCATION:Teatro Ateneo
CATEGORIES:Conciertos Domingos
ATTACH;FMTTYPE=image/jpeg:https://historico.ateneovalencia.es/wp-content/uploads/2023/11/20231112-Concierto-Mel-Duo-Musica-Ateneo-Piano-Flauta.jpg
END:VEVENT
BEGIN:VEVENT
DTSTART;TZID=Europe/Madrid:20231113T190000
DTEND;TZID=Europe/Madrid:20231113T203000
DTSTAMP:20260421T225049
CREATED:20231013T120406Z
LAST-MODIFIED:20231013T121311Z
UID:75640-1699902000-1699907400@historico.ateneovalencia.es
SUMMARY:Tardes de LiterAteneo XIV: Julio Delgado. Música de Hispanoamérica
DESCRIPTION:Décimo cuarta sesión de Tardes de LiterAteneo en la que acercaremos al público la figura del cantautor\, músico\, guitarrista y arreglista argentino\, Julio Delgado. Un gran artista internacional que es ex guitarrista de Alberto Cortez\, Paloma San Basilio\, Mercedes Sosa y Horacio Guarany\, entre otros. \nJulio Delgado nos hará un recorrido por la historia de la Música de Hispanoamérica y nos deleitará con un mini concierto en el que se ejemplificaran los distintos estilos de la música hispanoamericana. Junto a Julio Delgado estará acompañándole por el músico paraguayo\, Miguel Aquino\, un especialista del arpa. Presenta el acto Vicente Barberá y lo coordina Vicente Bosch. \nTítulo: Julio Delgado. Música de Hispanoamérica \nConferenciante: Julio Delgado (guitarra)\, acompañado de Miguel Aquino (arpa) \nDía: Lunes 13 de noviembre de 2023 \nHora: 19 horas \nLugar: Salón Sorolla del Ateneo Mercantil de Valencia \nEntrada libre y gratuita hasta completar a aforo. \nCurrículum de Julio Delgado:\nGuitarrista\, cantautor argentino internacional\, arreglista y productor de trabajos discográficos\, oriundo de Paraná\, Entre Ríos\, afincado en Valencia\, con actuaciones en radio\, televisión y teatros\, acompañando desde temprana edad a grandes artistas como Ginette Acevedo\, Horacio Guarany\, Alberto Cortez\, entre otros. Contratado por RCA Víctor en Buenos Aires en su juventud\, participó en la Gran Orquesta de Santos Lípesquer\, André y su conjunto\, Grupo Latitud Sur\, Los Calchaquies. \nEn España actúo individualmente en Antena 3\, Telecinco\, Canal Nou de Valencia\, TV Autonómica de Galicia y TV Autonómica de Cataluña\, así como en la 1 de TVE. Colaboró con los arreglos musicales en la obra musical de Luis Aguilé: "La erotísima Doña Inés"\, 2002. Formó pareja televisiva en Canal 13 de Valencia\, con Miguel Bras\, en el programa "Abrázame en la noche"\, del 2004 al 2007. En septiembre de 2014 participó en la Ópera Tango de Astor Piazzola y Ferrer\, "María de Buenos Aires"\, en el Festival de Música de Cámara de Cullera bajo la dirección del maestro Per Arne Glorvigen\, en marzo de 2015 en la Ópera de Berlín con la cantante Julia Zenko y en varios teatros europeos. En 2015 en Navajas\, el 26 de diciembre\, presentó "La Misa Criolla" del maestro Ariel Ramírez\, acompañado por la Agrupación Coral Polifónica de Navajas\, dirigida por el maestro Fernando Manzaneque\, prestigioso director valenciano\, y por el grupo folclórico Sudamérica Ensamble. \nEn el año 2016 recibió el galardón La Solapa de manos de Néstor Cuestas quien presidía dicha organización\, en el Hotel Mayorazgo de Paraná\, Argentina\, por su trayectoria internacional difundiendo música y compositores de Entre Ríos y\, en el mismo mes\, en Mar del Plata\, recibe el reconocimiento de la comisión del Faro de Oro\, entregándole el galardón del mismo nombre\, por la misma razón. Numerosas actuaciones en el mítico Teatro 3 de febrero de Paraná\, Argentina desde el año 2015. \nEn la actualidad brinda conciertos en diferentes lugares de Europa\, así como Sudamérica\, siendo productor y arreglista de innumerables trabajos discográficos como "El placer de compartir" de Jorge Méndez y\, de varios artistas y poetas argentinos y españoles. Está estrechamente ligado a las ciudades de Valencia y Castellón donde ha cultivado vínculos amistosos con la sociedad musical y poética\, participado en múltiples eventos individuales y colectivos\, peñas amistosas y solidarias. Con la nueva tecnología digital sigue poniendo su guitarra por medio de grabaciones para importantes artistas del mundo. \nCurrículum de Miguel Aquino: \nNace en Asunción (Paraguay) donde realizó sus estudios del instrumento emblema del Paraguay\, el Arpa India\, y donde comenzó su carrera musical. Viajó a Europa con el grupo "Paraguay 3" como instrumentista de arpa y segunda voz del grupo\, con el que recorrió Europa\, actuando en diversos e importantes escenarios. Finalmente\, se radicó en la ciudad de Valencia\, acompañando a diversos intérpretes. Aquí ha regenteado su propio local durante 23 años\, donde funcionaba una peña folklórica sudamericana. \nPrograma - Repertorio de la actuación musical:\n\nA mis amigos – Las palmeras\nMelodía de arrabal\nCantor de oficio\nEl año que se detuvo el tiempo\nMilonga del trovador\nBalada para un loco\nRecuerdos de Ypacaraí\nYerbatera\nMisionera\nPájaro Campana\n\nCartel:\n \n 
URL:https://historico.ateneovalencia.es/evento/tardes-de-literateneo-xiv-con-julio-delgado-y-miguel-aquino-musica-de-hispanoamerica/
LOCATION:Salón Sorolla - Ateneo Mercantil de Valencia\, Plaza del Ayuntamiento 18\, Valencia\, Valencia\, 46002\, España
CATEGORIES:Tardes de LiterAteneo
ATTACH;FMTTYPE=image/jpeg:https://historico.ateneovalencia.es/wp-content/uploads/2023/10/20231113-LiterAteneo-XIV-Julio-Delgado-acompanado-Miguel-Aquino.jpg
END:VEVENT
BEGIN:VEVENT
DTSTART;TZID=Europe/Madrid:20231119T113000
DTEND;TZID=Europe/Madrid:20231119T133000
DTSTAMP:20260421T225049
CREATED:20231116T120556Z
LAST-MODIFIED:20231116T120556Z
UID:75932-1700393400-1700400600@historico.ateneovalencia.es
SUMMARY:Concierto de Folklore de Peña Huertana “La Crilla” y el Grup de Danses “El Forcat”
DESCRIPTION:El Folklore toma relevancia en el nuevo concierto gratuito del Ciclo Música en el Ateneo del próximo domingo 19 de noviembre de 2023\, que se celebrará en el Teatro Ateneo a partir de las 11.30 horas. En esta ocasión vienen dos importantes grupos como son el Grupo de Coros y Danzas Siete Coronas de la Peña Huertana “La Crilla” de Puente Tocinos - Murcia y el Grup de Danses "El Forcat" de Valencia para conmemorar la Clausura del 70 Aniversario de la Fundación Casa de Murcia y Albacete en Valencia (1953-2023). \nGrupo de Coros y Danzas Siete Coronas de la Peña la Huertana "La Crilla" de Puente Tocinos (Murcia)\nEl Folklore Murciano. La Región de Murcia goza de una gran riqueza folklórica\, debida fundamentalmente al talento autóctono y al cruce cultural propiciado por su particular situación geográfica. La ciudad\, junto con su huerta y campo\, ha aportado canciones y bailes que se remontan en el tiempo y de gran valor\, que nos imprimen una personalidad propia. Por otro lado\, el murciano ha sabido transmitir su propia personalidad a los cantos y bailes de otras tierras como las malagueñas y las jotas. \nHoy ofrecen una muestra de folklore de la huerta de Murcia y de otras comarcas de la región\, con el firme deseo de agradar dejando lo mejor de ellos en el 70 Aniversario de la Casa Regional de Murcia y Albacete en Valencia\, con la que nuestra peña está hermanada oficialmente desde el mes de octubre del 2012\, tras una larga y estrecha vinculación en la convivencia y colaboración sociocultural con ellos y de la que todos se sienten orgullosos\, especialmente los murcianos y manchegos  que han hecho su vida en la muy querida capital del Turia\, al amparo y bajo la protección de la “Mare de Déu”\,  como ellos se honran con su amistad y con la extraordinaria diferencia de hacerles partícipes de tan extraordinaria efeméride. Como daría la canción: “70 años no son nada”\, pero hay que vivirlos. ¡va por los años pasados! y por los venideros. \nGrup de Danses "El Forcat" (Valencia)\nFundada en noviembre de 1992 por Vicent Garijo Hernández y tiene como única finalidad el estudio\, investigación y divulgación de la indumentaria\, la danza y la música tradicional valenciana. Está compuesta por diferentes secciones como: grupo de baile\, rondalla. Tienen una larga trayectoria de actuaciones a lo largo de todo el territorio de la Comunitat Valenciana\, además de participar en numerosos acontecimientos en todo el ámbito nacional y a nivel internacional. “El Forcat” ha representado a nuestra tierra por numerosos países\, entre ellos: Francia\, Republica Checa\, Eslovaquia\, Portugal y Bulgaria. \nOtro apartado dentro de la investigación\, es el dedicado a las canciones\, músicas y bailes\, haciendo trabajos de recuperación\, enseñanza y difusión de las composiciones casi desaparecidas. Su principal proyecto es ser transmisores de esta gran herencia cultural\, por lo que su objetivo es interpretar tanto en baile\, canto y representación escénica esta gran riqueza que es el folklore valenciano e intentan mostrarlo de la forma más popular\, genuina y auténtica. \nTambe hay que destacar su labor de difusión de los trabajos de investigación mediante conferencias\, recopilación de indumentaria original tradicional valenciana en distintas exposiciones y muestras; y la grabación de música y canciones populares. \n“El Forcat” Danses Valencia cuenta en la actualidad con más de 40 miembros y ofrece en sus espectáculos\, una gran variedad de colorido en su indumentaria que unidos a la gran diversidad de bailes\, hacen que el espectador goce del folklore valenciano y que aprecien la calidad y la labor de sus integrantes. \nPrograma de mano:\nGrupo de Coros y Danzas Siete Coronas de la Peña Huertana “La Crilla” de Puente Tocinos - Murcia \n\nJota del Campillo de Ojós.\nParrandas del Raiguero de Totana.\nMalagueña de Murcia.\nPardicas de Cehegin.\nMalagueña de Abajo.\nManchegas de Ricote.\nJota de la Puebla de soto. \n\nGrup de Danses "El Forcat" de Valencia \n\nJota de tía Milieta (Barxeta).\nMalaguenya (Agost).\nBolero Loco (Valéncia).\nEl Tripitri (Russafa).\nSeguidillas (Titaguas). \nL’ú i el dos (Albuixech).\n\nCartel:\n \n  \n 
URL:https://historico.ateneovalencia.es/evento/concierto-de-folklore-de-pena-huertana-la-crilla-y-el-grup-de-danses-el-forcat/
LOCATION:Teatro Ateneo
CATEGORIES:Conciertos Domingos
ATTACH;FMTTYPE=image/jpeg:https://historico.ateneovalencia.es/wp-content/uploads/2023/11/20231119-Folklore-Murcia-Albacete-Valencia.jpg
END:VEVENT
BEGIN:VEVENT
DTSTART;TZID=Europe/Madrid:20231126T113000
DTEND;TZID=Europe/Madrid:20231126T150000
DTSTAMP:20260421T225049
CREATED:20231106T191946Z
LAST-MODIFIED:20231106T191947Z
UID:75773-1700998200-1701010800@historico.ateneovalencia.es
SUMMARY:Música en el Ateneo - Concierto Gratuito del Aula de Guitarra del CSMV
DESCRIPTION:La Fundación del Ateneo Mercantil de la CV organiza un nuevo concierto gratuito este domingo 26 de noviembre a las 11.30 horas en el Teatro Ateneo en colaboración con el Conservatorio Superior de Música 'Joaquín Rodrigo' de Valencia. Una mañana en la que los alumnos del Aula de Guitarra de CSMV\, bajo la batuta de sus profesores Rubén Parejo y Miquel Pérez\, nos deleitarán con un programa ameno y en la que pondrán en práctica sus grandes dotes con la guitarra. Los alumnos y alumnas que actúan en el concierto serán Empar Sánchez\, Marta Andreu\, Alessio Di Blasio\, Aida Alonso\, Diego Fabra y Fran Mifsud. \nBreve currículum de los alumnos:\nEmpar Sánchez Muñoz. Nacida en Alginet (Valencia)\, empezó sus estudios musicales a la edad de 16 años en la S.A.M.A. Alginet donde finalizó el grado profesional. Actualmente está cursando los estudios superiores de interpretación clásica en el Conservatorio Superior de Música de Valencia “Joaquín Rodrigo”. Ha recibido clases magistrales de diversos guitarristas como Alí Arango\, Johan Frostier\, Pedro Mateo\, etc. \nMarta Andreu Bernat. Marta Andreu nace en Castellón en 2001 y estudia guitarra desde los 6 años. Cursó el grado profesional de música en el Conservatorio Profesional de Música ‘Mestre Goterris’ de Villarreal. Actualmente\, está cursando el grado superior de interpretación musical en el Conservatorio Superior de Música ‘Joaquín Rodrigo’ de Valencia con el profesor Miquel Pérez Perelló. \nAlessio di Blasio. Nació en Roma en 2001. Muy pronto empezó a estudiar música en el conservatorio “Santa Cecilia” de Roma\, completando la duración de todo el curso preacadémico. Posteriormente\, se matriculó en el conservatorio "Licinio Refice" de Frosinone\, donde obtuvo la licenciatura trienal en guitarra en 2023. Actualmente estudia guitarra clásica en el Conservatorio “Joaquín Rodrigo” de Valencia\, ciudad en la que decidió pasar su año Erasmus. \nAida Alonso Mateu. Actualmente\, Aida está terminando el grado superior de interpretación en el CSMV Joaquín Rodrigo con Rubén Parejo\, obteniendo matrícula de honor en 1º y 2º curso. Su experiencia concertística abarca escenarios como l’Almudí\, el MAGA de Gandía\, Bellreguard\, Cuartell\, Bolbaite o Valencia. Ha participado en ciclos de conciertos y ha actuado en el programa Play Radio. Ganó el 1er premio en el VI Concurso de Guitarra de Gandía el año 2021 y quedó finalista en el 2º concurso de guitarras Raimundo. \nDiego Fabra Ibáñez. Actualmente finaliza sus estudios superiores de interpretación de guitarra clásica con Rubén Parejo en el CSMV\, complementando su formación mediante clases magistrales con músicos de la talla de Leo Brouwer\, Hopkinson Smith\, Pedro Mateo o Pedro Navarro. Ha realizado varias actuaciones en festivales y recitales. \nFran Mifsud Vercher. Natural de Tavernes de la Valldigna\, Fran Mifsud Vercher se ha formado con destacados guitarristas como Manuel Babiloni\, Jorge Orozco y Rubén Parejo\, con quien cursa el postgrado. Entre sus grabaciones destaca Preludios de Bitácora\, de Brian Martínez\, publicada en el CD Luces del Norte. \nPrograma del concierto:\n\n4 Bagatellas en forma de Suite Cósmica................................ M. Smaili (1967)\n\nPor Empar Sánchez Muñoz \n\nVariaciones sobre el Carnaval de Venecia............................. F. Tárrega (1852-1909)\n\nPor Marta Andreu Bernat \n\nPassacaglia en Re.......................................................................... S. L. Weiss (1686-1750)\nVerano Porteño............................................................................. A. Piazzolla (1921-1992)\n\nPor Alessio di Blasio \n\nSevilla \, de Suite Española op 47............................................... I. Albéniz (1860-1909)\n\nPor Aida Alonso Mateu \n\nAquelarre y Danza de Cartón.................................................... D. Fortea (1878-1953)\nCon garbo y salero........................................................................ Sabicas (1912-1990)\n\nPor Diego Fabra Ibáñez \n\n Valseana\, preludio e toccatina................................................. S. Assad (1952)\n\nPor Fran Mifsud Vercher \n\nConcierto en Re op (2º mov)*................................................... M. C-Tedesco (1895-1968)\n\nPor el Duo Aida Alonso/ Fran Mifsud \n                        (*arr. de Rubén Parejo) \nCartel:
URL:https://historico.ateneovalencia.es/evento/musica-en-el-ateneo-concierto-gratuito-del-aula-de-guitarra-del-csmv/
LOCATION:Teatro Ateneo
CATEGORIES:Conciertos Domingos
ATTACH;FMTTYPE=image/jpeg:https://historico.ateneovalencia.es/wp-content/uploads/2023/11/20231126-Concierto-Guitarra-CSMV.jpg
END:VEVENT
END:VCALENDAR