BEGIN:VCALENDAR
VERSION:2.0
PRODID:-//Ateneo Mercantil de Valencia - ECPv6.0.4//NONSGML v1.0//EN
CALSCALE:GREGORIAN
METHOD:PUBLISH
X-ORIGINAL-URL:https://historico.ateneovalencia.es
X-WR-CALDESC:Eventos para Ateneo Mercantil de Valencia
REFRESH-INTERVAL;VALUE=DURATION:PT1H
X-Robots-Tag:noindex
X-PUBLISHED-TTL:PT1H
BEGIN:VTIMEZONE
TZID:Europe/Madrid
BEGIN:DAYLIGHT
TZOFFSETFROM:+0100
TZOFFSETTO:+0200
TZNAME:CEST
DTSTART:20230326T010000
END:DAYLIGHT
BEGIN:STANDARD
TZOFFSETFROM:+0200
TZOFFSETTO:+0100
TZNAME:CET
DTSTART:20231029T010000
END:STANDARD
END:VTIMEZONE
BEGIN:VEVENT
DTSTART;TZID=Europe/Madrid:20231007T190000
DTEND;TZID=Europe/Madrid:20231007T210000
DTSTAMP:20260421T181913
CREATED:20230912T085025Z
LAST-MODIFIED:20230912T085025Z
UID:75340-1696705200-1696712400@historico.ateneovalencia.es
SUMMARY:Segundo concierto homenaje-tributo a Nino Bravo por su hija Eva Ferri
DESCRIPTION:Tras el éxito del primer concierto\, en el que se colgó el cartel de "todo vendido"\, el Ateneo Mercantil de Valencia junto a Garpe Music han organizado un nuevo especial en homenaje a Nino Bravo\, en el que su hija Eva Ferri le cantará a su padre en el 50 aniversario de su muerte. Un concierto de sentimientos a flor de piel\, ya que Eva\, como su hermana Amparo\, han crecido escuchando la música de Nino Bravo. Sin ir más lejos\, Eva ya pudo homenajearle en 1997\, cuando grabó la canción "Vuelve" junto a la voz de su padre. "Tuve la oportunidad de poder cantar con mi padre\, fue una experiencia única… y lo más cerca que he estado de él. Ahora en el Ateneo Mercantil de Valencia se podrá revivir de nuevo este binomio tan especial\, de padre e hija". \nEl segundo homenaje-tributo a Nino Bravo será el próximo sábado 7 de octubre de 2023 a las 19 horas en el Teatro Ateneo y tendrá una duración de casi dos horas\, en las que se interpretarán sus canciones más destacadas y alguna que otra sorpresa que emocionarán a todos los asistentes. Junto a Eva Ferri\, estarán en el escenario Felipe Garpe y Sheila García\, quienes forman un triángulo de auténtico lujo sobre el escenario. \nNino\, en su breve carrera discográfica de apenas tres años\, dejó auténticos himnos como "Libre"\, "Te quiero\, te quiero"\, "Un beso y una flor" o "América\, América"\, entre otras\, y catapultó al cantante valenciano a la fama mundial\, siendo un ídolo inolvidable para varias generaciones. \nLas entradas ya están a la venta desde 17 euros tanto en taquillas del Ateneo Mercantil como de venta online en el siguiente enlace: \nhttps://entradas.ateneovalencia.es/espectaculo/3/nuevo-homenaje-a-nino-bravo-por-su-hija-eva-ferri.html\nCartel:
URL:https://historico.ateneovalencia.es/evento/segundo-concierto-homenaje-tributo-a-nino-bravo-por-su-hija-eva-ferri/
LOCATION:Teatro Ateneo
CATEGORIES:Conciertos Domingos
ATTACH;FMTTYPE=image/jpeg:https://historico.ateneovalencia.es/wp-content/uploads/2023/07/20230924-Concierto-Nino-Bravo.jpg
END:VEVENT
BEGIN:VEVENT
DTSTART;TZID=Europe/Madrid:20231012T183000
DTEND;TZID=Europe/Madrid:20231012T200000
DTSTAMP:20260421T181913
CREATED:20230912T100759Z
LAST-MODIFIED:20230912T100801Z
UID:75348-1697135400-1697140800@historico.ateneovalencia.es
SUMMARY:Concierto de Zarzuela - Gala lírica SUSPIROS DE ESPAÑA
DESCRIPTION:La Compañía valenciana “Tiempo de Zarzuela” con su director Ximo Romero\, presenta el 12 de Octubre día de la Hispanidad\, la Gala Lírica “Suspiros de España”. \n“Tiempo de Zarzuela” es una compañía lírica formada por profesionales\, con el fin de llevar la Zarzuela a su más alto nivel\, recuperando el público de siempre y atrayendo nuevos públicos que desconocían este gran Género. \n“Suspiros de España” es la sexta producción de la compañía\, primero con la antología “Nuestra Zarzuela”\, siguiendo con una Zarzuela completa “La Canción del Olvido”\, la gala lírica “Paseo por España”\, “Polkas y Valses …..de Zarzuela” y “Maestro Serrano” un homenaje al maestro José Serrano en el 150 aniversario de su nacimiento. \n“Suspiros de España” donde la música y una cuidada puesta de escena se unen\, para hacer un recorrido con las principales romanzas\, intermedios y dúos de nuestro GÉNERO LÍRICO por excelencia. “La Boda de Luis Alonso”\, “Las Carceleras” de Las Hijas de Zebedeo\, “La Alegría del Batallón” o “Suspiros de España”\, son algunos de los fragmentos que podrás escuchar. \nUna Antología con un formato completo\, cuidando todos los ingredientes de la Zarzuela: orquesta\, cantantes\, baile\, … Un paseo de sentimientos y pasiones. \nEl reparto está formado por la soprano Raquel Roig\, el tenor Vicente Ombuena y el barítono Fernando Piqueras. El espectáculo está acompañado por los profesores de la orquesta y cuerpo de baile de la compañía “Tiempo de Zarzuela”\, al frente el maestro Ximo Romero\, alma máter del proyecto. \nVenta de entradas en Taquillas del Ateneo y de venta Online en:\nhttps://entradas.ateneovalencia.es/espectaculo/3/gala-lirica-suspiros-de-espana.html\nCartel:
URL:https://historico.ateneovalencia.es/evento/concierto-de-zarzuela-gala-lirica-suspiros-de-espana/
LOCATION:Teatro Ateneo
CATEGORIES:Conciertos y Recitales
ATTACH;FMTTYPE=image/jpeg:https://historico.ateneovalencia.es/wp-content/uploads/2023/09/20231012-Sala-Lirica-Suspiros-de-Espana.jpg
END:VEVENT
BEGIN:VEVENT
DTSTART;TZID=Europe/Madrid:20231015T113000
DTEND;TZID=Europe/Madrid:20231015T133000
DTSTAMP:20260421T181913
CREATED:20231011T102708Z
LAST-MODIFIED:20231011T102709Z
UID:75649-1697369400-1697376600@historico.ateneovalencia.es
SUMMARY:Associació D’Estudis del Cant Valencià - Dia del Cant Valencià 2023
DESCRIPTION:La Associació d’Estudis del Cant Valencià organiza el Dia del Cant Valencià 2023 en el Ateneo Mercantil de Valencia el próximo domingo 15 de octubre a las 11.30 horas. Recuerda que la entrada es libre y gratuita hasta completar aforo. Además\, como notas destacadas del acto podremos disfrutar de: \n\n30 Aniversario del "Chiquet de Mislata"\nNombramientos de Asociados de Honor a Francisco Ruiz Perales (1er Presidente de l'AECV) y Evaristo Payá Miralles (vicepresidente de l'AECV).\nHabra Muestra de Cants D'Estill i Albaes\nParticipación de intérpretes de l'AECV\n\nL’ Associació d’Estudis del Cant Valencià\nL'AECV és una associació sense ànim de lucre que treballa fomentant l’ investigació\, l’ensenyança i la divulgació de nostre cant per excelència\, des de la perspectiva de l’etnomusicologia aplicada\, posant de relleu la seua significació com a patrimoni immaterial. Entre les seues activitats l'AECV celebra anualment el Dia del Cant Valencià\, la Mostra de cants Noves Veus del Cant Valencià\, i lliura el Premi Obrint Camins\, demés d’organisar mostres de cant i homenages en reconeiximent públic a persones destacades de la cultura i del cant valencià. L'AECV ha tret a llum publicacion escrites i sonores d’interés històric\, antropològic i estètic avalades per dècades d’investigació i experiència. \nEl Dia del Cant Valencià\nUna de les activitats senyeres de l’AECV és la celebració anual del Dia del Cant Valencià prop a l’aniversari del naiximent del gran cantador d’estils Evaristo Payà Cabanes (1874-1951) “Evaristet” que\, sistematisador de l’anomenat Cant Requintat i mestre de dos generacions de cantadors d’estil del segle XX\, constituix un símbol del que l’AECV fa emblema. L’ AECV proyecta este Dia del Cant Valencià a la fi de preservar i difondre les expressions músic-tradicionals vives més genuïnes\, guiada des dels principis promoguts per l’ UNESCO al patrimoni immaterial de tradició oral-aural\, i de refermar la denominació tradicional de Cant Valencià referida al corpus de cants anomenats d’estil i al cant d’ albaes. En el marc social\, ademés\, el Dia del Cant Valencià té una significació rellevant: el reconeiximent públic de la llabor desplegada per persones físiques o jurídiques\, intérprets o no\, que han contribuit o contribuixen a mantindre’l i preservar-lo. \nEnguany l’ AECV celebra el Dia del Cant Valencià recordant la figura de Manuel Marzal Barberà (Chiquet de Mislata) 1918 – 1993. Un dels grans cantadors del moment que a més a més fon un gran versador d’improvís. Creant escola de cant\, Marzal fon mestre de cantaors de la talla de Marineta\, Victorieta\, Chiquet del Túria\, Mª José de Pinedo\, o Marisé per posar alguns eixemples. Va promoure\, a través de la rondalla que dirigia Felicià Sousa\, la transposició de tonalitats per a possibilitar l’interpretació del cant valencià a persones que disposant de qualitats melòdiques interessants no posseïen el registre agut que se demandava. Igualment va compilar els materials per a una antologia del cant valencià que posteriorment es publicaria de la mà de l’investigador Carles Pitarch Alfonso. El Chiquet de Mislata ha segut i és un referent en l’interpretació del cant valencià\, referent que volem ressenyar en el trenta aniversari de la seua desaparició. \nPero el Dia del Cant valencià també vol reconéixer la llabor desplegada a dos persones vinculades directament a l’associació per la seua llabor en la consecució dels objectius associatius: D.Francisco Ruiz Perales primer president de l’ AECV\, i D. Evaristo Payà Miralles\, Vicepresident actual\, nomenant-los associats Honorífics per mèrits propis. \nPrograma:\n\nPresentaoó de l'Ateneu (Proyecte Música Valenciana)\nPresentació de l'AECV i del Dia del Cant Valencia\nTocata de Dolçaina i Cants d'Albaes\nRecordatori i ressenya biogràfica de la figura del Chiquet de Mislata\nMostra de cants\nNomenament dels associats d'Honor.\nMostra decants\, despedida i final de l'acte\n\nDiptic Dia del Cant Valencià\nCartel:
URL:https://historico.ateneovalencia.es/evento/associacio-destudis-del-cant-valencia-dia-del-cant-valencia-2023/
LOCATION:Teatro Ateneo
CATEGORIES:Conciertos y Recitales
ATTACH;FMTTYPE=image/jpeg:https://historico.ateneovalencia.es/wp-content/uploads/2023/10/20231015-Cant-Valencia.jpg
END:VEVENT
BEGIN:VEVENT
DTSTART;TZID=Europe/Madrid:20231023T190000
DTEND;TZID=Europe/Madrid:20231023T203000
DTSTAMP:20260421T181913
CREATED:20230930T102131Z
LAST-MODIFIED:20231003T100411Z
UID:75547-1698087600-1698093000@historico.ateneovalencia.es
SUMMARY:Tardes de LiterAteneo XIII: "María Velasco. La alegría de cantar" - Concierto de la soprano junto al pianista Álvar Rubio
DESCRIPTION:Décimo tercera sesión de Tardes de LiterAteneo en la que acercaremos al público la figura de la soprano María Velasco\, a quien conoceremos de cerca y de paso podremos disfrutar de un gran concierto junto al pianista Álvar Rubio. Presenta el evento Antonio Mayor y coordinan el acto: Vicente Bosch y Vicente Barberá. \nRegresa a nuestra casa un nuevo encuentro de Literateneo\, con la soprano valenciana María Velasco\, una cantante con una voz expresiva y solvente que afronta todo tipo de repertorio lírico. Un tarde en la que podremos disfrutar de una de las mejores voces de nuestra tierra. En la presentación conoceremos de cerca la vida y su obra musical. \nTítulo: María Velasco. La alegría de cantar \nArtistas: María Velasco (soprano) y Álvar Rubio (piano) \nDía: Lunes 23 de octubre de 2023 \nHora: 19 horas \nLugar: Teatro Ateneo  \nEntrada libre y gratuita hasta completar a aforo. \nCurrículum breve de María Velasco:\nNace en Valencia. Obtiene Mención Honorífica en el "Grau Superior de Canto" con la profesora Ana L. Chova. Posteriormente estudia en la Escuela Superior de Música "Reina Sofía" con el tenor Alfredo Kraus\, y mas tarde obtiene el "Diploma Superior de Ópera" en la HfM de Hamburgo con J. Beckmann y W. Hagen. Prosigue su formación vocal con la soprano E. Lloris; el barítono R. De Andres; M. Zanetti\, E. Obratsova... Durante sus estudios obtiene diversos premios y becas. \nEn 2015 obtiene el Master de Musicoterapia alternando su faceta concertística con la docencia. Actualmente es profesora de canto del Conservatorio Superior de Música de Valencia. Como solista ha interpretado los papeles principales de las operas siguientes: Arrieta: Marina; Barbieri: Pan y Toros y Dos pichones del Turia; Bizet: Carmen (Frasquita) ; Donizetti: Don Pasquale\, Rita\, L'Elisir d'amore y Lucrezia Borgia; Humperdinck: Hänsel y Gretel; Menotti: La Médium; Moreno- Torroba: Luisa Fernanda (Carolina); Mozart: Le nozze di Fígaro (Susanna)\, Don Giovanni (Donna Anna)\, La clemenza di Tito (Servilia) y La flauta Mágica (Pamina); Padilla: La bien amada; Pergolesi: La serva Padrona; Puccini: Gianni Schicchi; Rossini: El barbero de Sevilla\, L'occasione fa il ladro\, L'italiana in Alguieri y La Cenerentola (Cloinda); Santos: L'adeu de Lucrecia (Lucrecia); J. Strauss: Die Fledermaus (Adele); R. Strauss: Electra (5te Magd); Wagner: Siegfried (Waldvogel); Wolf-Ferrari: Il Campiello (Gnese). \nEn oratorio i concierto ha interpretado como Soprano solista de las obras siguientes: Bach: Cantata no: 51 "Jauchzet Gott in alle Landen"; Beethoven: Novena Sinfonía; Charpentier: Te Deum; Haydn: Nelson Messe; Die Jahreszeiten\, Missa Brevis in Fa y Kleine Orgelmesse; Haendel: El Mesías; Mendelssohnn: II Sinfonía "Lobgesang"; Mozart: Réquiem; Vísperas de confesore; Misa de la Coronación\, Exultate Jubilate y Misa Longa; Orff: Carmina Burana; Pergolesi: Stabat Mater; Snittke: Requiem; Schubert: Misa en Si-b; Schumann: Faust Szehne; Sprenger: Nachtgesang; Strawinsky: Les Noces; Torres: El Santo Rey Don Fernando. Así como numerosos recitales de Lieder con piano\, dúos con mezzosoprano y con el "Calvariam trio" interpretando el repertorio romántico para voz\, piano y clarinete. Ha interpretado canciones para trio de soprano\, trompa y piano tanto de compositores románticos cómo de compositoras contemporáneas. \nDentro de su actividad concertística destaca el estreno de canciones de compositoras actuales españolas dando a conocer este nuevo repertorio junto con el pianista Álvar Rubio. \nCurrículum breve de Álvar Rubio:\nNace en Zaragoza donde realiza brillantemente sus estudios de piano con Mª Pilar Armijo e Ignacio Marín en el Conservatorio de su ciudad natal. Prosigue en L'Ecole Normale de Musique de París en la clase del pianista Ramzi Yassa. En 1996 es admitido en el Real Conservatorio de Bruselas en la clase de Jean-Claude Vanden Eynden\, alumno del Maestro Eduardo del Pueyo. Obtiene allí un Primer Premio de Piano\, Primer Premio de Solfeo\, Primer Premio de Música de Cámara\, Primer Premio de Historia de la Música y el Diploma Superior de Piano. Asimismo\, estudia en el Centro Musical Eduardo del Pueyo con su Maestro Jean-Claude Vanden Eynden. \nDe vuelta a España realiza un Postgrado de Piano en el Conservatorio del Liceo con Stanislav Potchekin\, inicia estudios de Dirección con Juan José Olives\, funda l'Orquestra de Cambra y dirige el Festival de Verano de la Vall d’en Bas (Gerona) y preside las Juventudes Musicales de Zaragoza en su cincuentenario. \nA lo largo de su carrera recibe consejos y enseñanzas de grandes pianistas y pedagogos tan diversos como Oxana Yablonskaya\, Alicia de Larrocha\, Lazar Berman\, Lev Naumov\, Gery Mouttier\, Brigitte Engerer\, Dimitri Bashkirov\, Levente Kende\, Solomon Mikowsky\, Vadim Sakharov\, Eugenia Braginsky\, Almudena Cano\, Dominique Merlet y José Luis González Uriol\, entre otros. Heredero del legado musical de nuestra eminente pianista Pilar Bayona. \nInteresado siempre en la pedagogía del Pueyo asiste a cursos de sus alumnos que han seguido sus enseñanzas como son Teresa Escudero\, Patricia Montero\, J. José Pérez Torrecillas\, André de Groote\, Burkard Spinnler\, Claudine Orloff y Evelyne Brancart. En 2015 es invitado  por varias instituciones musicales en Bélgica para dar conciertos y clases magistrales dedicadas a laenseñanza Jaéllienne. También es invitado por la gran profesora y pianista rusa Oxana Yablonskaya al Festival de Música Cerdanya Music. \nHa realizado grabaciones para RTVE\, CATMÚSICA\, Radio Tarazona y Olot TV. Ha grabado numerosos CD's para la Asociación Musical Eduardo del Pueyo y para el Auditorio de Música de Cuenca con obras de compositores contemporáneos. Concertista consumado\, se prodiga en recital\, música de cámara y solista con orquesta en España\, Francia\, Alemania\, Suiza\, Bélgica y EE.UU. Fundador y miembro del Trío con piano Eduardo del Pueyo junto con la violinista Ruth Olmedilla y la cellista Miriam Olmedilla. \nDedicatario y realizador del estreno de obras de los compositores Juan Manuel Montañes\, Pedro Pablo Morante y Manuel Murgui. Combina su intensa actividad concertística con su otra pasión: el proceso de enseñanza-aprendizaje. Sus alumnos han sido galardonados en numerosos Concursos de Piano. Desde 2016 Catedrático de Piano por oposición ejerciendo en los Conservatorios Superiores de Música "Óscar Esplá" de Alicante y "Salvador Seguí" de Castellón de la Plana. \nDirector Artístico de los Cursos Internacionales Eduardo del Pueyo de Tarazona y promotor del Ciclo de Clásica que organiza la Diputación Provincial de Zaragoza en el Monasterio de Veruela donde compartió escenario con artistas de la talla del cellista y director de orquesta Dimitry Yablonsky y de la violinista Janna Gandelman. \nPrograma del Concierto:\nLascia la spina cpglo la rosa............................................. G.F. Hendel \nLe Nozze di figaro ……………………...................................... W. A. Mozart\nAria de Susanna "Giunse al fin…" \nExtase\nL’invitation auvoyage…………………................................... H. Duparc \nGianni Schicchi ………………………….................................... G. Puccini\nAria lauretta "O mi babbino caro…" \nZdez harasho ……………….................................................... S. Rachmaninov \nCanciones Raquel Mínguez sobre textos de Joaquín Riñón: \n\nSilencio mortal\nOtoño\n\nDos cantares populares ……………………............................. F. Obradors \n\nDel cabello mas sutil\nChiquitita la novia\n\nLas hijas del Zebedeo …...................................…….………… R. Chapí\nRomanza de \nInterpretes:\nMaría Velasco\, soprano.\nÁlvar Rubio\, piano. \nCartel:
URL:https://historico.ateneovalencia.es/evento/tardes-literateneo-xiii-maria-velasco-la-alegria-de-cantar-concierto-junto-a-alvar-rubio-en-ateneo-mercantil-valencia/
LOCATION:Teatro Ateneo
CATEGORIES:Tardes de LiterAteneo
ATTACH;FMTTYPE=image/jpeg:https://historico.ateneovalencia.es/wp-content/uploads/2023/09/20231023-Tardes-Literateneo-13-Maria-Velasco.jpg
END:VEVENT
BEGIN:VEVENT
DTSTART;TZID=Europe/Madrid:20231025T190000
DTEND;TZID=Europe/Madrid:20231025T210000
DTSTAMP:20260421T181913
CREATED:20231010T105511Z
LAST-MODIFIED:20231010T105513Z
UID:75630-1698260400-1698267600@historico.ateneovalencia.es
SUMMARY:IX Festival de Tango ‘TANGAVIÓN 2023’ - Conferencia "Tango Bizarro. El Tango del siglo XXI"
DESCRIPTION:El próximo miércoles 25 y jueves 26 de octubre llega al Salón Sorolla del Ateneo Mercantil de Valencia la IX edición del festival de tango TANGAVIÓN 2023\, un Festival de Tango creado en Valencia\, que cumple su novena edición y para su celebración nos trae un cartel de conferenciantes y artistas de primerísimo nivel. \nEn la primera jornada\, la del 25 de octubre\, a las 19 horas tendremos la conferencia "Tango Bizarro. El Tango del siglo XXI" con dos oradores de enorme prestigio como son D. Rafael Flores\, investigador\, escritor y periodista especializado en tango y D. Alejandro A. Font de Mora. Academia del Tango de la Comunidad Valenciana. Poeta y ensayista sobre tango. Además\, contaremos con el orador-cantante: D. Lucio Arce\, compositor\, cantor y representante tango bizarro. Dirige el evento: D. Gavión\, organizador y director del Festival "Tangavión" y coordina: D. Vicente Bosch\, bibliotecario del Ateneo Mercantil de Valencia. \nReservas - Asistencia llamar al Teléfono 639.43.02.01\nCartel:\n \n 
URL:https://historico.ateneovalencia.es/evento/ix-festival-de-tango-tangavion-2023-conferencia-tango-bizarro-el-tango-del-siglo-xxi/
LOCATION:Salón Sorolla - Ateneo Mercantil de Valencia\, Plaza del Ayuntamiento 18\, Valencia\, Valencia\, 46002\, España
CATEGORIES:Conciertos y Recitales
ATTACH;FMTTYPE=image/jpeg:https://historico.ateneovalencia.es/wp-content/uploads/2023/10/20231025-Tangavion-2023.jpg
END:VEVENT
BEGIN:VEVENT
DTSTART;TZID=Europe/Madrid:20231026T190000
DTEND;TZID=Europe/Madrid:20231026T210000
DTSTAMP:20260421T181913
CREATED:20231010T113422Z
LAST-MODIFIED:20231010T114122Z
UID:75635-1698346800-1698354000@historico.ateneovalencia.es
SUMMARY:IX Festival de Tango ‘TANGAVIÓN 2023’ - Concierto Clausura del Festival
DESCRIPTION:El jueves 26 de octubre llega al Salón Sorolla del Ateneo Mercantil de Valencia la IX edición del festival de tango TANGAVIÓN 2023\, un Festival de Tango creado en Valencia\, que cumple su novena edición y para su celebración nos trae un cartel de conferenciantes y artistas de primerísimo nivel. \nEn la segunda jornada\, la del 26 de octubre\, a las 19 horas tendremos el Concierto Clausura del Festival con los siguientes intérpretes: D. Raúl Kiokio\, guitarra | D. Néstor Zarzoso\, piano | D. Emilia Danesi\, cantante. Dirige el evento: D. Gavión\, organizador y director del Festival "Tangavión" y coordina: D. Vicente Bosch\, bibliotecario del Ateneo Mercantil de Valencia. \nReservas - Asistencia llamar al Teléfono 639.43.02.01\nCartel:\n \n 
URL:https://historico.ateneovalencia.es/evento/ix-festival-de-tango-tangavion-2023-concierto-clausura-del-festival/
LOCATION:Salón Sorolla - Ateneo Mercantil de Valencia\, Plaza del Ayuntamiento 18\, Valencia\, Valencia\, 46002\, España
CATEGORIES:Conciertos y Recitales
ATTACH;FMTTYPE=image/jpeg:https://historico.ateneovalencia.es/wp-content/uploads/2023/10/20231025-Tangavion-2023.jpg
END:VEVENT
END:VCALENDAR