BEGIN:VCALENDAR
VERSION:2.0
PRODID:-//Ateneo Mercantil de Valencia - ECPv6.0.4//NONSGML v1.0//EN
CALSCALE:GREGORIAN
METHOD:PUBLISH
X-WR-CALNAME:Ateneo Mercantil de Valencia
X-ORIGINAL-URL:https://historico.ateneovalencia.es
X-WR-CALDESC:Eventos para Ateneo Mercantil de Valencia
REFRESH-INTERVAL;VALUE=DURATION:PT1H
X-Robots-Tag:noindex
X-PUBLISHED-TTL:PT1H
BEGIN:VTIMEZONE
TZID:Europe/Madrid
BEGIN:DAYLIGHT
TZOFFSETFROM:+0100
TZOFFSETTO:+0200
TZNAME:CEST
DTSTART:20230326T010000
END:DAYLIGHT
BEGIN:STANDARD
TZOFFSETFROM:+0200
TZOFFSETTO:+0100
TZNAME:CET
DTSTART:20231029T010000
END:STANDARD
END:VTIMEZONE
BEGIN:VEVENT
DTSTART;TZID=Europe/Madrid:20230727T193000
DTEND;TZID=Europe/Madrid:20230727T210000
DTSTAMP:20260421T132611
CREATED:20230519T105715Z
LAST-MODIFIED:20230620T085945Z
UID:74380-1690486200-1690491600@historico.ateneovalencia.es
SUMMARY:Concierto FUROR AMORIS - Nostrum Mare Camerata
DESCRIPTION:NOSTRUM MARE CAMERATA regresa al Ateneo Mercantil de Valencia con FUROR AMORIS. \nLa apasionada versión de Jacobo Christensen del Concierto para Violín en Re Mayor de Brahms\, uno de los más hermosos jamás escritos. \nEl emocionado homenaje al valiente pueblo ucraniano con la Danza Española de Skorik. \nEl amor puro y la renuncia más dura en las voces de la Mariscala\, Octavio y Sofía en El Caballero de la Rosa de Richard Strauss. \nBartok con su vertiginoso Divertimento para Cuerdas. \nEmbriagadora mezcla de virtuosismo\, emoción\, canto\, frescura y excelencia musical. \nCon FUROR AMORIS Nostrum Mare Camerata hace su apuesta más arriesgada ¿acaso no es así en el amor? \nVenta de entradas en Taquillas del Ateneo y también Venta de Entradas Online aquí\nPrecio: Platea y palcos: 20€ | Anfiteatro: 15€. Descuento del 10% para socios del Ateneo\, mayores de 65 y menores de 28 años. \nPrograma del Concierto\nCONCIERTO PARA VIOLÍN EN RE MAYOR Op. 77\, de Johannes Brahms (1833-1897)\nViolín solista: Jacobo Christensen \nDANZA ESPAÑOLA de Myoslav Skorik (1938-2020)\nViolín solista: Roman Kolmatov \nDER ROSENKAVALIER\, Trío Final\, de Richard Strauss (1864-1949)\nMarschallin: Blanca Ruiz\nSophie: Marina Cuesta\nOctavian: Carmen Lázaro \nDIVERTIMENTO PARA CUERDAS\, de Béla Bartók (1881-1945) \nCartel:
URL:https://historico.ateneovalencia.es/evento/concierto-furor-amoris-nostrum-mare-camerata/
LOCATION:Teatro Ateneo
CATEGORIES:Conciertos y Recitales
ATTACH;FMTTYPE=image/jpeg:https://historico.ateneovalencia.es/wp-content/uploads/2023/05/20230727-Concierto-Furor-Amoris-2.jpg
END:VEVENT
END:VCALENDAR