BEGIN:VCALENDAR
VERSION:2.0
PRODID:-//Ateneo Mercantil de Valencia - ECPv6.0.4//NONSGML v1.0//EN
CALSCALE:GREGORIAN
METHOD:PUBLISH
X-ORIGINAL-URL:https://historico.ateneovalencia.es
X-WR-CALDESC:Eventos para Ateneo Mercantil de Valencia
REFRESH-INTERVAL;VALUE=DURATION:PT1H
X-Robots-Tag:noindex
X-PUBLISHED-TTL:PT1H
BEGIN:VTIMEZONE
TZID:Europe/Madrid
BEGIN:DAYLIGHT
TZOFFSETFROM:+0100
TZOFFSETTO:+0200
TZNAME:CEST
DTSTART:20230326T010000
END:DAYLIGHT
BEGIN:STANDARD
TZOFFSETFROM:+0200
TZOFFSETTO:+0100
TZNAME:CET
DTSTART:20231029T010000
END:STANDARD
END:VTIMEZONE
BEGIN:VEVENT
DTSTART;TZID=Europe/Madrid:20230418T190000
DTEND;TZID=Europe/Madrid:20230418T203000
DTSTAMP:20260422T155142
CREATED:20230331T084654Z
LAST-MODIFIED:20230331T093213Z
UID:73610-1681844400-1681849800@historico.ateneovalencia.es
SUMMARY:Tardes de LiterAteneo IX: De la Palabra a la Imagen por Jimmy Entraigües
DESCRIPTION:Regresa al Ateneo Mercantil de Valencia el ciclo Tardes de LiterAteneo con la novena sesión en la que contaremos con Jimmy Entraigües\, periodista\, escritor\, guionista y crítico cinematográfico\, y que ha trabajado en diversos ámbitos de las artes audiovisuales y la literatura. \nDesde sus orígenes el cine aprovechó las narraciones y los textos literarios para llevarlos a la pantalla y ampliar el contenido de sus propuestas. Así Georges Méliès nos hizo visitar la Luna en 1902 cuando filmó 'Viaje a la Luna'\, adaptando la novela de J. Verne. También hemos visto a Fausto vender su alma\, en el 'Fausto' de F.W. Murnau en 1926 o descubrir\, junto al detective Marlowe\, las redes del crimen en 'La dama del lago'\, basada en la novela de R. Chandler\, allá por 1947\, o la decadencia de la aristocracia en 'El gatopardo' (1963)\, de L. Vsconti\, a partir de la novela de Lampedusa. Desde su nacimiento\, el cine aprovechó el lenguaje de la literatura así como\, a posteriori\, la literatura se aprovechó del cine. \nAdaptar un texto literario para la pantalla significa transformación. Significa modificación de sus contenidos y adaptación. Un guión\, a modo de guía o receta\, es el intermediario entre la idea y el producto final destinado a la pantalla. El escritor de textos para la imagen es un intermediario que conoce las reglas de ambos lenguajes narrativos. En cine se pierde el modo de enunciación y los procesos estilísticos de la novela escrita. Son sistemas distintos en sus formas de expresión y en el modo de recepción del destinario\, que domina el manejo del tiempo frente al libro\, pero no ante la pantalla. En el fondo\, un escritor de textos para la pantalla es un buen sintetizador. (Texto de Jimmy Entraigües) \nTítulo: "De la Palabra a la Imagen" \nConferenciante: Jimmy Entraigües \nDía: Martes 18 de abril de 2023 \nHora: 19 horas \nLugar: Salón Sorolla del Ateneo Mercantil de Valencia \nEntrada libre y gratuita hasta completar aforo. \nCartel:\n \n 
URL:https://historico.ateneovalencia.es/evento/tardes-de-literateneo-ix-de-la-palabra-a-la-imagen-pojimmy-entraigues/
LOCATION:Salón Sorolla - Ateneo Mercantil de Valencia\, Plaza del Ayuntamiento 18\, Valencia\, Valencia\, 46002\, España
CATEGORIES:Tardes de LiterAteneo
ATTACH;FMTTYPE=image/jpeg:https://historico.ateneovalencia.es/wp-content/uploads/2023/03/20230418-LiterAteneo-IX-Jimmy-Entraigues.jpg
END:VEVENT
BEGIN:VEVENT
DTSTART;TZID=Europe/Madrid:20230423T113000
DTEND;TZID=Europe/Madrid:20230423T130000
DTSTAMP:20260422T155142
CREATED:20230420T101734Z
LAST-MODIFIED:20230420T101832Z
UID:73846-1682249400-1682254800@historico.ateneovalencia.es
SUMMARY:Día Mundial de la Danza: Muestra coreográfica por el Conservatori Superior de Dansa de València Nacho Duato
DESCRIPTION:La Música en el Ateneo regresa este domingo 23 de abril a las 11.30 horas con un evento gratuito en el que se representará una muestra coreográfica de danza para celebrar el Día Mundial de la Danza que se celebra el próximo 29 de abril en todo el mundo. En el Ateneo Mercantil se presentarán de nuevo varias coreografías tanto de repertorio como propuestas de diferentes coreógrafos y de creación propia\, tanto del profesorado como del propio alumnado del CSDV Nacho Duato. Una actuación que es posible gracias a la Fundación del Ateneo Mercantil CV y al Conservatori Superior de Dansa de València Nacho Duato. \nRecuerden que la entrada es libre y gratuita hasta completar el aforo del Teatro Auditorio del Ateneo Mercantil. \nPrograma:\nSoleá de Arcas \n\nCoreografía: Popular \nDirección: Isabel Aznar\nPiano: Guiomar Montero de Apraiz\nIntérprete: Aitana Campos\n\nUmbra \n\nCoreografía: Margarita Galdámez y Walter Marín\nIntérpretes: Ainhoa Aparicio y Walter Marín\n\nJulián y Romea  \n\nCoreografía: Santi De La Fuente\nIntérpretes: Carlota Paz\, Claudia Fusté\, Naiara González\, Alba Galán\, Teresa Luján\, Sergi Ferrando\, Sabela Ribes\, Alba Hernández\, Laura Mesa\, Isabel Murcia\, Inés Cándido y Judith Roca\n\nL’Heure Exquise \n\nCoreografía e Intérprete: Candela Leal\n\nPanaderos de la Flamenca \n\nCoreografía: Popular \nDirección: Isabel Aznar\nIntérprete: Olivia Marcos\n\nMadness      \n\nCoreografía e Intérpretes: Alba Fernández y Marina Borrás\n\nBailata \n\nRecreación de Cantata por Noelia Diéguez\nDirección: Mamen Giménez\nIntérpretes: Noelia Diéguez\, Fran Pomares\, Celia Herrero\, Jessica Castellón\, Boris Orihuela\, Mariana Valero\, Clara Castellanos y Alejandra López\n\nCórdoba \n\nCoreografía: Mariemma\nDirección: Jesús Pérez\nIntérprete: Alejandra López\n\nJardí Tancat \n\nCoreografía: Nacho Duato\nDirección: Alicia Herrero\nIntérpretes: Ainhoa Aparicio\, Pedro García\, Carolina Isach\, Walter Marín\, Elisa Ramón y Miquel Sancho\n\nCartel:
URL:https://historico.ateneovalencia.es/evento/dia-mundial-de-la-danza-muestra-coreografica-por-el-conservatori-superior-de-dansa-de-valencia-nacho-duato/
LOCATION:Teatro Ateneo
CATEGORIES:Conciertos Domingos
ATTACH;FMTTYPE=image/jpeg:https://historico.ateneovalencia.es/wp-content/uploads/2023/04/20230423-Muestra-Coreografica-Concierto-Nacho-Duato.jpg
END:VEVENT
BEGIN:VEVENT
DTSTART;TZID=Europe/Madrid:20230430T113000
DTEND;TZID=Europe/Madrid:20230430T123000
DTSTAMP:20260422T155142
CREATED:20230421T114016Z
LAST-MODIFIED:20230426T091929Z
UID:73881-1682854200-1682857800@historico.ateneovalencia.es
SUMMARY:'Concierto de Primavera' por el Coro de Alumnos de la Escuela Oficial de Idiomas de Valencia
DESCRIPTION:La Fundación Ateneo Mercantil de la Comunidad Valenciana ha organizado un nuevo concierto gratuito dentro del Ciclo Música en el Ateneo en el que se podrá disfrutar de una gran coral como es el Coro de Alumnos de la Escuela Oficial de Idiomas de Valencia. Así el próximo domingo 30 de abril de 2023 a las 11.30 horas llega el 'Concierto de Primavera' de esta coral que desde hace menos de un año cuenta con un nuevo director\, Andreu Soler\, licenciado en piano por el Conservatorio Superior de Música Salvador Seguí de Castellón\, director de coros\, marimbista y compositor. \nPrograma de día:\nTant que vivray (Claude de Sermisy (1490-1562)) \nJesus bleibet meine Freude (Johann Sebastian Bach (1685-1750)) \nDirait-on (Morten Johannes Lauridsen (1993)) \nLa Fanfare du Printemps (Joseph Bovet (1879 – 1951)) \nS’nami Bog (Liturgia Ortodoxa Rusa (fin siglo XIX)) \nGloria (Carole Stephenson) \nLacrymosa del Requiem (W. A. Mozart) \nTotal Praise (Richard Smallwood) \n O Fortuna - Carmina Burana (Carl Orff) \nDirector: Andreu Soler\nBreve historia del Coro de Alumnos de la Escuela Oficial de Idiomas de Valencia:\nSucesor del antiguo coro interlinguas de la EOI\, nacido en 1998\, el nuevo Coro de la Escuela Oficial de Idiomas de Valencia ve la luz con este nuevo nombre en 2010. Una de sus señas de identidad es la interpretación de un repertorio\, tanto clásico\, religioso como popular\, en distintas lenguas. Este coro canta en toda ocasión y circunstancia: en eventos solidarios\, actos institucionales\, actos religiosos\, encuentros corales o acompañando todo tipo de celebraciones. \nA nivel local\, participa regularmente en festivales solidarios colaborando y llevando su música a hospitales\, residencias y asociaciones con vocación social como Cáritas\, Raids o la Fundación infantil Ronald McDonald’s. Actuaciones en los mercados municipales y Nadal al carrer llevan sus canciones al público directamente a la calle. Encuentros e intercambios terminan de componer su actividad tanto en Valencia (Palau de la Música\, Beneficencia\, Ateneo Mercantil de Valencia …)\, como a nivel nacional (Santiago de Compostela\, Toledo\, Madrid\, Granada\, San Millán de la Cogolla …)  como a nivel internacional en Portugal\, Francia\, Alemania o en el Vaticano. \nComo coro promotor del 1r Festival Nacional de Coros de Escuelas Oficiales de Idiomas en Madrid en el año 2015 y participante relevante en el 50º aniversario de la EOI de Valencia en el año 2017 en el evento llamado “Multilingus”\, pone de relieve con todas las EOI de España como la música y los idiomas se pueden entrelazar generando una atmósfera muy especial. \nEl Coro de Alumnos de la EOI por todo lo expuesto anteriormente\, por su pretensión de ser un lugar de encuentro de personas amantes de la música en general y de la música coral en particular\, por su apuesta por el uso de la música no sólo como manifestación cultural\, sino también como herramienta de aproximación entre diferentes culturas y lenguas recibe en Noviembre del 2022 el reconocimiento de Ilustre de Transits 2022 otorgado por el área de Cultura de dicha Junta Municipal dependiente  del Ayuntamiento de Valencia.
URL:https://historico.ateneovalencia.es/evento/concierto-gratuito-primavera-coro-de-alumnos-de-la-escuela-oficial-de-idiomas-de-valencia/
LOCATION:Teatro Ateneo
CATEGORIES:Conciertos Domingos
ATTACH;FMTTYPE=image/jpeg:https://historico.ateneovalencia.es/wp-content/uploads/2023/04/20230430-Concierto-Coro-EOI-Valencia.jpg
END:VEVENT
BEGIN:VEVENT
DTSTART;TZID=Europe/Madrid:20230430T123000
DTEND;TZID=Europe/Madrid:20230430T140000
DTSTAMP:20260422T155142
CREATED:20230427T174820Z
LAST-MODIFIED:20230427T181844Z
UID:74092-1682857800-1682863200@historico.ateneovalencia.es
SUMMARY:Concierto Orquesta de Flautas - Gratuito | Conservatorio Superior de Música "Joaquín Rodrigo" de Valencia
DESCRIPTION:La Fundación del Ateneo Mercantil CV ha organizado un concierto junto al Conservatorio Superior de Música "Joaquín Rodrigo" de Valencia para el próximo domingo 30 de abril a las 12.30 horas en el Teatro-Auditorio del Ateneo Mercantil. El concierto Orquesta de Flautas se realizará por estudiantes de la cátedra de flauta del CSMV. La entrada es totalmente libre y gratuita hasta completar el aforo del teatro-auditorio. \nEl concierto constará de cinco piezas y lo ofrecerán los alumnos de la cátedra de flauta: María Dolores Tomás\, Joaquín Gericó y Ángel Marzallos. Tres de los mejores alumnos del conservatorio darán muestra del enorme nivel musical que poseen. El futuro de la música se da cita en el Ateneo Mercantil\, no puedes perderte esta gran actuación. \nPrograma: \nEl Barbero de Sevilla (Giacomo Rossini) \nGuillermo Tell (Giacomo Rossini) \nConcierto La Primavera (Antonio Vivaldi) \n1. Allegro\n2.Largo\n3 Danza Pastoral \nLa boda de Luis Alonso (Gerónimo Giménez) \nDanza Mexicana Núm.2 (Jacobo Datshkovsky) \nAntonio Vivaldi | Director Joaquín Gericó \nEste concierto será ofrecido por los alumnos de la cátedra de flauta: María Dolores Tomás\, Joaquín Gericó y Ángel Marzal. Entrada libre y gratuita hasta completar aforo. Coordinador de Música en el Ateneo: Manuel Camarasa. \nCartel:
URL:https://historico.ateneovalencia.es/evento/concierto-de-flautas-gratuito-conservatorio-superior-de-musica-joaquin-rodrigo-de-valencia/
LOCATION:Teatro Ateneo
CATEGORIES:Conciertos Domingos
ATTACH;FMTTYPE=image/jpeg:https://historico.ateneovalencia.es/wp-content/uploads/2023/04/20230430-Concierto-Flautas-CSMV.jpg
END:VEVENT
END:VCALENDAR