BEGIN:VCALENDAR
VERSION:2.0
PRODID:-//Ateneo Mercantil de Valencia - ECPv6.0.4//NONSGML v1.0//EN
CALSCALE:GREGORIAN
METHOD:PUBLISH
X-WR-CALNAME:Ateneo Mercantil de Valencia
X-ORIGINAL-URL:https://historico.ateneovalencia.es
X-WR-CALDESC:Eventos para Ateneo Mercantil de Valencia
REFRESH-INTERVAL;VALUE=DURATION:PT1H
X-Robots-Tag:noindex
X-PUBLISHED-TTL:PT1H
BEGIN:VTIMEZONE
TZID:Europe/Madrid
BEGIN:DAYLIGHT
TZOFFSETFROM:+0100
TZOFFSETTO:+0200
TZNAME:CEST
DTSTART:20230326T010000
END:DAYLIGHT
BEGIN:STANDARD
TZOFFSETFROM:+0200
TZOFFSETTO:+0100
TZNAME:CET
DTSTART:20231029T010000
END:STANDARD
END:VTIMEZONE
BEGIN:VEVENT
DTSTART;TZID=Europe/Madrid:20230206T190000
DTEND;TZID=Europe/Madrid:20230206T203000
DTSTAMP:20260421T230727
CREATED:20230120T085039Z
LAST-MODIFIED:20230120T090017Z
UID:72716-1675710000-1675715400@historico.ateneovalencia.es
SUMMARY:Tardes de LiterAteneo VII: "Periodismo y vida" con José Manuel Gironés
DESCRIPTION:El próximo lunes 6 de febrero\, en el salón Sorolla del Ateneo Mercantil de Valencia\, tendrá lugar una nueva edición del ciclo literario Tardes de LiterAteneo\, una apuesta literaria de nuestra institución\, que cuenta con la organización del grupo poético "El Limonero de Homero" y la coordinación de Vicente Bosch y Vicente Barberá. El ciclo está dedicado a autores y grupos que cuenten con una amplia y significativa trayectoria literaria. \nEn esta séptima edición se ha invitado al periodista\, José Manuel Gironés Guillem\, que es Doctor Honoris Causa por la Universidad Fernando Pessoa de Oporto (Portugal)\, fue Director del diario Levante-EMV\, Jefe de los Servicios Informativos de TVE en la Comunidad Valenciana\, Jefe de Relaciones Informativas de la  Generalitat Valenciana\, Profesor de periodismo en la Universidad CEU Cardenal Herrera y autor o coautor de cerca de una treintena de libros\, entre ellos: Los 90 ministros de Franco (1970)\, La política española entre el rumor y el humor (1974)\, Crónica de Ramón Muntaner (2005) y Las Multaqas de las Culturas (2020). En la actualidad es Presidente honorario del Centro UNESCO VALENCIA-MEDITERRÁNEO y Presidente de Asociación Valenciana de Licenciados y Doctores en Ciencias de la Información. \nTítulo: "Tardes de LiterAteneo VII "Periodismo y vida" con José Manuel Gironés" \nConferenciante: Prof. Dr. José Manuel Gironés Guillem \nDía: Lunes 6 de febrero de 2023 \nHora: 19 horas \nSalón: Salón Sorolla \nEntrada Libre y Gratuita hasta completar aforo \nCartel:\n \n 
URL:https://historico.ateneovalencia.es/evento/tardes-de-literateneo-vii-periodismo-y-vida-con-jose-manuel-girones/
LOCATION:Teatro Ateneo
CATEGORIES:Tardes de LiterAteneo
ATTACH;FMTTYPE=image/jpeg:https://historico.ateneovalencia.es/wp-content/uploads/2023/01/20230206-LiterAteneo-7-Jose-Manuel-Girones-2.jpg
END:VEVENT
BEGIN:VEVENT
DTSTART;TZID=Europe/Madrid:20230212T113000
DTEND;TZID=Europe/Madrid:20230212T130000
DTSTAMP:20260421T230727
CREATED:20230206T130510Z
LAST-MODIFIED:20230207T084449Z
UID:72915-1676201400-1676206800@historico.ateneovalencia.es
SUMMARY:Música en el Ateneo: Muestra coreográfica gratuita del Conservatori Superior de Dansa de València Nacho Duato
DESCRIPTION:La Música en el Ateneo regresa este domingo 12 de febrero a las 11.30 horas con un evento gratuito en el que se representará una muestra coreográfica de diferentes estilos\, danza contemporánea\, danza clásica y danza española\, presentándose coreografías tanto de repertorio como propuestas de diferentes coreógrafos y de creación propia\, tanto del profesorado como del propio alumnado del CSDV Nacho Duato. Una actuación que es posible gracias a la Fundación del Ateneo Mercantil CV y al Conservatori Superior de Dansa de València Nacho Duato. \nRecuerden que la entrada es libre y gratuita hasta completar el aforo del Teatro Auditorio del Ateneo Mercantil. \nPrograma:\n1- Boleras de medio paso:\nCoreografía: Repertorio de Escuela Bolera \nDirección: Rosario Rodríguez\nPianista: Guiomar Montero De Apraiz\nIntérpretes: Helena Español\, Ana Lloris\, Berta Miragall\, Emma Navarro\, Yoli Rico y Lola Romero. \n2- Giselle (Fragmento 2º Acto)\nCoreografía: Perrot y Coralli\nDirección: Inmaculada Guerrero\nIntérpretes: Antonella Masotta y Raquel Caruzzo \n3- Umbra\nCoreografía: Margarita Galdamez y Walter Marín\nIntérpretes: Ainhoa Aparicio y Walter Marín \n4- Coreografía Sense La Etóile\nCoreografía: Colectiva\nDirección: Santi De La Fuente\nIntérpretes: Sergi Ferrando\, Judith Roca\, Claudia Baldoví\, Carlota Paz\, Naiara González\, Claudia Fusté\, Raquel Guillén\, Alba Hernández\, Laura Mesa\, Fran Salmerón\, Sabela Ribes\, Isabel García\, Elisa Chuliá y Alba Galán \n5- Farruca Del Molinero\nCoreografía: Antonio Ruiz\nDirección: Marián Escrivá\nIntérpretes: Helena Español\, Berta Miragall y Emma Navarro \n6- Sinapsis\nCoreografía e Intérpretes: Marina Borrás y Antonella Masotta\nDirección: Ana Barri \n7- Deca Sabat\nCoreografía: Revisión De Ohad Najarín\nDirección: Mamen Giménez\nIntérpretes: Clara Castellanos\, Mariana Sofia Valero\, Boris Orihuela\, Noelia Dieguez\, Jessica Castellón y Fran Pomares \n8- La Vida Breve\nCoreografía y Dirección: Jesús Pérez\nIntérpretes: Helena Español\, Berta Miragall\, Emma Navarro y Alejandra López \n9- Cantata 51 (Fragmento)\nCoreografía: Maurice Bejárt\nDirección: Inmaculada Guerrero\nIntérpretes: Antonella Masotta y Raquel Caruzzo \n10- Jardí Tancat\nCoreografía: Nacho Duato\nDirección: Alicia Herrero\nIntérpretes: Candela Leal\, Joana Marzal\, Ainhoa Aparicio\, Walter Marín y Miquel Sancho \n  \nEl Conservatori Superior de Dansa de València 'Nacho Duato'\nEl año 2002\, se crea el Conservatori Superior de Dansa de València como centro oficial de enseñanzas artísticas superiores\, a lo largo de este curso académico nos encontramos en la celebración de su 20 aniversario\, circunstancia esta que se ha aprovechado para cambiar su nombre a la denominación actual\, Conservatori Superior de Dansa de València Nacho Duato. \nComo centro de enseñanzas artísticas superiores se encuentra integrado en el ISEACV\, Instituto Superior de Enseñanzas Artísticas de la Comunitat Valenciana\, órgano dependiente de la Consellería de Innovación y Universidades de la Generalitat Valenciana. \nEn el CSDV Nacho Duato\, se puede estudiar el Grado en Enseñanzas Superiores de Danza en sus dos especialidades\, Coreografía e Interpretación\, estilo danza contemporánea y Pedagogía de la danza\, estilos de danza clásica\, danza española y danza social\, siendo el único centro en la Comunitat Valenciana que imparte ambas especialidades. \nDesde sus inicios ha colaborado en diferentes actividades tanto con instituciones públicas como privadas\, entre otras destacan: IVAM\, MuVIM\, Palau de les Arts o Centro Cultural del Carmen. Así mismo realiza colaboraciones con diferentes centros educativos como\, por ejemplo: Conservatorio Superior de Música de València\, producciones del ISEACV\, Universidad Politécnica de València o Facultad de Bellas Artes de València. \nCartel:\n \n  \n 
URL:https://historico.ateneovalencia.es/evento/musica-en-el-ateneo-muestra-coreografica-gratuita-del-conservatorio-superior-de-danza-de-valencia-nacho-duato/
LOCATION:Teatro Ateneo
CATEGORIES:Conciertos Domingos
ATTACH;FMTTYPE=image/jpeg:https://historico.ateneovalencia.es/wp-content/uploads/2023/02/20230212-Musica-en-el-Ateneo-Danza.jpg
END:VEVENT
BEGIN:VEVENT
DTSTART;TZID=Europe/Madrid:20230219T180000
DTEND;TZID=Europe/Madrid:20230219T200000
DTSTAMP:20260421T230727
CREATED:20230110T130654Z
LAST-MODIFIED:20230110T130654Z
UID:72631-1676829600-1676836800@historico.ateneovalencia.es
SUMMARY:Concierto Homenaje MAESTRO SERRANO. Tiempo de Zarzuela
DESCRIPTION:Con motivo del 150 Aniversario del nacimiento del “Maestro Serrano” la compañía “Tiempo de Zarzuela” les presenta este Concierto-Homenaje al compositor más importante que ha dado Valencia. \nEl Maestro José Serrano fue el melodista del pueblo\, la banda sonora de los dos primeras décadas del siglo XX\, compositor de zarzuelas; pero sobre todo\, fue el creador del Himno Regional de todos los valencianos. es mucho más que el creador del himno de todos los valencianos. \n“Maestro Serrano” una Antología con las obras más importantes del maestro de Sueca: Los claveles\, La Reina Mora\, Alma de Dios\, El Fallero…y muchas más. La lista de zarzuelas que compuso este valenciano es interminable. Consagró su vida al género chico y puso la banda sonora a la vida española de las dos primeras décadas del siglo XX. Es más\, sus creaciones eran tan bien recibidas por el público\,que aquellos que acudían a ver sus zarzuelas\, tarareaban a la salida del teatro cada una de sus composiciones. \nLa vida del Maestro José Serrano\, caracterizado por el actor Carles Rosselló contando sus anécdotas más importantes y que textos y música dotarán de un espectáculo único. \nEl elenco está formado por la soprano Raquel Roig\, la mezzosoprano Estíbaliz Ruiz y el tenor Vicente Ombuena. La antología estará acompañada con la gran calidad de los profesores de la orquesta de la compañía “Tiempo de Zarzuela”\, al frente el maestro valenciano Ximo Romero\, alma máter del proyecto. \nCon el mejor formato y la máxima calidad; os esperamos el día 19 de Febrero (6 de la tarde) en el Ateneo Mercantil para disfrutar del merecido homenaje al “Maestro Serrano”. \nDescuento 10% a socios del Ateneo Mercantil de Valencia\, en taquilla\, sobre el precio de las entradas.\n\nPincha aquí para comprar las entradas online\nCartel:\n 
URL:https://historico.ateneovalencia.es/evento/concierto-homenaje-maestro-serrano-tiempo-de-zarzuela/
LOCATION:Teatro Ateneo
CATEGORIES:Conciertos y Recitales
ATTACH;FMTTYPE=image/jpeg:https://historico.ateneovalencia.es/wp-content/uploads/2023/01/20230219-Concierto-Homenaje-Maestro-Serrano-1.jpg
ORGANIZER;CN="Tiempo%20de%20Zarzuela":MAILTO:tiempo.zarzuela@gmail.com
END:VEVENT
BEGIN:VEVENT
DTSTART;TZID=Europe/Madrid:20230223T200000
DTEND;TZID=Europe/Madrid:20230223T213000
DTSTAMP:20260421T230727
CREATED:20230207T133246Z
LAST-MODIFIED:20230207T133533Z
UID:73051-1677182400-1677187800@historico.ateneovalencia.es
SUMMARY:Concierto Gratuito "Had a Dream" de David W. Phillips (productor de Village People\, Barry White y Bee gees)
DESCRIPTION:El Ateneo Mercantil de Valencia acoge el próximo jueves 23 de febrero a las 20 horas la presentación del último trabajo de David Wayne Phillips\, el LP "Had A Dream". Un concierto gratuito con entrada libre hasta completar aforo en el Teatro del Ateneo Mercantil (plaza del Ayuntamiento de Valencia\, 18)\, en el que se hará un repaso por la música con temas de Rock\, Blues\, Pop\, Funky\, Country\, canciones instruméntales y baladas. \nEste concierto contará con 13 músicos sobre el escenario\, incluidos talentos como Nano Blues (guitarra)\, Miguel Giner (batería)\, Alfred Lorente (bajo)\, Víctor Duart (guitarras dobro y banjo\, además de harmónica)\, Jacobo Duart (teclados)\, Pepe Cortell (violín)\, Nadia Jover (flauta y vocales) y Jackie Granizo (vocales). Asimismo\, contará con invitados especiales sobre el escenario como David Garzinsky (guitarra)\, JL Parker (saxo) y Carlos Mansa (piano). \nEn "Had a Dream" podrás encontrar la mejor calidad musical\, calidad vocal y también calidad en acústica porque cuentan con un sistema de sonido e iluminación de altísima calidad. Recuerda que la entrada es libre y gratuita y las plazas del teatro son limitadas por lo que si quieres disfrutar de este gran concierto deberás llegar pronto al Ateneo Mercantil. \nDavid Wayne Phillips es compositor y músico\, aunque en su faceta de productor ha sido cuando se hizo un gran nombre en la música\, ya que entre sus grupos estrella están los norteamericanos Village People y los británicos Bee gees\, dominadores absolutos de los años 70 y 80 a nivel mundial. \nCurriculum de David W. Phillips\nPhillips plantó sus raíces musicales pinchando discos de costa a costa desde Ft. Lauderdale y Miami en Florida a San Francisco\, West Hollywood\, Beverly Hills y Los Angeles en California. En sus 12 años de carrera como DJ\, Phillips desarrollo sus sesiones en algunos de las discotecas mas importantes de EE.UU. Durante este tiempo también colaboró con la revista Billboard Magazine como reportero\, contribuyendo a la lista "Top Dance Chart". \nAntes de comenzar su carrera como DJ\, Phillips desarrolló sus habilidades como Ingeniero de Sonido trabajando con grupos en su ciudad natal\, Boston. Esta mezcla de ingeniero de sonido y DJ fue la combinación perfecta para adentrarse en la producción de música de baile. Phillips llegó a ser el técnico de sonido del mítico Barry White haciendo la mezcla para sus conciertos en directo\, completando varias giras en Europa y EEUU con Barry White and the Love Unlimited Orchestra. \nMás tarde refinó sus habilidades como Productor e Ingeniero de Sonido trabajando en algunos de los mejores estudios de Los Angeles. También Phillips trabajó con los Village People produciendo cinco canciones para una película en los Estudios Rusk en Hollywood\, conocido como el estudio de Donna Summer\, Elton John\, Placido Domingo y Barry Manilow para nombrar unos cuantos. \nSiempre atraído por el sonido europeo\, Phillips se trasladó a Europa en 1993 y abrió su propio estudio de grabación en Valencia\, "In The Mix Studios" donde desarrolla sus producciones. Hoy en día Phillips se encuentra en su estudio elaborando su propia música. Durante la pandemia de Covid\, Phillips aprovechó el tiempo encerrado en su estudio preparando su LP\, "Had A Dream"  con 12 canciones. Las primeras once son compuestas por él.  La ultimo canción es una version de ¨Birdland¨ del mítico grupo de Jazz Fusion Weather Report. \nPhillips sigue haciendo sesiones de la música 80 cuando sale la oportunidad pero su enfoque ahora está en sus producciones\, remezclas y su proprio música. También es el director musical del Duo Country Kitchen que toca versiones de la Música Country y Rock Clásico en versión country\,  junto a su propia música. \nCartel:
URL:https://historico.ateneovalencia.es/evento/concierto-gratuito-had-a-dream-de-david-w-phillips-productor-de-village-people-barry-white-y-bee-gees/
LOCATION:Teatro Ateneo
CATEGORIES:Conciertos y Recitales
ATTACH;FMTTYPE=image/jpeg:https://historico.ateneovalencia.es/wp-content/uploads/2023/02/20230223-Concierto-David-W.-Phillips.jpg
END:VEVENT
BEGIN:VEVENT
DTSTART;TZID=Europe/Madrid:20230226T113000
DTEND;TZID=Europe/Madrid:20230226T130000
DTSTAMP:20260421T230727
CREATED:20230224T102943Z
LAST-MODIFIED:20230224T102944Z
UID:73184-1677411000-1677416400@historico.ateneovalencia.es
SUMMARY:Música en el Ateneo: "Un recorrido por la historia operística" - Ópera por el CSMV
DESCRIPTION:La Fundación Ateneo Mercantil de Valencia en colaboración con el Conservatorio Superior de Música 'Joaquín Rodrigo' de Valencia han programado un nuevo concierto gratuito dentro del ciclo 'Música en el Ateneo' para el próximo domingo 26 de febrero de 2023 a las 11.30 horas en el Teatro Auditorio del Ateneo Mercantil. En esta ocasión las alumnas del Máster de Interpretación Operística del CSMV ofrecerán un concierto que hará un recorrido por toda la historia de la ópera. \nEn el concierto se podrán escuchar diversas piezas de ópera\, desde el Barroco\, al Belcanto italiano del XIX\, pasando por el Clasicismo\, hasta llegar a la ópera francesa con la que cerrarán el programa. \nEl alemán Händel se estableció en Londres\, donde compuso la mayor parte de su vasta obra operística en italiano. Acis and Galatea\, sin embargo\, con libreto de John Gay\, está escrita en inglés y se la define como una "ópera pastoral". Der Freischütz ("El cazador furtivo")\, de C.M. von Weber\, está considerada como la primera ópera alemana romántica. Così fan tutte ("Así hacen todas")\, de Mozart\, es una divertida comedia con intercambio de parejas junto a la sátira social Le Nozze di Figaro (Las bodas de Fígaro)\, basada en la obra de Beaumarchais. Otro gran enredo es la ópera buffa Il matrimonio segreto ("El matrimonio secreto") de Cimarosa. Las tres tienen un final feliz\, como no podía ser de otra manera. \nLlegamos al Belcanto\, en la figura de Rossini\, con su ópera temprana L'occasione fa il ladro ("La ocasión hace al ladrón")\, esta vez\, el enredo es un intercambio de maletas. Pasando a la ópera francesa\, Meyerbeer fue el representante de lo que se llamó Grand-Òpera\, mientras que Offenbach que\, durante toda su vida cultivo el género ligero de la opereta\, nos legó no obstante una obra maestra de la ópera como es Les contes d’Hoffmann ("Los cuentos de Hoffmann"). Basada en la gran obra del Goethe\, la ópera de Gounod\, Faust\, es una de las óperas francesas más representadas. Camile Saint-Saëns aporta una de las páginas más sensuales del repertorio operístico en su Samson et Dalila. Finalizarán con el precioso "Dúo de las flores" de Lakmé\, del compositor Delibes\, más conocido por sus ballets. \nCartel:
URL:https://historico.ateneovalencia.es/evento/musica-en-el-ateneo-un-recorrido-por-la-historia-operistica-opera-por-el-csmv/
LOCATION:Teatro Ateneo
CATEGORIES:Conciertos Domingos
ATTACH;FMTTYPE=image/jpeg:https://historico.ateneovalencia.es/wp-content/uploads/2023/02/20230226-Musica-Domingos-Opera.jpg
END:VEVENT
BEGIN:VEVENT
DTSTART;TZID=Europe/Madrid:20230226T180000
DTEND;TZID=Europe/Madrid:20230226T190000
DTSTAMP:20260421T230727
CREATED:20230224T094348Z
LAST-MODIFIED:20230224T094611Z
UID:73178-1677434400-1677438000@historico.ateneovalencia.es
SUMMARY:Música en el Ateneo: Cor Carnevale de Burriana y presentación de libro "Obras Corales" de José Ramón Calpe
DESCRIPTION:El domingo 26 de febrero a las 18 horas en el Salón de Actos del Ateneo Mercantil de Valencia\, José Ramón Calpe\, presenta su libro "Obras Corales" que recoge 18 armonizaciones corales de obras populares. \nCon el fin de dar a conocer este trabajo\, la Federació de Cors de la Comunitat Valenciana\, FECOCOVA\, regalará un ejemplar para cada coral federada asistente. Un gran esfuerzo que se realiza con el objetivo de promover y hacer llegar a las corales las obras que se presentan y renovar sus repertorios y enriquecerlo con obras populares valencianas. \nAdemás\, la Coral Carnevale de Burriana\, bajo la dirección del propio José Ramón Calpe\, actuará de manera gratuita y con entrada libre\, interpretando algunas de estas piezas\, de forma que la duración total del acto sea aproximadamente de una hora. \nCartel:
URL:https://historico.ateneovalencia.es/evento/musica-en-el-ateneo-cor-carnevale-de-burriana-y-presentacion-de-libro-obras-corales-de-jose-ramon-calpe/
LOCATION:Teatro Ateneo
CATEGORIES:Conciertos Domingos
ATTACH;FMTTYPE=image/jpeg:https://historico.ateneovalencia.es/wp-content/uploads/2023/02/20230226-Musica-Domingos-Cor-Carnevale.jpg
END:VEVENT
END:VCALENDAR