BEGIN:VCALENDAR
VERSION:2.0
PRODID:-//Ateneo Mercantil de Valencia - ECPv6.0.4//NONSGML v1.0//EN
CALSCALE:GREGORIAN
METHOD:PUBLISH
X-WR-CALNAME:Ateneo Mercantil de Valencia
X-ORIGINAL-URL:https://historico.ateneovalencia.es
X-WR-CALDESC:Eventos para Ateneo Mercantil de Valencia
REFRESH-INTERVAL;VALUE=DURATION:PT1H
X-Robots-Tag:noindex
X-PUBLISHED-TTL:PT1H
BEGIN:VTIMEZONE
TZID:Europe/Madrid
BEGIN:DAYLIGHT
TZOFFSETFROM:+0100
TZOFFSETTO:+0200
TZNAME:CEST
DTSTART:20220327T010000
END:DAYLIGHT
BEGIN:STANDARD
TZOFFSETFROM:+0200
TZOFFSETTO:+0100
TZNAME:CET
DTSTART:20221030T010000
END:STANDARD
END:VTIMEZONE
BEGIN:VEVENT
DTSTART;TZID=Europe/Madrid:20221204T180000
DTEND;TZID=Europe/Madrid:20221204T200000
DTSTAMP:20260421T211600
CREATED:20221018T123411Z
LAST-MODIFIED:20221018T123452Z
UID:71478-1670176800-1670184000@historico.ateneovalencia.es
SUMMARY:Gran Concierto POLKAS Y VALSES de Zarzuela
DESCRIPTION:La compañía valenciana “Tiempo de Zarzuela” les presenta el Concierto “Valses y Polkas…de Zarzuela”.  \nUn Concierto original y único que se realiza por primera vez en Valencia. \nMás allá de los consabidos valses y polkas\, el repertorio de la zarzuela enriquecerá el Concierto con chotis\, pasacalles\, mazurkas y mucho más… porque de lo que se trata es de bailar… \nEl maestro Ximo Romero ha realizado una minuciosa selección de fragmentos donde se alternarán piezas populares como el Vals de “La Corte del Faraón”\, “El año pasado por agua”... con otras completamente inéditas y que se escuchan hoy después de décadas de olvido: Mazurka de la Pipa\, Chotis de “Los arrastraos” o Polka de “Las mujeres”. \nEl espectáculo estará acompañado con la gran calidad de los profesores de la orquesta y cuerpo de baile de la compañía “Tiempo de Zarzuela”\, al frente el maestro valenciano Ximo Romero\, alma máter del proyecto. \nCon el mejor formato y la máxima calidad; os esperamos el día 4 de Diciembre a las 6 de la tarde\, para disfrutar de “Valses y Polkas…de Zarzuela” en el Ateneo Mercantil de Valencia. \nDescuento 10% a socios del Ateneo Mercantil de Valencia\, en taquilla\, sobre el precio de las entradas.\n\nPincha aquí para comprar las entradas online\nCartel:
URL:https://historico.ateneovalencia.es/evento/gran-concierto-polkas-y-valses-de-zarzuela/
LOCATION:Teatro Ateneo
CATEGORIES:Conciertos y Recitales
ATTACH;FMTTYPE=image/jpeg:https://historico.ateneovalencia.es/wp-content/uploads/2022/10/20221204-Polkas-y-Valses-Zarzuela-1.jpg
ORGANIZER;CN="Tiempo%20de%20Zarzuela":MAILTO:tiempo.zarzuela@gmail.com
END:VEVENT
BEGIN:VEVENT
DTSTART;TZID=Europe/Madrid:20221210T173000
DTEND;TZID=Europe/Madrid:20221210T190000
DTSTAMP:20260421T211600
CREATED:20221207T085210Z
LAST-MODIFIED:20221207T085211Z
UID:72327-1670693400-1670698800@historico.ateneovalencia.es
SUMMARY:Espectáculo Flamenco 'Zambomba' – Manuel Morales\, Manuel Serena\, Adrián Benítez y amigos…
DESCRIPTION:El Ateneo Mercantil de Valencia acoge este sábado 10 de diciembre a las 17.30 horas en el Teatro Ateneo\, el Espectáculo Flamenco 'Zambomba' en el que Manuel Morales\, Manuel Serena y Adrián Benítez se juntarán con amigos\, grandes profesionales del flamenco\, para dar un espectáculo que no dejará a nadie indiferente. Si quieres disfrutar del mejor flamenco en Valencia\, éste es el concierto que estabas esperando. \nLas entradas tienen un único precio\, a 15 euros\, y que puedes adquirirlas y solicitar más información en los siguientes teléfonos: 659.75.66.05 / 610.44.29.75 / 692.06.79.57\nCartel:
URL:https://historico.ateneovalencia.es/evento/espectaculo-flamenco-zambomba-manuel-morales-manuel-serena-adrian-benitez-y-amigos/
LOCATION:Teatro Ateneo
CATEGORIES:Conciertos Domingos,Conciertos y Recitales
ATTACH;FMTTYPE=image/jpeg:https://historico.ateneovalencia.es/wp-content/uploads/2022/12/20221210-Concierto-Flamenco-Zambomba.jpg
END:VEVENT
BEGIN:VEVENT
DTSTART;TZID=Europe/Madrid:20221216T190000
DTEND;TZID=Europe/Madrid:20221216T210000
DTSTAMP:20260421T211600
CREATED:20221110T083919Z
LAST-MODIFIED:20221111T110320Z
UID:71744-1671217200-1671224400@historico.ateneovalencia.es
SUMMARY:Concierto 'Tributo especial a Elvis Presley' por la Fussion Band y Eduardo de Eduardo
DESCRIPTION:El Ateneo Mercantil de Valencia ofrece un tributo especial a Elvis Presley a cargo de la Fussion Band y Eduardo de Eduardo. Llega uno de los mejores tributos de Elvis de los últimos años\, que tendrá lugar el viernes 16 de diciembre a las 19 horas en el teatro-auditorio del Ateneo\, a cargo de un grupo que lleva a 'The King' en su ADN. La voz\, la música y el carisma en el escenario son las señas de identidad de la Fusion Band\, que en su última actuación en nuestro teatro colgaron el cartel de 'No hay billetes'. \nLa Fussion Band y Eduardo de Eduardo han preparado un espectáculo único con el que conseguirá que disfrutes de una velada mágica a ritmo de rock. Una cuidada selección de canciones y una increíble puesta en escena son los ingredientes perfectos para que viajes en el tiempo y revivas uno de los míticos conciertos del Rey del Rock\, Elvis Presley. \nPrepárate para emocionarte con temas como "Love me tender" o "Always on my mind"\, bailar al ritmo de "Jailhouse Rock" y cantar el mítico estribillo de "Can't help falling in love with you". Todo ello\, al increíble precio de 10€. \nEl Ateneo Mercantil de Valencia ha implementado todas las medidas necesarias para garantizar una visita cómoda y segura: desinfección\, control de aforo... Un esperado homenaje a Elvis Presley que llega a Valencia estas Navidades\, no puedes perdértelo. No esperes más y hazte ya con tu entrada. \nVenta de entradas:\n\nEn taquillas del Ateneo Mercantil\nEn Online en ateneovalencia.es: pincha aquí\n\nCartel:
URL:https://historico.ateneovalencia.es/evento/concierto-tributo-elvis-presley-por-la-fussion-band-eduardo-de-eduardo-en-valencia/
LOCATION:Teatro Ateneo
CATEGORIES:Conciertos y Recitales
ATTACH;FMTTYPE=image/jpeg:https://historico.ateneovalencia.es/wp-content/uploads/2022/11/20221216-Concierto-Tributo-Elvis.jpg
END:VEVENT
BEGIN:VEVENT
DTSTART;TZID=Europe/Madrid:20221217T190000
DTEND;TZID=Europe/Madrid:20221217T200000
DTSTAMP:20260421T211600
CREATED:20221005T113300Z
LAST-MODIFIED:20221005T113302Z
UID:71338-1671303600-1671307200@historico.ateneovalencia.es
SUMMARY:Gran Concierto ARIAS OPERA Especial Navidad
DESCRIPTION:Disfruta de las famosas arias de ópera y las piezas más importantes de la música clásica de los grandes compositores italianos\, como Verdi\, Vivaldi o Puccini\, así como\, de las mágicas canciones napolitanas\, interpretadas por un sensacional trío de cuerda\, tenor y soprano. Este concierto\, en pleno ambiente navideño\, te transportará a la Antigua Italia\, en un imponente escenario como es el insigne Salón de Actos del Ateneo Mercantil de Valencia. \n¡Ven a emocionarte! ¡No te lo puedes perder!\nTickets\n- PVP 40 € (Iva incluido). Entrada al concierto de navidad ‘Arias Ópera' para 1 persona. (Descuento 10% a socios). No se admiten devoluciones. \nQué vas a disfrutar:\n- Las obras más bellas del Romanticismo Italiano.\n- El imponente auditorio del Ateneo con excelentes vistas de la plaza desde sus maravillosos balcones. \nRepertorio ‘Speziale Natale/Especial Navidad’ \n- The Second Waltz (D. Shostakovich)\n- Mattinata (Leoncavallo\,Rugero)\n- O mío Babbino Caro (Puccini)\n- Funiculi\, Funicula (L. Denza)\n- Santa Lucía (Cottrau)\n- La donna e mobile (G.Verdi)\n- Adeste Fidelis\n- Nessum Dorna (Puccini)\n- O Sole Mío (E.Di Capua)\n- La Traviata-Brindis (Verdi)\n- Bianco Natale / Blanca Navidad\n- Astro del Ciel / Noche de Paz \nNota: Programación sujeta a posibles modificaciones. \nVenta de entradas en taquillas del Ateneo Mercantil y en el siguiente enlace:\nPincha aquí para comprar las entradas\nCartel\n \n 
URL:https://historico.ateneovalencia.es/evento/gran-concierto-arias-opera-especial-navidad-2/
LOCATION:Teatro Ateneo
CATEGORIES:Conciertos y Recitales,Navidad
ATTACH;FMTTYPE=image/jpeg:https://historico.ateneovalencia.es/wp-content/uploads/2022/10/20221217-Concierto-Arias-Opera-1.jpg
END:VEVENT
BEGIN:VEVENT
DTSTART;TZID=Europe/Madrid:20221218T113000
DTEND;TZID=Europe/Madrid:20221218T130000
DTSTAMP:20260421T211600
CREATED:20221214T125540Z
LAST-MODIFIED:20221214T165620Z
UID:72403-1671363000-1671368400@historico.ateneovalencia.es
SUMMARY:Concierto Gratuito: Coro de Cámara y Coro del CSMV y Jazz con 'Jazz with strings'
DESCRIPTION:La Fundación del Ateneo Mercantil CV ha organizado un nuevo concierto junto al Conservatorio Superior de Música Joaquín Rodrigo de Valencia para el próximo domingo 18 de diciembre a las 11.30 horas en el Salón de Actos del Ateneo. El concierto aunará Coros y Jazz\, por lo que contarán con el Coro de Cámara y el Coro del Conservatorio Superior de Música Joaquín Rodrigo de Valencia\, además\, contaremos con el mejor Jazz gracias a la Orquesta de cuerda\, el Cuarteto de jazz y Trompeta del CSMV con el último trabajo de Voro García\, 'Jazz with strings'. \nEl Coro de Cámara del CSMV trata de embarcar obras corales de diferentes épocas\, respondiendo como mínimo\, a dos programas o producciones cada curso\, en solitario o en colaboración. En los últimos dos años se encarga de los coros de la producción operística anual del conservatorio\, uno de los proyectos más importantes del centro y de un gran capital humano. En su versión más camerística (la del concierto que ofrecen en el Ateneo Mercantil)\, ofrecerá villancicos clásicos españoles y temas navideños. \nEl Coro del CSMV\, en su programa de hoy está inspirado en la tradición del género espiritual de los Estados Unidos. Mientras que por último contaremos con el mejor Jazz de la mano del profesor de trompeta jazz del CSMV\, Voro García\, que ha unificado sonoridades del Neotonalismo del S.XX con la estética vanguardista del jazz actual. Una propuesta donde se entremezclan dos mundos\, aparentemente distanciados\, se adaptan\, confluyen y se convierten en un solo motivo: la música. \nLa entrada es totalmente libre y gratuita hasta completar el aforo del teatro-auditorio. \nPrograma \nParte I \nCoro del CSMV\nThe Road Home ……………………………………………………….. Stephen Paulus \nNidaroos Jazz Mass……………………………………………………….. Bob Chilcott \n\nKyrie\nGloria\nSanctus\nBenedictus\nAgnus Dei\n\nJazz Trío \nJorge Sevilla – piano \nOscar Cortés – contrabajo \nAndreu Tomás - batería \nDirigen alumnos de Dirección de coro: \nAlejandro Ortiz\, Carlos Martínez\, Gonzalo Alarcón\, Nuria Parra\,  \nRaúl Iborra\, Vicente Ortiz \n\nCoro de Cámara del CSMV\nVillancicos y Nanas (selección)……………………………….. Arm. Conrad Susa \nThe Seal Lullaby…………………………………………………………….. Eric Whitacre \nThe Clare Benediction………………………………………………………. John Rutter \nAngel’s Carol……………………………………………………………………. John Rutter \nO Holy Night………………………………………………………………… Adolphe Adam \nDirigen alumnos de Dirección de coro: \nJosep Vicent Balaguer\, Juan Amado\, Rafael Soriano\, \nSergio Puig\, Víctor Cabañero \nFrancesc Gamón - Maestro repetidor \nNadia Stoyanova – Directora \n  \nParte II\nOrquesta de cuerda\, Cuarteto de jazz y Trompeta del CSMV - Jazz with strings\nJazz with strings \nBlues a vora riu……………………………………………........................ Voro García Director: Álvaro Pérez \nLike Sonny................................................. John Coltrane arr. Voro García \nDirector: Mario Torres \nStardust……………………………………………….  H. Carmichael arr. Voro García \nDirector: Álvaro Madrid \nMareta Mareta .......................... tradicional Valenciana arr. Voro García \nDirector: Pedro Antonio Ligero \n  \nVoro García - trompeta y composiciones \nJesús Santandreu - saxo tenor \nJorge Sevilla - piano \nÓscar Cortés – contrabajo \nAndreu Tomàs – batería \nCartel:
URL:https://historico.ateneovalencia.es/evento/coro-de-camara-y-coro-del-csmv-y-jazz-con-jazz-with-strings/
LOCATION:Teatro Ateneo
CATEGORIES:Conciertos Domingos
ATTACH;FMTTYPE=image/jpeg:https://historico.ateneovalencia.es/wp-content/uploads/2022/12/20221218-Concierto-Coros-y-Jazz-CSMV.jpg
END:VEVENT
BEGIN:VEVENT
DTSTART;TZID=Europe/Madrid:20221218T183000
DTEND;TZID=Europe/Madrid:20221218T203000
DTSTAMP:20260421T211600
CREATED:20221109T110648Z
LAST-MODIFIED:20230217T122631Z
UID:71723-1671388200-1671395400@historico.ateneovalencia.es
SUMMARY:Gran Concierto de Navidad - El Mesías de Händel por la Orqueta Sinfónica y Coro del Mediterráneo
DESCRIPTION:Con la representación de este clásico navideño el próximo domingo 18 de diciembre\, el Ateneo Mercantil de Valencia se viste de gala. Un gran concierto del coro y orquesta sinfónica del Mediterráneo dirigida por Juan Antonio Ramírez que abrirá el ciclo de eventos navideños organizados por nuestra institución y que servirá para anticipar la llegada del Mesías al mundo. Un concierto que es posible gracias a la colaboración de la Regidoria de Patrimoni i Recursos Culturals del Ajuntament de València. \nEste oratorio de G. F. Händel será interpretado por el Coro del Mediterráneo y a él se unirá la gran Orquesta Sinfónica que también realizará el esperado Concierto de Año Nuevo\, el próximo 1 de enero de 2023. \nEl Mesías de Händel se trata de un concierto muy especial ya que permite a sus protagonistas\, participar en un gran proyecto que invita a los cantantes y a los mejores músicos a recorrer la vida de Jesús\, de la mano del compositor alemán considerado una de las figuras cumbre de la música del Barroco. \nEsta representación será la única que se haga en la ciudad de Valencia y coge el testigo de la que se celebraban en el Palau de la Música de Valencia en los últimos años. El concierto tendrá lugar en el teatro-auditorio del Ateneo Mercantil de Valencia\, que vestirá sus mejores galas para celebrar este esperado concierto. \nVenta de entradas:\n\n\nEn taquillas del Ateneo Mercantil (Descuento 10% a socios del Ateneo)\n\n\nOnline en ateneovalencia.es: pincha aquí\n\n\nEn El Corte Inglés: presencial y Online (próximamente)\n\n\nCartel:
URL:https://historico.ateneovalencia.es/evento/gran-concierto-de-navidad-el-mesias-de-handel/
LOCATION:Teatro Ateneo
CATEGORIES:Conciertos y Recitales
ATTACH;FMTTYPE=image/jpeg:https://historico.ateneovalencia.es/wp-content/uploads/2022/11/20221218-Concierto-El-Mesias.jpg
END:VEVENT
BEGIN:VEVENT
DTSTART;TZID=Europe/Madrid:20221220T173000
DTEND;TZID=Europe/Madrid:20221220T200000
DTSTAMP:20260421T211600
CREATED:20221122T105312Z
LAST-MODIFIED:20221122T110305Z
UID:71974-1671557400-1671566400@historico.ateneovalencia.es
SUMMARY:Recital de Navidad del Aula de Poesía 1 y 2 del Ateneo Mercantil
DESCRIPTION:Las Aulas de Poesía 1 y 2 del Ateneo Mercantil de Valencia han programado un recital poético para el próximo martes 20 de diciembre en el Salón Sorolla en la que los miembros de ambas aulas recitarán poemas de temática libre. El turno para el Aula 2 comenzará a las 17.30 horas y lo coordina Encarna Beltrán\, mientras que el del Aula 1 será a continuación\, a las 19 horas\, y lo ccordina Félix Molina. \nEl Aula de Poesía 1\, además\, realizará un homenaje a Conxa Gausí\, integrante del grupo desde hace años y que falleció recientemente. En este acto se realizará la lectura de los poemas de Conxa y también se leerán poemas de temática libre. \nEntrada libre y gratuita hasta completar el aforo del salón.\nCartel:
URL:https://historico.ateneovalencia.es/evento/recital-de-navidad-del-aula-de-poesia-1-y-2-del-ateneo-mercantil/
LOCATION:Salón Sorolla - Ateneo Mercantil de Valencia\, Plaza del Ayuntamiento 18\, Valencia\, Valencia\, 46002\, España
CATEGORIES:Aula de Poesía
ATTACH;FMTTYPE=image/jpeg:https://historico.ateneovalencia.es/wp-content/uploads/2022/11/20221220-Recital-Poetico-Aula-1-y-2-Navidad.jpg
END:VEVENT
END:VCALENDAR