BEGIN:VCALENDAR
VERSION:2.0
PRODID:-//Ateneo Mercantil de Valencia - ECPv6.0.4//NONSGML v1.0//EN
CALSCALE:GREGORIAN
METHOD:PUBLISH
X-WR-CALNAME:Ateneo Mercantil de Valencia
X-ORIGINAL-URL:https://historico.ateneovalencia.es
X-WR-CALDESC:Eventos para Ateneo Mercantil de Valencia
REFRESH-INTERVAL;VALUE=DURATION:PT1H
X-Robots-Tag:noindex
X-PUBLISHED-TTL:PT1H
BEGIN:VTIMEZONE
TZID:Europe/Madrid
BEGIN:DAYLIGHT
TZOFFSETFROM:+0100
TZOFFSETTO:+0200
TZNAME:CEST
DTSTART:20220327T010000
END:DAYLIGHT
BEGIN:STANDARD
TZOFFSETFROM:+0200
TZOFFSETTO:+0100
TZNAME:CET
DTSTART:20221030T010000
END:STANDARD
END:VTIMEZONE
BEGIN:VEVENT
DTSTART;TZID=Europe/Madrid:20221102T190000
DTEND;TZID=Europe/Madrid:20221102T210000
DTSTAMP:20260421T211556
CREATED:20220915T080622Z
LAST-MODIFIED:20221031T104005Z
UID:71114-1667415600-1667422800@historico.ateneovalencia.es
SUMMARY:Tardes de LiterAteneo IV: "Vicente Barberá Albalat - Desde el Andén"
DESCRIPTION:Nueva edición de este ciclo de literatura que arrancó el pasado mes de abril en el Ateneo Mercantil de Valencia. El próximo miércoles\, 2 de noviembre\, en el Salón Sorolla\, llega un nuevo encuentro entre los amantes de la literatura con el Ciclo Tardes de LiterAteneo\, que es una apuesta por traer a los mejores escritores y escritoras para tratar de conocer mejor no sólo sus obras literarias\, sino también a las personas que hay detrás. En esta cuarta sesión llega "Vicente Barberá Albalat. Desde el andén". Los presentadores serán Alejandro Font de Mora\, José Antonio Olmedo y Toni Alcolea. Cierran el acto: Norma González y el guitarrista Julio Delgado. Coordina el acto\, Vicente Bosch. \nEn el acto\, el poeta valenciano nos presentará en sociedad esta antología poética. Una necesaria y esperada antología de uno de los grandes movilizadores culturales en Valencia. Como destaca Olmedo en el prólogo: "El origen de este río lírico fue el amor\, ese desenlace no concluido no es otra cosa que un mensaje de amor como corolario\, amor por la vida\, por lo amigos\, por la pareja\, amor a Dios y a la familia\, amor por el conocimiento\, la alegría\, la naturaleza y\, cómo no\, a la poesía. Porque el amor atraviesa la poesía y la persona de Vicente Barberá". \nPresentación mundial del poema musicalizado: "Tengo las manos rotas de quererte"\nEn la presentación de la antología de Vicente Barberá participará Julio Delgado\, famoso guitarrista argentino que durante nueve años fue miembro de la orquesta de Alberto Cortés y de la rapsoda y poeta\, Norma González Peralta. \nHan musicalizado un soneto de Vicente Barberá y se estrenará mundialmente en el Ateneo Mercantil de Valencia en la clausura del acto de presentación de 'Desde el Andén'. \nCurriculum de Vicente Barberá Albalat\nVicente Barberá Albalat\, jubilado\, es un poeta tardío. En 2014 publicó su primer poemario titulado De amor y sombras. Poco antes tuvo ocasión de asistir a reuniones organizadas por la asociación La Buhardilla que regentaba Teresa Espasa y en 2006 inició con Joaquín Riñón el proyecto de creación del grupo EL LIMONERO DE HOMERO\, al que inmediatamente se unieron Blas Muñoz\, Antonio Mayor y José Luis Prieto. \n\nAl mismo tiempo con un grupo de poetas socios del Ateneo organizó el CLUB POETAS DEL ATENEO y frecuentó las reuniones del grupo A-RIMANDO\, dirigido por Francisco Ponce\, participando en la antología Alquimia de los sentidos (2010). Ese mismo año aparece el primer ejemplar de EL LIMONERO DE HOMERO y en 2011\, 2012 y 2017 se publicaron el resto de poemarios editados hasta la fecha. En esa época el grupo desarrolló una intensa actividad de difusión de su obra en numerosos recitales dentro y fuera de la Comunidad Valenciana. \nPosteriormente aparecen los siguientes poemarios: Ensayo para un concierto y otros sonetos (2016)\, Después del amor (2018)\, Flor en el agua (2018)\, Sonetos impares (2020)\, Oscura y clara luz (2020)\, Ese malbendito amor (2020) y Cuaderno de Soledades (2021) \nHa participado en numerosas antologías y en algunas revistas de poesía. \nDe 2015 a 2022 creó el ciclo POETAS EN EL ATENEO\, en la actualidad coordina TARDES de LITERATENEO\, dirige la colección NIGREDO de la editorial Olé Libros y por último presenta su primera antología general\, Desde el andén (2022). \nCartel:\n \n\n 
URL:https://historico.ateneovalencia.es/evento/tardes-de-literateneo-iv-vicente-barbera-albalat-desde-el-anden/
LOCATION:Salón Sorolla - Ateneo Mercantil de Valencia\, Plaza del Ayuntamiento 18\, Valencia\, Valencia\, 46002\, España
CATEGORIES:Tardes de LiterAteneo
ATTACH;FMTTYPE=image/jpeg:https://historico.ateneovalencia.es/wp-content/uploads/2022/09/20221102-LiterAteneo-4-Vicente-Barbera.jpg
END:VEVENT
BEGIN:VEVENT
DTSTART;TZID=Europe/Madrid:20221106T180000
DTEND;TZID=Europe/Madrid:20221106T193000
DTSTAMP:20260421T211556
CREATED:20221103T163016Z
LAST-MODIFIED:20221103T163547Z
UID:71674-1667757600-1667763000@historico.ateneovalencia.es
SUMMARY:Concierto de Escuelas de Canto: "Noves Veus del Cant Valencià 2022"
DESCRIPTION:La Associació d'Estudis del Cant Valencià ha organizado el concierto Noves Veus del Cant Valencià edició 2022 (escuelas de canto)\, el próximo 6 de noviembre a las 18 horas en el Salón de Actos del Ateneo Mercantil de Valencia (Plaza del Ayuntamiento\, 18). Un concierto cuya entrada es libre y gratuita hasta completar el aforo del teatro. \nMESTRES I ESCOLES DE CANT \nTeresa Segarra Belda (Escoles: Gatzara de Paterna; Primitiva de Llíria; Municipal de Castelló).\nMaría José Ruiz García - Marisé de Mont-Olivet (Escoles: Junta Central Fallera de Valéncia. Unió Musical de Moncada. Ateneu de Bétera).\nLaura Soriano Bahilo (Escola La Marina d’ El Puig de Santa Maria).\nVictòria Sousa Genovés - Victorieta (Escola Lo Rat Penat de Valéncia). \nPARTICIPANTS \nFerran Lorente Mora (Gatzara de Paterna)\, Pilar Soriano Pina (Primitiva de Llíria)\, José Ribera Facundo (Municipal Castelló)\, Robert Cuenca Montagut (Gatzara de Paterna)\, Alicia Martí García (Junta Central Fallera Valéncia)\, Vicenta Gimeno Rodrigo (Junta Central Fallera Valéncia)\, Magdalena Roca Gil (Unió Musical de Moncada)\, Lourdes Morello Broseta (Ateneu de Bétera)\, Alba Risueño Campos (La Marina d’ El Puig)\, Maite Sánchez Guzmán (La Marina d’ El Puig)\, Eliseo Valls (La Marina d’ El Puig)\, Amparo Peiró Fábregues (Lo Rat Penat de Valéncia)\, Lorenzo Puchades Cubero (Lo Rat Penat de Valéncia)\, \nMÚSICA \nColla Vent d’ ElPuig: Albert Raimundo Hurtado\, Rubén Raimundo Hurtado y Raúl Luis Chillerón. Ronda de Corda: Lorenzo Puchades Cubero (Guitarró)\, Francisco Navarro Pérez (Guitarra) y Fracisco Ribes González (Guitarra). Versadors: Vicent Ribelles Salvador (Vicent de Rosa) y Salvador López Mafé (Boro de Paterna). \nCartel:
URL:https://historico.ateneovalencia.es/evento/concierto-de-escuelas-de-canto-noves-veus-del-cant-valencia-2022/
LOCATION:Teatro Ateneo
CATEGORIES:Conciertos Domingos
ATTACH;FMTTYPE=image/jpeg:https://historico.ateneovalencia.es/wp-content/uploads/2022/11/20221106-Cant-Valencia.jpg
END:VEVENT
BEGIN:VEVENT
DTSTART;TZID=Europe/Madrid:20221113T113000
DTEND;TZID=Europe/Madrid:20221113T130000
DTSTAMP:20260421T211556
CREATED:20221104T112708Z
LAST-MODIFIED:20221108T110622Z
UID:71692-1668339000-1668344400@historico.ateneovalencia.es
SUMMARY:Concierto "Piano in Love" por Antonio Fontales
DESCRIPTION:La Fundación Ateneo Mercantil CV ha programado un concierto gratuito para este domingo 13 de noviembre a las 11.30 horas en el Salón de Actos del Ateneo Mercantil en el que se podrá disfrutar de las grandes canciones de siempre\, también de conocidas bandas sonoras y temas propios del afamado pianista y compositor\, Antonio Fontales. Un paseo musical lleno de romanticismo y pasión en originales covers y versiones pianísticas del autor. \nCartel:\n \n 
URL:https://historico.ateneovalencia.es/evento/concierto-piano-in-love-por-antonio-fontales/
LOCATION:Teatro Ateneo
CATEGORIES:Conciertos Domingos
ATTACH;FMTTYPE=image/jpeg:https://historico.ateneovalencia.es/wp-content/uploads/2022/11/20221113-Concierto-Piano-in-Love-Antonio-Fontales.jpg
END:VEVENT
BEGIN:VEVENT
DTSTART;TZID=Europe/Madrid:20221120T113000
DTEND;TZID=Europe/Madrid:20221120T130000
DTSTAMP:20260421T211556
CREATED:20221111T095958Z
LAST-MODIFIED:20221112T110400Z
UID:71764-1668943800-1668949200@historico.ateneovalencia.es
SUMMARY:Música en el Ateneo: Concierto de Música de Cámara - Orquesta Clásica del CSMV
DESCRIPTION:La Fundación del Ateneo Mercantil CV ha organizado un concierto junto al Conservatorio Superior de Música Joaquín Rodrigo de Valencia para el próximo domingo 20 de noviembre a las 11.30 horas en el Salón de Actos del Ateneo. El concierto es de Música de Cámara y se realizará por integrantes de la Orquesta Clásica del CSMV. La entrada es totalmente libre y gratuita hasta completar el aforo del teatro-auditorio. \nEl concierto constará de un sexteto para viento (flauta\, oboe\, clarinete\, trompa\, fagot y piano) y luego dos piezas inerpretadas por un trío para clarinete\, violín y piano. Nueve de los mejores alumnos del conservatorio darán muestra del enorme nivel musical que poseen. El futuro de la música se da cita en el Ateneo Mercantil\, no puedes perderte esta gran actuación. \nPrograma:\nSexteto para viento y piano de F. POULENC (1899 -1963) \n\nAllegro vivace\nDivertissement\n\n\nCelia Latorre Torres\, flauta\nCarmen Llopis Castañeda\, oboe \nAngelina Martínez Tamayo\, clarinete\nAdriana Felip Calatrava\, trompa\nBalma Marcote Tormo\, fagot\nPietro Naclerio\, piano\n\nTrío para clarinete\, violín y piano A. Kachaturian (1903-1978)\nI. Andante con dolore\, con molto espressione\nII. Allegro\nIII. Moderato \nDos Miniaturas para clarinete\, violín y piano B. Quetglas\nFantasía sobre la consagración de la primavera \n\nClara Pérez Martín\, piano\nÓscar Abellán Bárber\, violín\nPau Arroyuelo Figuerola\, clarinete\n\nCartel:
URL:https://historico.ateneovalencia.es/evento/musica-en-el-ateneo-concierto-de-musica-de-camara-orquesta-clasica-del-csmv/
LOCATION:Teatro Ateneo
CATEGORIES:Conciertos Domingos
ATTACH;FMTTYPE=image/jpeg:https://historico.ateneovalencia.es/wp-content/uploads/2022/11/20221120-CONCIERTO-DOMINGO-MUSICA-CAMARA.jpg
END:VEVENT
BEGIN:VEVENT
DTSTART;TZID=Europe/Madrid:20221130T190000
DTEND;TZID=Europe/Madrid:20221130T210000
DTSTAMP:20260421T211556
CREATED:20220915T103240Z
LAST-MODIFIED:20220920T102958Z
UID:71127-1669834800-1669842000@historico.ateneovalencia.es
SUMMARY:Tardes de LiterAteneo V: "Alejandro 'A' Font de Mora - Poesía y tango; historia de un idilio"
DESCRIPTION:Quinta edición de este nuevo ciclo de literatura que arrancó el pasado mes de abril en el Ateneo Mercantil de Valencia. El próximo miércoles\, 30 de noviembre\, en el Salón de Actos\, llega un nuevo encuentro entre los amantes de la literatura con el Ciclo Tardes de LiterAteneo\, que es una apuesta por traer a los mejores escritores y escritoras para tratar de conocer mejor no sólo sus obras literarias\, sino también a las personas que hay detrás. En esta quinta sesión llega "Alejandro 'A' Font de Mora. Poesía y tango; historia de un idilio". El presentador será Vicente Barberá y el coordinador del ciclo es Vicente Bosch. \nEl interés por el tango es relativamente reciente para el autor\, Alejandro Font de Mora\, pero apasionado desde el momento en que decidió ir más allá de la escucha y puso su foco en las letras que daban vida a cada una de las canciones. Unas canciones de alta calidad poética. Font de Mora ahora canta tangos\, intenta bailarlos y\, lo que es mejor\, trata de vivirlos. Y una forma de vivirlos es escribirlos\, de modo que\, partiendo de sus experiencias literarias previas\, ha intentado dar forma a textos poéticos que\, al menos tentativamente\, pudieran ser musicalizados. \nEn la conferencia Font de Mora hará un análisis de la poética del tango desde los inicios del género\, resaltando los valores estéticos de las letras de los principales poetas del tango - Villoldo\, Contursi\, Flores\, Le Pera\, Castillo\, Discépolo\, Manzi\, Expósito\, Ferrer\, etc.- y se interpretan algunos de los tangos más relevantes de los diversos autores. \nCurriculum de Alejandro Font de Mora\nNacido en Vila-real (Castellón) en 1949. Médico y profesor titular de universidad. Académico correspondiente de la Real Academia de Medicina de la Comunidad Valenciana. Ha sido presidente de las Corts Valencianes y conseller de Presidencia y de Cultura y Educación de la Generalitat. \nPublicaciones: Pretexto contra el tiempo (1981)\, finalista del Premio Gules (Ayuntamiento de Valencia); De la parábola (1983)\, Premio Carlos G. Espresati (Diputación de Castellón); Ex libris: imagen y palabra (2012)\, Rom Editores; Memorial del otoño (2013)\, Huerga y Fierro Editores; Écfrasis (2016)\, Rom Editores; Fisonomías/Fesomíes (2018)\, Corts Valencianes/Rom Editores; y junto con el profesor Felipe Garín\, la monografía Joaquín Sorolla y la Medicina (2013)\, Ed. Consorcio de Museos de la Comunitat Valenciana. \nAntologías: José María Arauzo\, "20 años de poesía en Castellón. 1972-1992" (1993)\, Biblioteca Ciudad de Castellón (Ayuntamiento de Castellón). Otras actividades artísticas: Como artista plástico ha presentado 13 exposiciones individuales y 16 colectivas de su obra pictórica. \nCartel:
URL:https://historico.ateneovalencia.es/evento/tardes-de-literateneo-v-alejandro-argentino-font-de-mora-poesia-y-tango-historia-de-un-idilio/
LOCATION:Teatro Ateneo
CATEGORIES:Tardes de LiterAteneo
ATTACH;FMTTYPE=image/jpeg:https://historico.ateneovalencia.es/wp-content/uploads/2022/09/20221130-LITERATENEO-V-FONT-DE-MORA-1.jpg
END:VEVENT
END:VCALENDAR