BEGIN:VCALENDAR
VERSION:2.0
PRODID:-//Ateneo Mercantil de Valencia - ECPv6.0.4//NONSGML v1.0//EN
CALSCALE:GREGORIAN
METHOD:PUBLISH
X-ORIGINAL-URL:https://historico.ateneovalencia.es
X-WR-CALDESC:Eventos para Ateneo Mercantil de Valencia
REFRESH-INTERVAL;VALUE=DURATION:PT1H
X-Robots-Tag:noindex
X-PUBLISHED-TTL:PT1H
BEGIN:VTIMEZONE
TZID:Europe/Madrid
BEGIN:DAYLIGHT
TZOFFSETFROM:+0100
TZOFFSETTO:+0200
TZNAME:CEST
DTSTART:20220327T010000
END:DAYLIGHT
BEGIN:STANDARD
TZOFFSETFROM:+0200
TZOFFSETTO:+0100
TZNAME:CET
DTSTART:20221030T010000
END:STANDARD
END:VTIMEZONE
BEGIN:VEVENT
DTSTART;TZID=Europe/Madrid:20221003T193000
DTEND;TZID=Europe/Madrid:20221003T210000
DTSTAMP:20260421T211749
CREATED:20220704T072658Z
LAST-MODIFIED:20221003T111615Z
UID:70640-1664825400-1664830800@historico.ateneovalencia.es
SUMMARY:Tardes de LiterAteneo III: Adolfo Bellido. El Cine. Imágenes de una Vida
DESCRIPTION:Tercera edición de este nuevo ciclo de literatura que arrancó el pasado mes de abril en el Ateneo Mercantil de Valencia. El próximo lunes\, 3 de octubre\, en el Salón Sorolla\, llega un nuevo encuentro entre los amantes de la literatura con el Ciclo Tardes de LiterAteneo\, que es una apuesta por traer a los mejores escritores y escritoras para tratar de conocer mejor no sólo sus obras literarias\, sino también a las personas que hay detrás. En esta tercera sesión llega "Adolfo Bellido. El Cine. Imágenes de una Vida". El presentador será Antonio Mayor y los coordinadores del ciclo son Vicente Bosch y Vicente Barberá. \nEl cine se ha convertido en algo tan presente en la vida de los ciudadanos de este final de siglo que\, prácticamente\, toda la población\, independientemente de su origen\, sexo\, lugar de nacimiento y clase social\, se ha convertido en consumidora asidua de este medio de comunicación. Ahora bien\, su simple consumo no está vinculado\, como nos indica Adolfo Bellido\, con el conocimiento de su lenguaje y sus códigos. Es necesario "aprender a ver cine" y en este sentido nos contará sus interesantes experiencias de sus años de estudio y pasión hacia el séptimo arte. \nEnlace para la conferencia Online: https://fb.me/e/2dhEFvf6A\nCurriculum de Adolfo Bellido López\nNace en Salamanca en 1940. Licenciado en la Facultad de Químicas de la Universidad de Salamanca. \nEn SALAMANCA: Responsable del cine club ADEMAR -antiguos alumnos Maristas- (60-62). Subdirector del cine fórum Studio (61-63)\, director del cineclub universitario de Salamanca (64-68). Cómo crítico: sección de cine de la revista ADEMAR; artículos en diversas revistas universitarias de Salamanca y en periódicos locales; programa mensual de radio (63-65; 67-68) en la COPE\, director de la revista mensual del cineclub Universitario \nEn MADRID. Trabajo en la Federación Nacional de Cineclub (66-68). Crítico de cine en la revista especializada CINESTUDIO y en. Jurado\, en representación de los cineclubs. En el festival de cine de Valladolid. CINESTUDIO. Profesor interino en el instituto de Ciudad Rodrigo (68-71). Cineclubs: creación en dos cinesclubs escolares\, uno para bachillerato elementas y otro para superior y Preu. Dirección de varias obras de teatro en el citado instituto. \nEn VALENCIA: Profesor de física y química y dirección del cineclub COUL en la UNIVERSIDAD LABORAL DE CHESTE (1971-1986)\, creación de talleres de realización de películas en super 8. Nacimiento en 1980 de la revista\, en papel ENCADENADOS. Publicará 27 números en total\, participación en programas matutinos sobre cine en radio intercontinental y\, junto a mi hijo Adolfo\, en un programa semanal de cine en Radio Manises; organización de seminarios\, semanas y jornadas de cine. Puesta en marcha en PUZOL de una escuela de cine (enseñanza y realización de películas en super 8) para el alumnado de octavo de EGB (1982-1986). En 1986 pasa a los recién creados centros de Formación del Profesorado (CEP) como asesor en medios audiovisuales (1986-1998) coordinando la elaboración\, con otros CEP de la comunidad la elaboración de un proyecto sobre estudios\, para centros no universitarios\, de unas asignaturas sobre comunicación Audiovisual. Director del equipo de preparación de materiales didácticos sobre medio audiovisuales; talleres; clases\, realización de vídeos didácticos. Coordinador de sesiones de cine para escolares en la Filmoteca: Cofundador del festival de cinema Jove\, del que se dedicará a llevar en principio en solitario\, luego con Ángel San Martín\, catedrático de la Facultad de Filosofía y Ciencias de la Educación de la UV\, la sección escolar del festival (1986-1998); Profesor asociado de la Faculta de Ciencias de la Comunicación de la UV (1997-2000). Escribe diversos artículos para revistas de cine (Nickeoldeon) y Medios de Comunicación. En 1998 se retoma el proyecto de la revista de cine ENCADENADOS\, pero en formato online: www.encadenados.org. de la que seré director hasta 2020. Parte del consejo de redacción está formado por antiguos alumnos de Cheste. Ha escrito o coordinado escritos didácticos para trabajar en clase sobre medios audiovisuales: Autor de diversos libros\, estudios de cine como los dedicados al cine de Budd Boetticher\, al de Basilio Martín Patino y un exhaustivo análisis del filme de Billy Wilder\, El crepúsculo de los dioses. A través de los Premios Tirant del Diario Levante se le organiza en 2006 un homenaje por toda la labor de su dedicación al cine en la Comunidad Valenciana. Actualmente forma parte de la junta directiva de la Asociación Amigos de la Nau Gran donde lleva un taller de cine\, un cineclub y programa los viajes que mensualmente lleva a cabo la asociación. \nCartel:
URL:https://historico.ateneovalencia.es/evento/tardes-de-literateneo-iii-adolfo-bellido-el-cine-imagenes-de-una-vida/
LOCATION:Salón Sorolla - Ateneo Mercantil de Valencia\, Plaza del Ayuntamiento 18\, Valencia\, Valencia\, 46002\, España
CATEGORIES:Tardes de LiterAteneo
ATTACH;FMTTYPE=image/jpeg:https://historico.ateneovalencia.es/wp-content/uploads/2022/07/20221003-LiterAteneo-III-Adolfo-Bellido.jpg
END:VEVENT
BEGIN:VEVENT
DTSTART;TZID=Europe/Madrid:20221007T193000
DTEND;TZID=Europe/Madrid:20221007T210000
DTSTAMP:20260421T211749
CREATED:20220916T091650Z
LAST-MODIFIED:20220916T092750Z
UID:71142-1665171000-1665176400@historico.ateneovalencia.es
SUMMARY:XIX Campaña de conciertos de intercambios 2022: Agrupación Coral Jesús-María y Coral Grupo Mayores Telefónica Valencia
DESCRIPTION:Llega hasta nuestra institución la XIX Campaña de conciertos de intercambio 2022 el próximo viernes 7 de octubre a las 19.30 horas en el Salón de Actos del Ateneo Mercantil de Valencia. Un concierto que organiza la Agrupación Coral Jesús-María y que contará con una coral invitada para la ocasión que es la del Grupo Mayores Teléfonica Valencia. Entrada gratuita hasta completar el aforo del teatro. \nLa Federación de Sociedades Musicales de la Comunidad Valenciana (FSMCV)\, la Federación de Coros de la Comunidad Valenciana (FECOCOVA)\, la Federación de Folclore de la Comunidad Valenciana (FFCV)\, la Federación Valenciana de Dolçainers i Tabaleters (FVDiT) y la Federación de Orquestas y Rondallas de Pulso y Púa de la Comunidad Valenciana (FORPPCV) son las organizaciones que que coordinan la XIX Campaña de Conciertos de Intercambios 2022. Además\, de contar con el Institut Valencià de Cultura. \nLa campaña de Conciertos de Intercambios 2022 tiene como objeto la realización de actuaciones musicales de intercambio por entidades sin ánimo de lucro pertenecientes a la FSMCV\, FECOCOVA\, FFCV\, FVDiT y FORPPCV dentro del ámbito territorial de la Comunitat Valenciana. Con el objetivo de promocionar musical y culturalmente a asociaciones que forman las citadas federaciones\, el fomento del asociacionismo musical\, así como la programación de actuaciones musicales en directo en la Comunidad Valenciana. \nTras las dos últimas ediciones marcadas por la situación sanitaria\, en la XIX campaña de Conciertos de Intercambios 2022 se recupera el Intercambio Musical entre las entidades participantes. Por ello\, cada participación en la campaña supondrá la organización de un concierto\, por parte de la entidad solicitante\, en el que también participe otra de las entidades. \nCartel:\n \n 
URL:https://historico.ateneovalencia.es/evento/xix-campana-de-conciertos-de-intercambios-2022/
LOCATION:Teatro Ateneo
CATEGORIES:Conciertos Domingos
ATTACH;FMTTYPE=image/jpeg:https://historico.ateneovalencia.es/wp-content/uploads/2022/09/20221007-Concierto-Corales-Octubre-2022.jpg
END:VEVENT
BEGIN:VEVENT
DTSTART;TZID=Europe/Madrid:20221012T183000
DTEND;TZID=Europe/Madrid:20221012T210000
DTSTAMP:20260421T211749
CREATED:20220725T103412Z
LAST-MODIFIED:20220909T084139Z
UID:70893-1665599400-1665608400@historico.ateneovalencia.es
SUMMARY:Gala Lírica "Paseo por España"
DESCRIPTION:La compañía valenciana “Tiempo de Zarzuela” les presenta la GALA LÍRICA “PASEO POR ESPAÑA”. \nUna Antología con un formato completo\, cuidando todos los ingredientes de la Zarzuela: orquesta\, ballet\, cantantes\, actriz … Un paseo musical por España a través de la Zarzuela; los fragmentos más apreciados por el público de toda la vida y también poder contar con nuevos públicos\, a que conozcan nuestro género lírico. \n“Paseo por España” con una estética actual donde a través de la música poder hacer un recorrido con las principales romanzas\, intermedios y dúos de nuestro GÉNERO LÍRICO por excelencia: LA ZARZUELA. “La Patria Chica” de R. Chapí\, “Canta al Trovador” de la Canción del Olvido\, “Canto a Murcia” de la Parranda ó “El Trust de los Tenorios” de J. Serrano\, son algunos de los fragmentos que podrás escuchar. \nUn viaje de sentimientos y pasiones por toda la geografía española guiados por la actriz María Jordán\, que entrelaza sus textos con la música y dotará de ritmo a toda la Antología. \nEl elenco está formado por la soprano Raquel Roig\, el tenor Vicente Ombuena y el barítono Javier Galán. El espectáculo estará acompañado con la gran calidad de los profesores de la orquesta y ballet de la compañía “Tiempo de Zarzuela”\, al frente el maestro valenciano Ximo Romero\, alma máter del proyecto. \nCon el mejor formato y la máxima calidad; qué mejor día que el 12 de Octubre para hacer un “Paseo por España” en el Ateneo Mercantil de Valencia. \nDescuento 10% a socios del Ateneo Mercantil de Valencia\, en taquilla\, sobre el precio de las entradas.\n\nPincha aquí para comprar las entradas online\nCartel:
URL:https://historico.ateneovalencia.es/evento/gala-lirica-paseo-por-espana/
LOCATION:Teatro Ateneo
CATEGORIES:Conciertos y Recitales
ATTACH;FMTTYPE=image/jpeg:https://historico.ateneovalencia.es/wp-content/uploads/2022/07/20221012-Gala-Lirica-Paseo-por-España-1.jpg
ORGANIZER;CN="Tiempo%20de%20Zarzuela":MAILTO:tiempo.zarzuela@gmail.com
END:VEVENT
BEGIN:VEVENT
DTSTART;TZID=Europe/Madrid:20221016T113000
DTEND;TZID=Europe/Madrid:20221016T130000
DTSTAMP:20260421T211749
CREATED:20221010T115851Z
LAST-MODIFIED:20221010T115852Z
UID:71405-1665919800-1665925200@historico.ateneovalencia.es
SUMMARY:La Associació d'Estudis del Cant Valencià celebra el 'Dia del Cant Valencià 2022' en el Ateneo Mercantil
DESCRIPTION:El diumenge 16 d’octubre\, a la sala d’actes de l’Ateneo Mercantil de València\, tindrà lloc la celebració del Dia del Cant Valencià que l’AECV organitza cada any prop de la data de naiximent del gran cantador d’estil alcoià Evaristo (1874-1951)\, sistematitzador de l’anomenat cant requintat i mestre de dos generacions de grans cantadors d’estil. \n\nL’acte\, de lliure entrada\, començarà a les 11:30 hores i inclourà també el nomenament d’Associats d’Honor 2022. Comptarà ab la participació de cantadors i cantadores d’estil de l’AECV tant jóvens com veterans\, versadors\, músics de corda i vent\, dolçainer i tabaleter\, i balladors de valencianes. El programa de mà\, que inclou tota la informació de l’acte en detall. \nEl Cant Valencià i l’AECV\nEl Cant Valencià està constituït pel cant d’estil i per les albaes i és\, junt al cante jondo o flamenco d’Andalusia\, la jota parada o de estilo d’Aragó i la tonada asturiana o asturianada\, una de les quatre principals tradicions monòdiques expressives de transmissió oral d’Espanya integrades en la societat contemporània a partir d’orígens rurals o marginals urbans. Els intèrprets del Cant Valencià són els cantadors d’estil\, dels quals ens són conegudes cinc generacions artístiques des de mitjan s. XIX. \nEl Cant Valencià\, senya de la identitat valenciana des de la Renaixença\, va viure històricament el seu màxim esplendor en les cantaes i en els escenaris en temps de la Restauració Borbònica (1874-1931) i Segona República (1931-1939)\, alcançant projecció estatal i internacional mitjançant els espectacles dels quadros de balls i cants populars. Ara enfronta el seu futur en el s. XXI. \nL’AECV és una associació sense ànim de lucre que fomenta la investigació\, l’ensenyament i la divulgació del nostre cant per excel•lència\, organitzant no sols el Dia del Cant Valencià\, sinó també cantaes\, recitals i cicles de conferències\, traent a la llum publicacions\, i desenrotllant un projecte educatiu als conservatoris professionals de música. L’AECV vol convidar des d’ací al Poble Valencià a participar de la nostra celebració el diumenge 18 d’octubre. \nMés informació sobre l’AECV en: www.aecv.info \n\nCartel:
URL:https://historico.ateneovalencia.es/evento/la-associacio-destudis-del-cant-valencia-celebra-el-dia-del-cant-valencia-2022-en-el-ateneo-mercantil/
LOCATION:Teatro Ateneo
CATEGORIES:Conciertos Domingos
ATTACH;FMTTYPE=image/jpeg:https://historico.ateneovalencia.es/wp-content/uploads/2022/10/20221016-Cant-Valencia-2022.jpg
END:VEVENT
BEGIN:VEVENT
DTSTART;TZID=Europe/Madrid:20221025T190000
DTEND;TZID=Europe/Madrid:20221025T203000
DTSTAMP:20260421T211749
CREATED:20221024T100738Z
LAST-MODIFIED:20221024T100738Z
UID:71525-1666724400-1666729800@historico.ateneovalencia.es
SUMMARY:Aula de Poesía II - Apertura del curso 2022-2023
DESCRIPTION:El Aula de Poesía II del Ateneo Mercantil ha programado para el martes 25 de octubre a las 19 horas en el Salón Sorolla un nuevo encuentro poético en el que diversos componentes del aula recitarán y compartirán sus poemas con los asistentes. El acto servirá para formalizar la apertura del curso 2022-2023. \nCartel:\n \n 
URL:https://historico.ateneovalencia.es/evento/aula-de-poesia-ii-apertura-del-curso-2022-2023/
LOCATION:Salón Sorolla - Ateneo Mercantil de Valencia\, Plaza del Ayuntamiento 18\, Valencia\, Valencia\, 46002\, España
CATEGORIES:Aula de Poesía
ATTACH;FMTTYPE=image/jpeg:https://historico.ateneovalencia.es/wp-content/uploads/2022/10/20221025-Aula-de-Poesia-II-1.jpg
END:VEVENT
BEGIN:VEVENT
DTSTART;TZID=Europe/Madrid:20221029T193000
DTEND;TZID=Europe/Madrid:20221029T213000
DTSTAMP:20260421T211749
CREATED:20221025T082445Z
LAST-MODIFIED:20221026T075642Z
UID:71543-1667071800-1667079000@historico.ateneovalencia.es
SUMMARY:El Festival de tango 'Tangavión 2022' llega al Ateneo Mercantil de Valencia
DESCRIPTION:El próximo sábado 29 de octubre a las 19.30 horas llega al Salón Sorolla del Ateneo Mercantil de Valencia el TANGAVIÓN 2022\, un Festival de Tango creado en Valencia\, que cumple su octava edición y para su celebración nos trae un cartel de artistas de primerísimo nivel: Las voces de Juan Villarreal y Analía Carril\, la guitarra de Raúl Kiokio y el bandoneón de Marcelo Mercadante nos harán amar aún más a esta hermosa música. \nDefinitivamente\, el Tangavión es el festival más original\, sin duda\, de todos aquellos que se programan en España dedicado al tango. Ya sólo nos queda bailar y disfrutar.  \nEl precio de la entrada es de 8 euros.\n\nSi quieres asistir\, envía un whatsapp con tu nombre y apellidos para reservar tu entrada al teléfono 639.43.02.01\nCartel:
URL:https://historico.ateneovalencia.es/evento/el-festival-de-tango-tangavion-2022-llega-al-ateneo-mercantil-de-valencia/
LOCATION:Salón Sorolla - Ateneo Mercantil de Valencia\, Plaza del Ayuntamiento 18\, Valencia\, Valencia\, 46002\, España
CATEGORIES:Conciertos Domingos
ATTACH;FMTTYPE=image/jpeg:https://historico.ateneovalencia.es/wp-content/uploads/2022/10/20221029-Festival-Tango-Tangavion-2022.jpg
END:VEVENT
BEGIN:VEVENT
DTSTART;TZID=Europe/Madrid:20221030T113000
DTEND;TZID=Europe/Madrid:20221030T130000
DTSTAMP:20260421T211749
CREATED:20221019T114957Z
LAST-MODIFIED:20221021T112052Z
UID:71494-1667129400-1667134800@historico.ateneovalencia.es
SUMMARY:Música en el Ateneo: Recital de Piano de Héctor Bataller Carmona y Ferran López Carrasquer | Piezas de Mozart y Schumann
DESCRIPTION:El segundo concierto de la nueva temporada de Música en el Ateneo llega este próximo domingo 30 de octubre de 2022 a las 11.30 horas al Salón de Actos de nuestra institución. Un recital de piano que cuenta con la colaboración del Conservatorio Superior de Música "Joaquín Rodrigo" y del Instituto Superior de Enseñanzas Artísticas de la Comunitat Valenciana ISEACV y que traerá hasta el Ateneo a dos jóvenes valencianos virtuosos del piano como son Héctor Bataller Carmona y Ferran López Carrasquer. \nEl primero interpretará la Sonata para Piano en do mayor\, K. 330\, una sonata para piano compuesta por Mozart compuesta en 1783\, probablemente en Viena o Salzburgo\, mientras que el segundo\, hará lo propio con una pieza de Robert Schumann\, Carnaval\, Op. 9. Schumann la escribió entre 1834 y 1835 y es una pieza dedicada al violinista Karol Lipiński. \nPrograma:\nSONATA DO M KV 330 W.A. MOZART \nPor Héctor Bataller Carmona\nPobla de Vallbona\, 2003. Actualmente estudia el Grado Superior de Música en el Conservatorio Superior de Música “Joaquín Rodrigo” de Valencia con el catedrático D. Eugenio Marrades. Realizó los Estudios Profesionales de Piano en el Conservatorio Profesional Municipal de Música de Ribarroja del Turia bajo la tutela de Clara Cabrera\, recibiendo Premio Extraordinario Autonómico a la Excelencia\, además\, también consiguió Primer Premio en el IV Concurso de Interpretación Pianística “Jóvenes Valores Valencianos”. Durante sus estudios ha recibido clases magistrales de Rafael Salinas\, Anna Jastrzebska\, Misha Dacic\, Josu de Solaun\, Vera Nosina\, Carles Marín\, entre otros. \nCARNAVAL 0p. 9 R. SCHUMANN \nPor Ferran López Carrasquer \nValencia\, 2003. Recibe clase desde sus inicios del pianista y concertista internacional Josu de Solaun Soto. Merecedor de primer premio de concursos internacionales en Londres\, París\, Viena\, Salzburgo y Nueva York\, actuando en Wiener Saal y Solitar Saal de Salzburgo\, Royal Albert Hall de Londres\, Philarmonie de París\, Glassener Saal del Musikverein en Viena y Weill Hall del Carnagie Hall de Nueva York\, entre otras. Fue galardonado en 2021 con el Premio Autonómico de Música en la especialidad de piano. Estudia las disciplinas de Armonía\, Contrapunto y Composición con el compositor y profesor D. Salvador Chulià Hernández y con el profesor y director de orquesta Vicente Chulià Ramiro. Actualmente estudia Grado Superior en el Conservatorio Superior “Joaquín Rodrigo” de Valencia con el pianista y catedrático D. Eugenio Marrades. \nCartel:
URL:https://historico.ateneovalencia.es/evento/musica-en-el-ateneo-recital-de-piano-de-hector-bataller-carmona-y-ferran-lopez-carrasquer-piezas-de-mozart-y-schumann/
LOCATION:Teatro Ateneo
CATEGORIES:Conciertos Domingos
ATTACH;FMTTYPE=image/jpeg:https://historico.ateneovalencia.es/wp-content/uploads/2022/10/20221030-CONCIERTO-RECITAL-PIANO.jpg
END:VEVENT
END:VCALENDAR