BEGIN:VCALENDAR
VERSION:2.0
PRODID:-//Ateneo Mercantil de Valencia - ECPv6.0.4//NONSGML v1.0//EN
CALSCALE:GREGORIAN
METHOD:PUBLISH
X-WR-CALNAME:Ateneo Mercantil de Valencia
X-ORIGINAL-URL:https://historico.ateneovalencia.es
X-WR-CALDESC:Eventos para Ateneo Mercantil de Valencia
REFRESH-INTERVAL;VALUE=DURATION:PT1H
X-Robots-Tag:noindex
X-PUBLISHED-TTL:PT1H
BEGIN:VTIMEZONE
TZID:Europe/Madrid
BEGIN:DAYLIGHT
TZOFFSETFROM:+0100
TZOFFSETTO:+0200
TZNAME:CEST
DTSTART:20220327T010000
END:DAYLIGHT
BEGIN:STANDARD
TZOFFSETFROM:+0200
TZOFFSETTO:+0100
TZNAME:CET
DTSTART:20221030T010000
END:STANDARD
END:VTIMEZONE
BEGIN:VEVENT
DTSTART;TZID=Europe/Madrid:20220404T190000
DTEND;TZID=Europe/Madrid:20220404T203000
DTSTAMP:20260424T051619
CREATED:20220314T135522Z
LAST-MODIFIED:20220330T112131Z
UID:68668-1649098800-1649104200@historico.ateneovalencia.es
SUMMARY:Tardes de LiterAteneo I: Rosa María Rodríguez Magda
DESCRIPTION:Un nuevo ciclo de literatura arranca en el Ateneo Mercantil el próximo lunes 4 de abril en el Salón Sorolla. Se trata de Tardes de LiterAteneo\, una apuesta por traer a los mejores escritores y escritoras para tratar de conocer mejor no sólo sus obras literarias\, sino también a las personas que hay detrás. Será un serial en el que lo más granado de los escritores pasaran por el Ateneo para tratar de conocer su lado más desconocido\, además\, de sus inquietudes literarias. \nEn la primera sesión llega Rosa María Rodríguez Magda. El presentador será Pascual Casañ y el coordinador del ciclo es Vicente Barberá. \nCurriculum:\nFilósofa y escritora\, especialista en pensamiento contemporáneo y feminismo. En 1989 acuñó el término “Transmodernidad”\, desarrollando dicha teoría a lo largo de sus obras. Ha sido profesora invitada en diversas universidades: l’Université de Paris VIII-Vincennes à Saint-Denis\, Université Paris VII\, Université de Paris-Dauphine\, Universidad Autónoma de México\, Universidad de Puerto Rico Recinto de Río Piedras (Puerto Rico) y New York University\, etc. \nFue Presidenta de la Asociación Valenciana de Críticos Literarios\, desde 1994 hasta marzo de 1997. En 1996\, fue nombrada Directora Cultural de la Fundación Valencia Tercer Milenio – UNESCO\, desarrollando esta labor hasta la extinción de dicha fundación\, en diciembre de 2003. Fue asimismo Miembro del Consell Valencià de Cultura\, y durante diecisiete años\, entre 1998 y 2015\, ejerció el cargo de Directora del Aula de Pensamiento y de la revista “Debats” de la Institución Alfonso el Magnánimo. En 2009 fue nombrada Directora de la Casa Museo-Centro de Investigación Vicente Blasco Ibáñez\, cargo que desarrolló hasta el año 2017. \nPromotora y firmante de la “Declaración de Responsabilidades y Deberes Humanos” (Presentada ante la Asamblea General de la UNESCO). \nHa ejercido la crítica literaria y de opinión de forma habitual en el diario Las Provincias Valencia\, el diario Pueblo Madrid\, la Revista Ahora\, Madrid y El País\, edición de la Comunidad Valenciana. Colaborando también en múltiples revistas especializadas: Claves de la Razón Práctica\, Leer\, El viejo Topo\, Isegoria\, Veintiuno\, República de las Letras\, Cuadernos de pensamiento político\, Arte internacional (Colombia)\, Lateral\, Asparkía\, Interlitteraria (Estonia)\, Plural (Puerto Rico)... (Con más de trescientos artículos publicados). \nActualmente es colaboradora de El País y de Levante EMV\, al tiempo que desarrolla una amplia labor en la gestión cultural como organizadora de\, y participante en\, múltiples Congresos internacionales\, encuentros universitarios\, exposiciones artísticas\, actividades en colaboración con la UNESCO... con la participación de las más renombradas personalidades mundiales de la cultura. \nEntre su extensa obra\, parte de la cual ha sido traducida al inglés\, francés\, italiano\, alemán\, checo y estonio\, destacan: \n\nDiscurso/Poder\, Madrid\, EDE col. Teoría y práctica\, 1984\, (Ensayo).\nLa seducción de la diferencia\, Valencia\, ed. Victor Orenga\, 1987\, (Ensayo).\nEn alguna casa junto al mar\, Valencia\, ed. Victor Orenga\,1987. (Narrativa). Segunda edición: Valencia\, editorial Palmart\, 2002.\nLa sonrisa de Saturno. Hacia una teoría transmoderna\, Barcelona\, ed. Anthropos\, 1989 (Ensayo). ​\nTríptico\, Madrid\, ed. Endymion\, 1992. (Narrativa).\nFemenino fin de siglo. La seducción de la diferencia(reedición corregida y aumentada de: La seducción de la diferencia)\, Barcelona\, ed. Anthropos\, 1994.\nLas palabras perdidas\, Madrid\, Huerga & Fierro\, 1997\, (Aforismos).\nEl modelo Frankenstein. De la diferencia a la cultura post (Premio. Juan Gil Albert de Ensayo 1996)\, Madrid\, ed. Tecnos\, 1997.\nFoucault y la genealogía de los sexos\, Barcelona\, ed. Anthropos\, 1999\, (Ensayo).\nEl deseo y la mirada\, Valencia\, ed. Palmart\, 2003\, (Poesía).\nTransmodernidad\, Barcelona\, ed. Anthropos\, 2004\, (Ensayo).\nLa España convertida al islam\, Barcelona\, Áltera\, 2006\, (Ensayo).\nInexistente Al Andalus. De cómo los intelectuales reinventan el Islam\, (Premio Internacional de Ensayo Jovellanos 2008) Oviedo\, Nobel\, 2008.\nRazón digital y vacío\, Valencia\, Alfons el Magnànim\, 2010\, (Ensayo).\nDe playas y espectros. Ensayo sobre pensamiento contemporáneo\, Valencia\, Pre-textos\, 2017\, (Ensayo).\nLa mujer molesta. Feminismos postgénero y transidentidad sexual\, Madrid\, Ménades\, 2019\, (Ensayo).\n\nAlgunos de sus premios literarios son: Juan Gil Albert de ensayo (1996)\, De la Crítica Valenciana\, (1999)\, Premio Internacional de Ensayo Jovellanos (2008) y el premio Celia Amorós de ensayo (2019). \nCartel:
URL:https://historico.ateneovalencia.es/evento/tardes-de-literateneo-i-rosa-maria-rodriguez-magda/
LOCATION:Salón Sorolla - Ateneo Mercantil de Valencia\, Plaza del Ayuntamiento 18\, Valencia\, Valencia\, 46002\, España
CATEGORIES:Tardes de LiterAteneo
ATTACH;FMTTYPE=image/jpeg:https://historico.ateneovalencia.es/wp-content/uploads/2022/03/20220404-LiterAteneo-1.jpg
END:VEVENT
END:VCALENDAR