BEGIN:VCALENDAR
VERSION:2.0
PRODID:-//Ateneo Mercantil de Valencia - ECPv6.0.4//NONSGML v1.0//EN
CALSCALE:GREGORIAN
METHOD:PUBLISH
X-WR-CALNAME:Ateneo Mercantil de Valencia
X-ORIGINAL-URL:https://historico.ateneovalencia.es
X-WR-CALDESC:Eventos para Ateneo Mercantil de Valencia
REFRESH-INTERVAL;VALUE=DURATION:PT1H
X-Robots-Tag:noindex
X-PUBLISHED-TTL:PT1H
BEGIN:VTIMEZONE
TZID:Europe/Madrid
BEGIN:DAYLIGHT
TZOFFSETFROM:+0100
TZOFFSETTO:+0200
TZNAME:CEST
DTSTART:20220327T010000
END:DAYLIGHT
BEGIN:STANDARD
TZOFFSETFROM:+0200
TZOFFSETTO:+0100
TZNAME:CET
DTSTART:20221030T010000
END:STANDARD
END:VTIMEZONE
BEGIN:VEVENT
DTSTART;TZID=Europe/Madrid:20220102T120000
DTEND;TZID=Europe/Madrid:20220102T140000
DTSTAMP:20260424T123857
CREATED:20211110T095839Z
LAST-MODIFIED:20211219T080230Z
UID:65703-1641124800-1641132000@historico.ateneovalencia.es
SUMMARY:Gran Concierto de Año Nuevo de Valencia: siente Viena en el Ateneo Mercantil y revive la magia de Johann Strauss
DESCRIPTION:El Ateneo Mercantil de Valencia ha logrado nuevamente que el tradicional Gran Concierto de Año Nuevo de Valencia llegue hasta nuestro Salón de Actos el próximo domingo 2 de enero de 2022 a las 12 horas. El mejor concierto estas Navidades vendrá de nuevo al centro de Valencia\, a la Plaza del Ayuntamiento. Un evento que contará con la prestigiosa Orquesta Sinfónica del Mediterráneo dirigida por Juan Antonio Ramírez que ofrecerá un concierto único con un repertorio innovador\, en el que habrá baile clásico y varias sorpresas que iremos desvelando poco a poco. \nSiente Viena en el Ateneo Mercantil de Valencia y revive la magia de Johann Strauss como nunca antes. No hay mejor regalo para estas Navidades que el mejor concierto de música clásica en esta fechas tan señaladas en Valencia. \nAdemás\, como novedad este año\, y para crear una experiencia todavía más exclusiva\, como se hace en Viena tras el concierto de Año Nuevo\, puedes completar la oferta con la comida en el Restaurante del Ateneo\, en la que podrás seguir disfrutando de la magia del momento. Se han creado dos tipos de entradas (con comida y sin comida). Las entradas con comida son limitadas.  \nEn el cartel puede consultar el Menú que se ha preparado expresamente para los espectadores del concierto.\n\nLa Orquesta Sinfónica del Mediterráneo es una de las mejores sinfónicas de la Comunitat Valenciana\, con un gran director y unos músicos de enorme prestigio en el mundo de la música. Disfruta de esta orquesta formada por los mejores músicos de la Comunidad Valenciana y que poseen una gran experiencia profesional\, tanto\, que lograron maravillar al público asistente en los anteriores conciertos de Navidad. \nEl Ateneo Mercantil de Valencia ha implementado todas las medidas necesarias para garantizar una visita cómoda y segura: desinfección\, control de aforo\, uso obligatorio de mascarilla y recorrido en sentido único para evitar el cruce de visitantes. \nVenta de entradas en taquillas del Ateneo Mercantil y en el siguiente enlace:\nPincha aquí para comprar las entradas\nTarifas Concierto\n\n\n\nTipo de Entrada\nSin Comida\nCon Comida\n\n\n- Platea Derecha Filas 2-6\n- Platea Derecha Filas 7-10\n- Platea Izquierda Filas 2-6\n- Platea Izquierda Filas 7-10\n- Anfiteatro Central Filas 1-5\n- Anfiteatro Central Filas 6-11\n- Anfiteatros Laterales\n- Palcos\n- Platea Salón Stolz Filas 1-2\n- Platea Salón Stolz Filas 3-9\n- Platea Salón Stolz Filas 10-15\n- Platea Sala Expo. Filas 1-2\n- Platea Sala Expo. Filas 3-8\n- Platea Sala Expo. Filas 9-10\n59 €\n55 €\n59 €\n55 €\n49 €\n45 €\n49 €\n75 €\n49 €\n29 €\n20 €\n49 €\n29 €\n20 €\n99 €\n95 €\n99 €\n95 €\n89 €\n85 €\n89 €\n115 €\n89 €\n69 €\n60 €\n89 €\n69 €\n60 €\n\n\n\nCartel
URL:https://historico.ateneovalencia.es/evento/gran-concierto-de-ano-nuevo-de-valencia-siente-viena-en-el-ateneo-mercantil-y-revive-la-magia-de-johann-strauss/
LOCATION:Teatro Ateneo
CATEGORIES:Conciertos Domingos
ATTACH;FMTTYPE=image/jpeg:https://historico.ateneovalencia.es/wp-content/uploads/2021/11/20220102-Concierto-de-Anyo-Nuevo.jpg
END:VEVENT
BEGIN:VEVENT
DTSTART;TZID=Europe/Madrid:20220124T190000
DTEND;TZID=Europe/Madrid:20220124T203000
DTSTAMP:20260424T123857
CREATED:20211221T094630Z
LAST-MODIFIED:20220114T132652Z
UID:66319-1643050800-1643056200@historico.ateneovalencia.es
SUMMARY:Poetas en el Ateneo XL: Antonio Mayor Sánchez
DESCRIPTION:Regresa Poetas en el Ateneo el próximo lunes 24 de enero a las 19 horas en el Salón Sorolla con el poeta salmantino y afincado en Valencia\, Antonio Mayor Sánchez. Es el cuadragésimo encuentro que se realiza con los mejores poetas a nivel nacional e internacional en nuestra institución. Un recital en el que se leerán poemas del autor y en el que se conocerá de cerca la vida del poeta gracias a la entrevista que el coordinador del ciclo\, Vicente Barberá\, le realizará junto al visionado de fotografías de su vida. \nAntonio Mayor Sánchez\nAntonio Mayor (Salamanca\, 1940). Estudió Filología Románica en Salamanca. Amplía estudios en París y Londres. Publica sus primeros poemas y dibujos en diversas revistas literarias de Salamanca\, León\, Valladolid y Madrid (El Gallo\, Mas\, Álamo\, Claraboya\, etc.). Es doctor en Filología por la Universidad Complutense de Madrid. Fue Jefe de Estudios de la Universidad Laboral de Cheste (Valencia)\, Rector de la Universidad Laboral de Las Palmas de Gran Canaria\, Jefe de las Misiones de Cooperación Técnica de España en Costa Rica\, profesor de Didáctica del Español en la UNED de Costa Rica y experto en Formación del Profesorado en Centroamérica y Colombia. \nA su regreso a España en los años 80\, se incorpora a la Escuela de Magisterio de Cheste como jefe del Dpto. de Lengua y Literatura Españolas. Fue catedrático y jefe del Dpto. de Castellano del IES Luis Vives de Valencia\, donde se jubila en septiembre de 2011. Desde el año 2008 pertenece al grupo de poetas "El Limonero de Homero" con tertulia semanal en el Ateneo Mercantil de Valencia. Publica sus poemas en la antología anual del mismo nombre. Obtiene algunos premios y menciones como finalista en diversos certámenes literarios. En 2012 gana el primer premio de poesía del 54 certamen de poesía "Fiesta de la primavera" de la agrupación "Amigos de la poesía" y del Ayuntamiento de Valencia. Finalista del premio de poesía "Juan Calderón Matador" en 2012 y 2013. Premio Gerardo Diego de Poesía 2013. \nCartel:\n \n 
URL:https://historico.ateneovalencia.es/evento/poetas-en-el-ateneo-xl-antonio-mayor-sanchez/
LOCATION:Salón Sorolla - Ateneo Mercantil de Valencia\, Plaza del Ayuntamiento 18\, Valencia\, Valencia\, 46002\, España
CATEGORIES:Poetas en el Ateneo
ATTACH;FMTTYPE=image/jpeg:https://historico.ateneovalencia.es/wp-content/uploads/2021/12/20220124-Poetas-en-el-Ateneo-Antonio-Mayor.jpg
END:VEVENT
BEGIN:VEVENT
DTSTART;TZID=Europe/Madrid:20220125T190000
DTEND;TZID=Europe/Madrid:20220125T203000
DTSTAMP:20260424T123857
CREATED:20220121T121333Z
LAST-MODIFIED:20220121T121335Z
UID:66669-1643137200-1643142600@historico.ateneovalencia.es
SUMMARY:Aula de Poesía II: "El poeta en su voz"
DESCRIPTION:El Aula de Poesía II del Ateneo Mercantil ha programado para el martes 25 de enero a las 19 horas en el Salón Sorolla un nuevo encuentro poético en el que diversos componentes del aula recitarán y compartirán sus poemas con los asistentes. El acto llega bajo el título: "El poeta y su voz". \nCartel:
URL:https://historico.ateneovalencia.es/evento/aula-de-poesia-ii-el-poeta-en-su-voz/
LOCATION:Salón Sorolla - Ateneo Mercantil de Valencia\, Plaza del Ayuntamiento 18\, Valencia\, Valencia\, 46002\, España
CATEGORIES:Aula de Poesía
ATTACH;FMTTYPE=image/jpeg:https://historico.ateneovalencia.es/wp-content/uploads/2022/01/20220125-Aula-de-Poesia-II.jpg
END:VEVENT
END:VCALENDAR