BEGIN:VCALENDAR
VERSION:2.0
PRODID:-//Ateneo Mercantil de Valencia - ECPv6.0.4//NONSGML v1.0//EN
CALSCALE:GREGORIAN
METHOD:PUBLISH
X-ORIGINAL-URL:https://historico.ateneovalencia.es
X-WR-CALDESC:Eventos para Ateneo Mercantil de Valencia
REFRESH-INTERVAL;VALUE=DURATION:PT1H
X-Robots-Tag:noindex
X-PUBLISHED-TTL:PT1H
BEGIN:VTIMEZONE
TZID:Europe/Madrid
BEGIN:DAYLIGHT
TZOFFSETFROM:+0100
TZOFFSETTO:+0200
TZNAME:CEST
DTSTART:20210328T010000
END:DAYLIGHT
BEGIN:STANDARD
TZOFFSETFROM:+0200
TZOFFSETTO:+0100
TZNAME:CET
DTSTART:20211031T010000
END:STANDARD
END:VTIMEZONE
BEGIN:VEVENT
DTSTART;TZID=Europe/Madrid:20211010T120000
DTEND;TZID=Europe/Madrid:20211010T180000
DTSTAMP:20260424T231011
CREATED:20210907T110523Z
LAST-MODIFIED:20211004T103226Z
UID:64853-1633867200-1633888800@historico.ateneovalencia.es
SUMMARY:Concierto-Antología "Tiempo de Zarzuela" (dos sesiones)
DESCRIPTION:La compañía valenciana "Tiempo de Zarzuela" presenta en el Salón de Actos del Ateneo Mercantil de Valencia (Plaza del Ayuntamiento\, 18 de Valencia) su espectáculo "Nuestra Zarzuela". Una antología con un formato completo\, cuidando todos los ingredientes de la Zarzuela: orquesta\, cantantes\, escena\, baile\, teatro… Una selección musical de los fragmentos más apreciados por el público de toda la vida y también poder atraer a nuevos públicos\, a que conozcan nuestro género lírico. \n"Nuestra Zarzuela" con una estética actual donde la música y una cuidada escena se unen\, para hacer un recorrido con las principales romanzas\, intermedios y dúos de nuestro Género Lírico por excelencia: La Zarzuela. "No puede ser" de la Tabernera del Puerto\, "Marinela" de la Canción del Olvido\, "Mi Aldea" de Los Gavilanes o "La Leyenda del Beso"\, son algunos de los fragmentos que podrás escuchar. \nUn viaje de sentimientos y pasiones con una duración de 75 minutos sin descanso. \nEl elenco está formado por la soprano Raquel Roig\, el tenor José Antonio Navarro\, el barítono Javier Landete y el actor Miquel Mateu que será nuestro maestro de ceremonias y mostrará la dramaturgia de sus textos\, que entrelazarán con la música y dotarán de ritmo a toda la Antología. \nEl espectáculo estará acompañado con la gran calidad de los profesores de la orquesta y cuerpo de baile de la compañía "Tiempo de Zarzuela"\, al frente el maestro valenciano Ximo Romero\, alma máter del proyecto. \nCon el mejor formato y la máxima calidad. Colabora con la Cultura y disfruta de "Nuestra Zarzuela" en el Ateneo Mercantil de Valencia el próximo domingo 10 de Octubre en dos sesiones\, una matinal (12.00 horas) y otra vespetina (18.00 horas).\nVenta anticipada en historico.ateneovalencia.es y en www.tiempodezarzuela.es\nCartel:
URL:https://historico.ateneovalencia.es/evento/concierto-antologia-tiempo-de-zarzuela/
LOCATION:Teatro Ateneo
CATEGORIES:Conciertos Domingos
ATTACH;FMTTYPE=image/jpeg:https://historico.ateneovalencia.es/wp-content/uploads/2021/09/20211010-Concierto-Zarzuela.jpg
END:VEVENT
BEGIN:VEVENT
DTSTART;TZID=Europe/Madrid:20211015T190000
DTEND;TZID=Europe/Madrid:20211015T203000
DTSTAMP:20260424T231011
CREATED:20210903T100222Z
LAST-MODIFIED:20210903T100222Z
UID:64736-1634324400-1634329800@historico.ateneovalencia.es
SUMMARY:Poetas en el Ateneo XXXVIII: Ramón Bascuñana
DESCRIPTION:Nueva reunión del Ciclo Poetas en el Ateneo que contará con la presencia del poeta alicantino Ramón Bascuñana. Así el próximo viernes 15 de octubre a las 19 horas en el Salón Stolz se celebrará la XXXVIII reunión de poetas en nuestra casa. El poeta será entrevistado por el coordinador del ciclo\, Vicente Barberá. \nCurriculum de Ramón Bascuñana\nAlicante\, 1963. Licenciado en Geografía e Historia. Entre otros premios de poesía\, ha sido galardonado con el Premio Nacional Miguel Hernández [1997]\, el Paco Molla [1998]\, el Esperanza Spinola [2001]\, el Hispanoamericano Juan Ramón Jiménez [2002]\,  el Julio Tovar [2003]\, el Mariano Roldán [2004]\, el Flor de Jara [2006]\, el Marina Romero [2006]\, el Juan Bernier [2013] y el Fernando de Herrera [2014]. El Ernestina de Champourcin [2015]\, el Ciudad de las Palmas [2015]\, Poeta Mario López [2017]\, Gerardo Diego y Diputación Santander [2018]. \nEn narrativa ha obtenido también diversos premios. Entre otros: el de Cuentos Alfonso Martínez Mena\,  el Gerald Brenan\, el Premio La Felguera de relatos o el VIII Premio de Artículos Periodísticos Luis García Berlanga. \nTiene publicados los siguientes poemarios: Hasta ya no más nunca [1999]; Quedan las palabras [2000]; Tal vez como si nunca [2001]; Los días del tiempo [2002]; Liturgia de la profanación [2002]; Retrato de poeta con familia al fondo [2003]; Ángel de luz caído [2005]; Vera Efigies [2005]; Las avenidas de la muerte [2005]\, Impostura [2006]; La piel del alma [2006]; Donde nunca ya nadie [2008]; El gesto del escriba  [Antología] [2009]; El centro de la sombra [2014]  Cincuenta por ciento [2014]\, El humo de los versos [2016]\, Desnuda luz de la melancolía [2016]\, Cuaderno de preposiciones [2017] y los libros de relatos “Lectores compulsivos” [ 2011\, Editorial Aguaclara]. y “Todas las familias infelices” [2019\, Ediciones Chamán]. \nCartel:
URL:https://historico.ateneovalencia.es/evento/poetas-en-el-ateneo-xxxviii-ramon-bascunana/
LOCATION:Salón Stolz - Ateneo Mercantil de Valencia\, Plaza del Ayuntamiento\, 18\, Valencia\, España\, Valencia\, Valencia\, 46002\, España
CATEGORIES:Poetas en el Ateneo
ATTACH;FMTTYPE=image/jpeg:https://historico.ateneovalencia.es/wp-content/uploads/2021/09/20211015-Poetas-en-el-Ateneo-XXXVIII-Ramon-Bascuñana.jpg
END:VEVENT
BEGIN:VEVENT
DTSTART;TZID=Europe/Madrid:20211030T190000
DTEND;TZID=Europe/Madrid:20211030T210000
DTSTAMP:20260424T231011
CREATED:20211005T113915Z
LAST-MODIFIED:20211005T114146Z
UID:65130-1635620400-1635627600@historico.ateneovalencia.es
SUMMARY:Espectáculo de Flamenco "Caminos flamencos por senderos de copla”
DESCRIPTION:El Ateneo Mercantil de Valencia ha organizado un concierto-espectáculo de flamenco de la mano de la Compañía Flamenco Valencia cuyos directores Manuel Serena y Manuela Morales han programado un un trabajo que nace del sentir de las raíces populares. Así\, el próximo sábado 30 de octubre a las 19 horas en el Salón de Actos podrán disfrutar de este nuevo montaje de danza "Caminos Flamencos por senderos de Copla"\, que ha cautivado al público valenciano.  \nVenta de entradas: https://entradas.ateneovalencia.es/espectaculo/3/concierto-caminos-flamencos-por-senderos-de-copla.html\nAmbos géneros son los pilares en los que Manuel Serena y Manuela Morales se inspiran para darle forma a un espectáculo sin precedentes. A través del baile flamenco se rinde homenaje a las coplas más conocidas del panorama musical de este país junto a los palos flamencos como Soleares\, Alegrías\, Bulerías\, etc. Se funden con el género español haciendo muestra de la identidad cultural de nuestro país. El baile\, la guitarra\, la percusión\, el saxofón y las voces flamencas ofrecen al espectador una puesta en escena elegante e íntima que no dejará a nadie indiferente. \nCompañía Flamenco Valencia está formada por los directores: Manuela Morales y Manuel Serena\, además de\, Paco Costa (guitarrista y director musical)\, Rafael Vargas (cantaor)\, Lidia Reyes (cantaora)\, Javier Forner (saxofonista) y Sergio Martínez (percusionista). \nCartel:
URL:https://historico.ateneovalencia.es/evento/espectaculo-de-flamenco-caminos-flamencos-por-senderos-de-copla/
LOCATION:Teatro Ateneo
CATEGORIES:Conciertos Domingos
ATTACH;FMTTYPE=image/jpeg:https://historico.ateneovalencia.es/wp-content/uploads/2021/10/20211030-Concierto-de-Flamenco.jpg
END:VEVENT
END:VCALENDAR