BEGIN:VCALENDAR
VERSION:2.0
PRODID:-//Ateneo Mercantil de Valencia - ECPv6.0.4//NONSGML v1.0//EN
CALSCALE:GREGORIAN
METHOD:PUBLISH
X-WR-CALNAME:Ateneo Mercantil de Valencia
X-ORIGINAL-URL:https://historico.ateneovalencia.es
X-WR-CALDESC:Eventos para Ateneo Mercantil de Valencia
REFRESH-INTERVAL;VALUE=DURATION:PT1H
X-Robots-Tag:noindex
X-PUBLISHED-TTL:PT1H
BEGIN:VTIMEZONE
TZID:Europe/Madrid
BEGIN:DAYLIGHT
TZOFFSETFROM:+0100
TZOFFSETTO:+0200
TZNAME:CEST
DTSTART:20210328T010000
END:DAYLIGHT
BEGIN:STANDARD
TZOFFSETFROM:+0200
TZOFFSETTO:+0100
TZNAME:CET
DTSTART:20211031T010000
END:STANDARD
END:VTIMEZONE
BEGIN:VEVENT
DTSTART;TZID=Europe/Madrid:20210509T113000
DTEND;TZID=Europe/Madrid:20210509T133000
DTSTAMP:20260425T135456
CREATED:20210421T122015Z
LAST-MODIFIED:20210421T122316Z
UID:63470-1620559800-1620567000@historico.ateneovalencia.es
SUMMARY:Concierto de los Domingos: Concierto de Piano de Ferran López-Carrasquer
DESCRIPTION:El próximo domingo 9 de mayo a las 11.30 horas en el Salón de Actos del Ateneo Mercantil llega un nuevo concierto a nuestra institución con el Concierto de Piano de Ferran López-Carrasquer bajo el título "PROMENADE". El joven pianista suecano ofrecerá un concierto\, con entrada libre\, en el que interpretará obras de J. S. Bach\, F. Schubert\, J. Brahms\, Salvador Chulià\, F. Chopin y R. Schumann. Este joven músico valenciano tiene 17 años\, pero es uno de los mejores del panorama nacional e internacional pianístico. \nCurrículum\nFerran López-Carrasquer nace en Valencia en 2003\, iniciando sus estudios de piano a los 8 años. Realiza el 6º curso de Grado Profesional en el Conservatorio Rafael Talens de Cullera\, con el profesor y pianista D. Pedro Grau. Paralelamente\, desde la edad de 12 años\, recibe de forma regular masterclasses del pianista y concertista internacional D. Josu de Solaun Soto. Asimismo\, forma parte de la academia de alto rendimiento "MUSICAL ARTS" (Madrid). \nEs uno de los escasos jóvenes pianistas\, seleccionados para formar parte del estudio del profesor y pedagogo D. Josu de Solaun Soto. Premiado en  diferentes certámenes nacionales (D.Juan de Borbón\, Segovia\, Concurso Internacional de Sigüenza\, Concurso Internacional de Jávea\, entre otros) ha sido merecedor de primer premio en concursos  internacionales en Londres\, París\, Viena\, Salburgo y Nueva York\,  lo que le ha permitido actuar en salas como Wiener Saal y Solitar Saal de Salzburgo\, Royal Albert Hall de Londres\, Philarmonie de Paris\, Glassener Saal del Musikverein en Viena y Weill Hall del Carnagie Hall de Nueva York\, en Noviembre de 2019. \nIgualmente\, ha sido uno de los 15 jóvenes pianistas\, seleccionados por el profesor Andreas Weber de la prestigiosa Universidad Mozarteum de Salzburgo para participar como alumno activo (en 2018\, 2019 y 2020)\, en el curso para jóvenes talentos "Young Excellence Intensive course\, for highly talented young pianists". Para dicho curso\, fueron seleccionados tan solo 15 pianistas procedentes de Australia\, Alemania\, Austria\, EEUU\, Canadá\, Turquía\, China\, Corea y Japón\, siendo Ferran\, el único representante español. \nComo ganador del concurso "Jóvenes Talentos Musicales a Escena" en 2019 y en 2021\, actuó en el concierto celebrado en el Palau de les Arts Reina Sofía de Valencia. Fue uno de los 10 pianistas seleccionados\, para llevar a cabo el "Concierto a 10 pianos"\, (Valencia\, septiembre de 2020)\, en el contexto del "Festival Internacional de Piano Valencia Iturbi"\, destinado a conmemorar el 125 aniversario del pianista José Iturbi\, \nHa llevado a cabo diversos cursos de perfeccionamiento\, interpretación y técnica pianística\, con maestros como D. Josep María Colom\, Dña Olga Valiente\, Dña Anna Petrova\, D. Misha Dacic y D. Andreas Weber de la Universidad Mozarteum de Salzburgo. Desde los 9 años\, desarrolla también actividad como compositor. En este sentido\, estrenó\, durante un concierto en el Ateneo Mercantil de Valencia en 2018\, su ”Sonata para piano op.1” (con 4 movimientos) y\, en la sala Solitar Saal de la Universidad Mozarteum de Salburgo\, en Agosto de 2019\, sus "Variaciones sobre un tema de Robert Schumann"\, con gran éxito de audiencia. Estudia las disciplinas de Armonía\, Contrapunto y Composición\, con el compositor y profesor valenciano\, D. Salvador Chulià Hernández y con el profesor y director de orquesta Vicente Chulià Ramiro. \nPrograma\nPARTE I \n\nPreludio y fuga\, BWV 848.................. JOHANN SEBASTIAN BACH (1865-1750)\nSonata nº 4 en La menor\, D.537........ FRANZ SCHUBERT (1797-1828)\nRapsodia op.79 nº2............................ JOHANNES BRAHMS (1833-1897)\nEpisodis Pianístics.............................. SALVADOR CHULIÀ (1944)\nBarcarola op.60.................................. FRÉDÉRIC CHOPIN (1810-1849)\n\nPARTE II \n\nGran Sonata nº3 op.14 (1853)............ ROBERT SCHUMANN (1810-1856)\n\nCartel:
URL:https://historico.ateneovalencia.es/evento/concierto-de-los-domingos-concierto-de-piano-de-ferran-lopez-carrasquer/
LOCATION:Teatro Ateneo
CATEGORIES:Conciertos Domingos
ATTACH;FMTTYPE=image/jpeg:https://historico.ateneovalencia.es/wp-content/uploads/2021/04/20210509-Concierto-Domingo-Ferran-Lopez.jpg
END:VEVENT
BEGIN:VEVENT
DTSTART;TZID=Europe/Madrid:20210516T113000
DTEND;TZID=Europe/Madrid:20210516T133000
DTSTAMP:20260425T135456
CREATED:20210506T111346Z
LAST-MODIFIED:20210506T114302Z
UID:63857-1621164600-1621171800@historico.ateneovalencia.es
SUMMARY:Concierto Especial-100 de Piano de Juan Pablo Gavilanes Almeida para socios y acompañantes
DESCRIPTION:El Ciclo de Conciertos del Domingos llegan a su concierto 100 en la nueva época que dirige D. Luis Balairon y se ha programado un concierto especial de piano que traerá hasta Valencia\, al pianista de clase mundial\, D. Juan Pablo Gavilanes Almeida. Así el próximo domingo 16 de mayo a las 11.30 horas en el Salón de Actos del Ateneo Mercantil\, los socios y acompañantes ateneístas tienen una cita muy especial con la música pianística\, ya que este concertista es el máximo referente pianístico latinoamericano de su generación. El concierto es gratuito y de entrada libre hasta completar el aforo del teatro. \nPrograma:\nFelix Mendelssohn (1809-1847) \nLieder Ohne Worte (Canciones Sin Palabras) \n\nop. 19 b:VI "Gondola Veneziana"\nop. 30 b:I\nop. 30 b:III\nop. 67 b:II\n\nClaude Debussy (1862-1918) \nPréludes \n\nOndine\nFeux d’artifice\n\nAlexander Scriabin (1872-1915) \n\nPreludio op. 16\, No. 4\nEstudio op. 42\, No. 5\n\nFrederic Chopin (1810-1849) \n\nNocturno op. 55\, No. 1\, en Fa Menor.\nScherzo op. 20\, en Si Menor.\n\nCurriculum:\nJuan Pablo Gavilanes Almeida es un concertista de piano\, escritor y pedagogo ecuatoriano. Reconocido por la crítica especializada como un pianista de talla mundial\, ha interpretado en público obras capitales de la literatura pianística como la Integral de los Preludios de Debussy y las Cuatro Baladas de Chopin\, entre otras. \nProviene de una familia de músicos\, compositores\, escritores y académicos que se extiende a cuatro generaciones\, iniciándose en la música de la mano de su padre\, el Doctor Luis Gavilanes del Castillo. \nComo pianista\, solista y músico de cámara\, se ha presentado con diversas orquestas\, en festivales internacionales y en prestigiosos auditorios de Ecuador\, Argentina\, Portugal\, España\, Italia\, Francia\, Suiza\, entre otros. \nLas interpretaciones de Juan Pablo se caracterizan por la profundidad de su visión estética\, alejadas de toda superficialidad técnica y enfocadas en la fenomenología del sonido. \nVivió durante doce años en Buenos Aires-Argentina\, siete de los cuales estudió con el prestigioso pedagogo y pianista ítalo-argentino Aldo Antognazzi -discípulo directo del gran Arturo Benedetti Michelangeli- en la Universidad Nacional de las Artes y\, además\, culminando una Licenciatura en Música de Cámara por la Universidad Nacional de Lanús\, con el violinista Rafael Gintoli. \nDesde el 2018 desarrolla una intensa actividad concertística y pedagógica en Europa. \nEn el 2019 recibió la Licenciatura en Artes Musicales y Sonoras\, título obtenido gracias a un exhaustivo proceso de validación de su trayectoria artística\, pedagógica y profesional\, en la Universidad de los Hemisferios. \nAsimismo\, realizó estudios de Máster en Investigación Musicológica para la Universidad Internacional de Valencia (VIU)\, España\, escribiendo y publicando sobre la espiritualidad en la obra de Claude Debussy\, la estética de la interpretación musical y la pedagogía del piano. \nEn la actualidad cursa el Máster en Interpretación Musical en la Universidad Internacional de Valencia (VIU)\, España\, con Francisco Escoda Patrón (España) y Eugen Indjic (Francia-USA); y\, ha sido admitido para realizar sus estudios de Doctorado Europeo (Phd) en España e Italia\, bajo la guía del Doctor Salvatore Bartolotta\, Director del Departamento de Filología y Lenguajes de la UNED de Madrid\, donde realizará su reflexión teórica enfocada a las Artes Pictóricas y Cine Italianos. \nJuan Pablo tiene el nombramiento honorífico de Representante Oficial y Gestor Cultural del Estado\, por el Ministerio de Relaciones Exteriores y el de Cultura y Patrimonio del Ecuador. Su actual gira de conciertos y masterclass ha sido reconocida de Alto Interés por el Consulado y el Ministerio de Asuntos Exteriores Español. \nCartel:\n \n 
URL:https://historico.ateneovalencia.es/evento/concierto-especial-100-de-piano-de-juan-pablo-gavilanes-almeida-para-socios-y-acompanantes/
LOCATION:Teatro Ateneo
CATEGORIES:Conciertos Domingos
ATTACH;FMTTYPE=image/jpeg:https://historico.ateneovalencia.es/wp-content/uploads/2021/05/20210516-Concierto-Juan-Pablo-Gavilanes.jpg
END:VEVENT
BEGIN:VEVENT
DTSTART;TZID=Europe/Madrid:20210516T190000
DTEND;TZID=Europe/Madrid:20210516T210000
DTSTAMP:20260425T135456
CREATED:20210506T112511Z
LAST-MODIFIED:20210506T112557Z
UID:63860-1621191600-1621198800@historico.ateneovalencia.es
SUMMARY:Concierto Especial-100 de Piano de Juan Pablo Gavilanes Almeida abierto al público
DESCRIPTION:El Ciclo de Conciertos del Domingos llegan a su concierto 100 en la nueva época que dirige D. Luis Balairon y se ha programado un concierto especial de piano que traerá hasta Valencia\, al pianista de clase mundial\, D. Juan Pablo Gavilanes Almeida. Así el próximo domingo 16 de mayo a las 19 horas en el Salón de Actos del Ateneo Mercantil\, el público valenciano tienen una cita muy especial con la música pianística\, ya que este concertista es el máximo referente pianístico latinoamericano de su generación. La entrada es gratuita y libre hasta completar el aforo del teatro. Un concierto que\, además\, se emitirá en directo por la plataforma Zoom. \nEnlace para el concierto Online: https://zoom.us/j/96592221501\nPrograma:\nFelix Mendelssohn (1809-1847) \nLieder Ohne Worte (Canciones Sin Palabras) \n\nop. 19 b:VI "Gondola Veneziana"\nop. 30 b:I\nop. 30 b:III\nop. 67 b:II\n\nClaude Debussy (1862-1918) \nPréludes \n\nOndine\nFeux d’artifice\n\nAlexander Scriabin (1872-1915) \n\nPreludio op. 16\, No. 4\nEstudio op. 42\, No. 5\n\nFrederic Chopin (1810-1849) \n\nNocturno op. 55\, No. 1\, en Fa Menor.\nScherzo op. 20\, en Si Menor.\n\nCurriculum:\nJuan Pablo Gavilanes Almeida es un concertista de piano\, escritor y pedagogo ecuatoriano. Reconocido por la crítica especializada como un pianista de talla mundial\, ha interpretado en público obras capitales de la literatura pianística como la Integral de los Preludios de Debussy y las Cuatro Baladas de Chopin\, entre otras. \nProviene de una familia de músicos\, compositores\, escritores y académicos que se extiende a cuatro generaciones\, iniciándose en la música de la mano de su padre\, el Doctor Luis Gavilanes del Castillo. \nComo pianista\, solista y músico de cámara\, se ha presentado con diversas orquestas\, en festivales internacionales y en prestigiosos auditorios de Ecuador\, Argentina\, Portugal\, España\, Italia\, Francia\, Suiza\, entre otros. \nLas interpretaciones de Juan Pablo se caracterizan por la profundidad de su visión estética\, alejadas de toda superficialidad técnica y enfocadas en la fenomenología del sonido. \nVivió durante doce años en Buenos Aires-Argentina\, siete de los cuales estudió con el prestigioso pedagogo y pianista ítalo-argentino Aldo Antognazzi -discípulo directo del gran Arturo Benedetti Michelangeli- en la Universidad Nacional de las Artes y\, además\, culminando una Licenciatura en Música de Cámara por la Universidad Nacional de Lanús\, con el violinista Rafael Gintoli. \nDesde el 2018 desarrolla una intensa actividad concertística y pedagógica en Europa. \nEn el 2019 recibió la Licenciatura en Artes Musicales y Sonoras\, título obtenido gracias a un exhaustivo proceso de validación de su trayectoria artística\, pedagógica y profesional\, en la Universidad de los Hemisferios. \nAsimismo\, realizó estudios de Máster en Investigación Musicológica para la Universidad Internacional de Valencia (VIU)\, España\, escribiendo y publicando sobre la espiritualidad en la obra de Claude Debussy\, la estética de la interpretación musical y la pedagogía del piano. \nEn la actualidad cursa el Máster en Interpretación Musical en la Universidad Internacional de Valencia (VIU)\, España\, con Francisco Escoda Patrón (España) y Eugen Indjic (Francia-USA); y\, ha sido admitido para realizar sus estudios de Doctorado Europeo (Phd) en España e Italia\, bajo la guía del Doctor Salvatore Bartolotta\, Director del Departamento de Filología y Lenguajes de la UNED de Madrid\, donde realizará su reflexión teórica enfocada a las Artes Pictóricas y Cine Italianos. \nJuan Pablo tiene el nombramiento honorífico de Representante Oficial y Gestor Cultural del Estado\, por el Ministerio de Relaciones Exteriores y el de Cultura y Patrimonio del Ecuador. Su actual gira de conciertos y masterclass ha sido reconocida de Alto Interés por el Consulado y el Ministerio de Asuntos Exteriores Español. \nCartel:
URL:https://historico.ateneovalencia.es/evento/concierto-especial-100-de-piano-de-juan-pablo-gavilanes-almeida-abierto-al-publico/
LOCATION:Teatro Ateneo
CATEGORIES:Conciertos Domingos
ATTACH;FMTTYPE=image/jpeg:https://historico.ateneovalencia.es/wp-content/uploads/2021/05/20210516-Concierto-Juan-Pablo-Gavilanes.jpg
END:VEVENT
BEGIN:VEVENT
DTSTART;TZID=Europe/Madrid:20210520T190000
DTEND;TZID=Europe/Madrid:20210520T203000
DTSTAMP:20260425T135456
CREATED:20210421T104943Z
LAST-MODIFIED:20210421T105134Z
UID:63459-1621537200-1621542600@historico.ateneovalencia.es
SUMMARY:Poetas en el Ateneo 36: Elga Reátegui
DESCRIPTION:El Ciclo de Poetas en el Ateneo regresa el próximo jueves 20 de mayo a las 19 horas en el Salón Stolz del Ateneo Mercantil con una nueva reunión\, la trigésimo sexta\, que traerá hasta nuestra institución a la escritora\, poeta y periodista\, Elga Reátegui Zumaeta. Un acto que está coordinado y presentado por el poeta Vicente Barbera. \nEnlace para la Conferencia Online: https://zoom.us/j/91551515274\n\nCurrículum:\nNació en Lima. Reside en Valencia. Estudió Ciencias de la Comunicación en la Universidad Inca Garcilaso de la Vega y se licenció en Periodismo en la Universidad Jaime Bausate y Meza de la capital peruana. En 2010 obtiene la homologación de su título universitario (Licenciada en Periodismo) por la Dirección General de Política Universitaria-Ministerio de Educación de España.\nEjerció su profesión en diversos medios de comunicación (El Popular\, La República\, Expreso\, Gestión\, Stereo 33-Canal 13\, América Televisión\, entre otros) e incursionó en el mundo de la literatura con el poemario Ventana Opuesta (1993)\, al cual le siguieron Entre dos polos (1994)\, Alas de acero (2001)\, Etérea (2004)\, En mi piel (2005). Asimismo\, junto al escritor y decimista\, Pedro Rivarola publicó los epistolarios Correo de Locumba (2002) y Violación de correspondencia (2003)\, además\, de la plaqueta de poesía Madera y fuego y el CD Abrazados (2003). \nEn 2007 publicó su primera novela de título El santo cura. En 2011 publicó su segunda novela De ternura y sexo. Es autora también del poemario de título En mi piel que es una recopilación de sus anteriores publicaciones\, y de las novelas A este lado y al otro (ADD 2015) e Y te diste la media vuelta (ADD 2016). \nDos programas de índole literario-cultural: VíaLibros\, un microespacio literario donde informa sobre el contenido de novedades editoriales\, y Reunidos\, un espacio de entrevistas breves. Antes produjo y condujo Momentos\, un programa de entrevistas\, y tuvo a su cargo un blog literario con su nombre\, orientado también a la difusión literaria y artística. \nEn octubre de 2012\, visitó Estados Unidos dando a conocer producción literaria nivel de bibliotecas y otros recintos culturales. En diciembre 2012\, participó con gran éxito en la Feria Internacional del Libro de Guadalajara (México)\, donde presentó su novela De ternura y sexo\, y volvió a presentarse en dicho evento en 2016\, con su obra A este lado y al otro\, que toca el tema de la inmigración desde una visión femenina. La versión al inglés de su poemario En mi piel se publicó en el mercado norteamericano bajo el título Body maps\, en 2014. \nA comienzos de 2015 estuvo en Nueva York promocionando su producción literaria en bibliotecas y centros culturales. Todavía se halla promocionando La fugacidad del color (Lastura 2018)\, su primer libro de relatos. Acaba de publicar el poemario El ecosistema de las hormigas (Lastura). En diciembre de 2019 sus obras La fugacidad del color y El ecosistema de las hormigas integraron la prestigiosa lista de los mejores libros del año que elabora el Dr. Ricardo González Vigil\, crítico literario y miembro de la Academia Peruana de la Lengua. \nEl pasado 12 de septiembre de 2020 obtuvo un Latino International Book Award (primer puesto) por su libro La fugacidad del color en la categoría Best Collection of Short Stories. El acto de realizó en Los Ángeles\, California. Es miembro de la Asociación escritores y críticos literarios de Valencia (Clave)\, la Asociación Concilyarte y la Comisión de Escritoras PEN Club Internacional del Perú. Está afiliada a la Unión de Periodistas Valencianos y la Federación de Asociaciones de Periodistas de España (FAPE). \nProducción literaria:\nNovelas: El Santo Cura (Ed. España\, 2007- Ed. Perú\, 2009); De ternura y sexo (2011); A este lado y al otro (2015); Y te diste la media vuelta (2016). \nRelatos: La fugacidad del color (2018); El ecosistema de las hormigas (2019). \nEpistolarios (con el decimista y poeta Pedro Rivarola): Correo de Locumba; Violación de correspondencia. \nCD poético (con Pedro Rivarola): Abrazados. \nPlaqueta poética (con Pedro Rivarola): Madera y fuego. \nObra inédita: Siete novelas listas para su publicación; además de un libro de poemas y libro de cuentos para niños. \nCartel:\n \n 
URL:https://historico.ateneovalencia.es/evento/poetas-en-el-ateneo-36-elga-reategui/
LOCATION:Salón Stolz - Ateneo Mercantil de Valencia\, Plaza del Ayuntamiento\, 18\, Valencia\, España\, Valencia\, Valencia\, 46002\, España
CATEGORIES:Poetas en el Ateneo
ATTACH;FMTTYPE=image/jpeg:https://historico.ateneovalencia.es/wp-content/uploads/2021/04/20210520-Poetas-en-el-Ateneo-36-Elga-Reategui.jpg
END:VEVENT
END:VCALENDAR