BEGIN:VCALENDAR
VERSION:2.0
PRODID:-//Ateneo Mercantil de Valencia - ECPv6.0.4//NONSGML v1.0//EN
CALSCALE:GREGORIAN
METHOD:PUBLISH
X-ORIGINAL-URL:https://historico.ateneovalencia.es
X-WR-CALDESC:Eventos para Ateneo Mercantil de Valencia
REFRESH-INTERVAL;VALUE=DURATION:PT1H
X-Robots-Tag:noindex
X-PUBLISHED-TTL:PT1H
BEGIN:VTIMEZONE
TZID:Europe/Madrid
BEGIN:DAYLIGHT
TZOFFSETFROM:+0100
TZOFFSETTO:+0200
TZNAME:CEST
DTSTART:20200329T010000
END:DAYLIGHT
BEGIN:STANDARD
TZOFFSETFROM:+0200
TZOFFSETTO:+0100
TZNAME:CET
DTSTART:20201025T010000
END:STANDARD
END:VTIMEZONE
BEGIN:VEVENT
DTSTART;TZID=Europe/Madrid:20201219T180000
DTEND;TZID=Europe/Madrid:20201219T193000
DTSTAMP:20260426T050436
CREATED:20201127T120325Z
LAST-MODIFIED:20201130T090751Z
UID:61048-1608400800-1608406200@historico.ateneovalencia.es
SUMMARY:Recital Narrativo y piano de Bécquer: "La leyenda de Maese Pérez el organista"
DESCRIPTION:Este mes de diciembre del 2020 se cumplen 150 años del fallecimiento de Gustavo Adolfo Bécquer\, uno de los escritores más populares del siglo XX español. Bécquer es algo más que otro escritor español\, es el ejemplo ideal del Romanticismo\, el Lord Byron español\, un poeta que todo el mundo conoce. \nEl Ateneo Mercantil de Valencia Para celebrar su aniversario realizará un recital narrativo y de piano el próximo sábado 19 de diciembre a las 18 horas en el Salón de Actos del Ateneo Mercantil\, en el que se ensalzarán sus rimas con "La leyenda de Maese Pérez el organista". La socia ateneísta Dña. Pía Sevillano será la encargada de la narración\, mientras que D. Arturo Barba Sevillano estará a los mandos del piano. \nEn el Convento de Santa Inés existía\, en el siglo XVIII\, un organista llamado Maese Pérez. El hombre era un enamorado de su oficio\, y ensayaba constantemente nuevos sonidos en su instrumento. Todos recordarán aquella prodigiosa y legendaria Nochebuena en la que Maese Pérez hizo sonar su "ignota música del cielo" con "más misteriosa poesía"... \nCartel:
URL:https://historico.ateneovalencia.es/evento/recital-narrativo-piano-de-becquer-leyenda-de-maese-perez-el-organista/
LOCATION:Teatro Ateneo
CATEGORIES:Conciertos y Recitales
ATTACH;FMTTYPE=image/jpeg:https://historico.ateneovalencia.es/wp-content/uploads/2020/11/20201219-Recital-Narrativo-Piano-G.A.-BECQUER.jpg
END:VEVENT
END:VCALENDAR