BEGIN:VCALENDAR
VERSION:2.0
PRODID:-//Ateneo Mercantil de Valencia - ECPv6.0.4//NONSGML v1.0//EN
CALSCALE:GREGORIAN
METHOD:PUBLISH
X-WR-CALNAME:Ateneo Mercantil de Valencia
X-ORIGINAL-URL:https://historico.ateneovalencia.es
X-WR-CALDESC:Eventos para Ateneo Mercantil de Valencia
REFRESH-INTERVAL;VALUE=DURATION:PT1H
X-Robots-Tag:noindex
X-PUBLISHED-TTL:PT1H
BEGIN:VTIMEZONE
TZID:Europe/Madrid
BEGIN:DAYLIGHT
TZOFFSETFROM:+0100
TZOFFSETTO:+0200
TZNAME:CEST
DTSTART:20230326T010000
END:DAYLIGHT
BEGIN:STANDARD
TZOFFSETFROM:+0200
TZOFFSETTO:+0100
TZNAME:CET
DTSTART:20231029T010000
END:STANDARD
END:VTIMEZONE
BEGIN:VEVENT
DTSTART;TZID=Europe/Madrid:20230613T170000
DTEND;TZID=Europe/Madrid:20230614T200000
DTSTAMP:20260421T160415
CREATED:20230612T115220Z
LAST-MODIFIED:20230613T070804Z
UID:74495-1686675600-1686772800@historico.ateneovalencia.es
SUMMARY:Torneo de Bridge Open de Verano 2023
DESCRIPTION:Llega una nueva edición del Torneo de Bridge del Ateneo Mercantil Open Verano 2023. Un torneo habitual que se disputa en nuestra institución y que ha alcanzado una gran relevancia en la ciudad y siempre ha tenido una gran acogida entre los socios. \nEl campeonato se disputará en 2 jornadas en el Salón Noble: \n\nMartes 13 de Junio: 17:15 h. – 1ª Sesión\nMiércoles 14 de Junio: 16:45 h. – 2ª Sesión\n\nAl finalizar el torneo se procederá a la entrega de premios a las parejas ganadoras y se invitará a una copa.\nInscripciones: Jesús García Teléf: 646106943 | Precio: 24 €\nÁrbitro del torneo: Jesús García\, árbitro de Federación\nComida opcional\, el miércoles 14 de junio a las 14 horas\, precio 28 euros.\nPremios (calculados para 15 mesas):\n\n1º Ateneo 80€\n1º OPEN 80 €\n2º 70€\n3º 60€\nMedia de la sesión 50€\n15º 50€\nPenúltimo 50€\n20º 50€\n\nCartel:
URL:https://historico.ateneovalencia.es/evento/torneo-de-bridge-open-de-verano-2023/
LOCATION:Salón Noble - Ateneo Mercantil de Valencia\, Plaza del Ayuntamiento 18\, Valencia\, Valencia\, 46002\, España
CATEGORIES:Club de Bridge
ATTACH;FMTTYPE=image/jpeg:https://historico.ateneovalencia.es/wp-content/uploads/2023/06/20220606-Torneo-bridge-de-Verano-2022.jpg
END:VEVENT
END:VCALENDAR