BEGIN:VCALENDAR
VERSION:2.0
PRODID:-//Ateneo Mercantil de Valencia - ECPv6.0.4//NONSGML v1.0//EN
CALSCALE:GREGORIAN
METHOD:PUBLISH
X-ORIGINAL-URL:https://historico.ateneovalencia.es
X-WR-CALDESC:Eventos para Ateneo Mercantil de Valencia
REFRESH-INTERVAL;VALUE=DURATION:PT1H
X-Robots-Tag:noindex
X-PUBLISHED-TTL:PT1H
BEGIN:VTIMEZONE
TZID:Europe/Madrid
BEGIN:DAYLIGHT
TZOFFSETFROM:+0100
TZOFFSETTO:+0200
TZNAME:CEST
DTSTART:20220327T010000
END:DAYLIGHT
BEGIN:STANDARD
TZOFFSETFROM:+0200
TZOFFSETTO:+0100
TZNAME:CET
DTSTART:20221030T010000
END:STANDARD
END:VTIMEZONE
BEGIN:VEVENT
DTSTART;TZID=Europe/Madrid:20220302T170000
DTEND;TZID=Europe/Madrid:20220303T200000
DTSTAMP:20260424T102919
CREATED:20220211T132158Z
LAST-MODIFIED:20220211T132710Z
UID:67040-1646240400-1646337600@historico.ateneovalencia.es
SUMMARY:Torneo de Bridge Open Fallas 2022
DESCRIPTION:Llega una nueva edición del Torneo de Bridge de Fallas\, que este año 2022 será en modalidad Open. El torneo de Fallas ya es un campeonato habitual que se disputa en nuestra institución y que ha alcanzado una gran relevancia en la ciudad y siempre ha tenido una gran acogida entre los socios. \nEl campeonato se disputará en 2 jornadas: \n\nMiércoles 2 marzo: 17:00 h. – 1ª Sesión\nJueves 3 marzo: 16:45 h. – 2ª Sesión\n\nAl finalizar el torneo se procederá a la entrega de premios a las parejas ganadoras y se degustará un chocolate con buñuelos entre los participantes.\nInscripciones (por orden de alta): Jesús García Teléf: 646106943 | Precio: 20 € (Se abona en la Sala de Bridge)\nUso Obligatorio de Mascarilla y Acceso con Pasaporte Covid | Árbitro del torneo: Jesús García\, árbitro de Federación\nPremios (calculados para 13 mesas):\n\n1º 80€\n2º 70€\n3º 60€\nMedia de la sesión 50€\n10º 40€\n15º 40€\nPenúltimo 40€\n\nAl ser un torneo abierto a todos los federados\, la Delegada de la Levantina Amparo Soriano hará entrega de: \n3 premios de 60 € a las parejas: \n\n1ª clasificada de 1ª con los 2 jugadores federados.\n1ª clasificada de corazón con los dos jugadores federados.\n1ª clasificada de diamante con los dos jugadores federados.\n\nSegún el ranking publicado por la AEB. Para optar a los premios de federación\, mínimo 3 parejas por categoría. \nCartel:
URL:https://historico.ateneovalencia.es/evento/torneo-de-bridge-open-fallas-2022/
LOCATION:Sala Bridge - Ateneo Mercantil de Valencia\, Plaza del Ayuntamiento\, 18\, Valencia\, España\, Valencia\, Valencia\, 46002\, España
CATEGORIES:Club de Bridge
ATTACH;FMTTYPE=image/jpeg:https://historico.ateneovalencia.es/wp-content/uploads/2022/02/20191216-Bridge-Campeonato-Navidad-2019.jpg
END:VEVENT
END:VCALENDAR