BEGIN:VCALENDAR
VERSION:2.0
PRODID:-//Ateneo Mercantil de Valencia - ECPv6.0.4//NONSGML v1.0//EN
CALSCALE:GREGORIAN
METHOD:PUBLISH
X-WR-CALNAME:Ateneo Mercantil de Valencia
X-ORIGINAL-URL:https://historico.ateneovalencia.es
X-WR-CALDESC:Eventos para Ateneo Mercantil de Valencia
REFRESH-INTERVAL;VALUE=DURATION:PT1H
X-Robots-Tag:noindex
X-PUBLISHED-TTL:PT1H
BEGIN:VTIMEZONE
TZID:Europe/Madrid
BEGIN:DAYLIGHT
TZOFFSETFROM:+0100
TZOFFSETTO:+0200
TZNAME:CEST
DTSTART:20210328T010000
END:DAYLIGHT
BEGIN:STANDARD
TZOFFSETFROM:+0200
TZOFFSETTO:+0100
TZNAME:CET
DTSTART:20211031T010000
END:STANDARD
END:VTIMEZONE
BEGIN:VEVENT
DTSTART;TZID=Europe/Madrid:20211213T170000
DTEND;TZID=Europe/Madrid:20211214T210000
DTSTAMP:20260425T153526
CREATED:20211201T114514Z
LAST-MODIFIED:20211201T114523Z
UID:66061-1639414800-1639515600@historico.ateneovalencia.es
SUMMARY:Torneo de Bridge Open Navidad 2021
DESCRIPTION:El Club de Bridge del Ateneo Mercantil ha programado de nuevo el tradicional Torneo Open de Navidad 2021 para el lunes 13 y martes 14 de diciembre. La primera sesión arrancará a las 17.15 horas y la segunda sesión será a las 16.45 horas. Recordar que el torneo está estipulado para máximo 15 mesas\, por lo que la inscripción se hará en riguroso orden de alta. Para inscribirse se deberá abonar 20 euros y hay que dirigirse a Jesús García\, al teléfono 646106943 o en la propia Sala de Bridge (Sala de Exposiciones). Es imprescindible para el acceso al edificio presentar el Pasaporte Covid. \nLos premios del torneo serán los siguientes: \n\nPremios: 1º: 80€\, 2º: 70€\, 3º: 60€\, 1/2: 40€\, 13º:40€\, 15º:40€\, Penúltima: 40€\nPremios Asociación Levantina (sólo Federados): 1º Pica: 60€\, 1º Corazón: 60€\, 1º Diamante: 60€\n\nEn la ceremonia de entrega de Premios se servirá una copa de cava a todos los participantes. \nCartel:\n \n 
URL:https://historico.ateneovalencia.es/evento/torneo-de-bridge-open-navidad-2021/
LOCATION:Sala de Exposiciones - Ateneo Mercantil de Valencia\, Plaza del Ayuntamiento\, 18\, Valencia\, España\, Valencia\, Valencia\, 46002\, España
CATEGORIES:Club de Bridge
ATTACH;FMTTYPE=image/jpeg:https://historico.ateneovalencia.es/wp-content/uploads/2021/12/20191216-Bridge-Campeonato-Navidad-2019.jpg
END:VEVENT
END:VCALENDAR