BEGIN:VCALENDAR
VERSION:2.0
PRODID:-//Ateneo Mercantil de Valencia - ECPv6.0.4//NONSGML v1.0//EN
CALSCALE:GREGORIAN
METHOD:PUBLISH
X-ORIGINAL-URL:https://historico.ateneovalencia.es
X-WR-CALDESC:Eventos para Ateneo Mercantil de Valencia
REFRESH-INTERVAL;VALUE=DURATION:PT1H
X-Robots-Tag:noindex
X-PUBLISHED-TTL:PT1H
BEGIN:VTIMEZONE
TZID:Europe/Madrid
BEGIN:DAYLIGHT
TZOFFSETFROM:+0100
TZOFFSETTO:+0200
TZNAME:CEST
DTSTART:20180325T010000
END:DAYLIGHT
BEGIN:STANDARD
TZOFFSETFROM:+0200
TZOFFSETTO:+0100
TZNAME:CET
DTSTART:20181028T010000
END:STANDARD
END:VTIMEZONE
BEGIN:VEVENT
DTSTART;TZID=Europe/Madrid:20181218T180000
DTEND;TZID=Europe/Madrid:20181218T200000
DTSTAMP:20260425T132150
CREATED:20180918T101429Z
LAST-MODIFIED:20180918T101429Z
UID:38160-1545156000-1545163200@historico.ateneovalencia.es
SUMMARY:Intercambio de Libros en el Ateneo Mercantil
DESCRIPTION:Tras el verano regresa una de las actividades que mejor aceptación tuvo entre el socio el pasado curso\, el Intercambio de Libros. Continuamos\, como en meses anteriores\, con una actividad destinada para los amantes de la lectura. El tercer martes de cada mes de 18.00 a 20.00 horas en el Salón Noble\, se realiza el intercambio de libros que permite disfrutar de la lectura y ahorrar espacio en casa\, además\, de conseguir títulos nuevos sin gastar dinero. Recuerda que cada socio podrá dejar dos libros y llevarse dos\, sin obligación de custodia o devolución por ninguna de las partes (tanto del Ateneo como de los socios). \nHoy es el último día del año que se desarrollará la actividad de intercambio de libros\, hoy 18 de Diciembre. Volverá la actividad el próximo año 2019.
URL:https://historico.ateneovalencia.es/evento/intercambio-de-libros-en-el-ateneo-mercantil-3/
LOCATION:Salón Noble - Ateneo Mercantil de Valencia\, Plaza del Ayuntamiento 18\, Valencia\, Valencia\, 46002\, España
CATEGORIES:Club de Lectura
ATTACH;FMTTYPE=image/jpeg:https://historico.ateneovalencia.es/wp-content/uploads/2018/09/20180417-Intercambio-de-libros.jpg
END:VEVENT
END:VCALENDAR